Shooting information for this photo
Camera: | PENTAX K-50 |
Exposure: | 0.04 sec. (1/25) |
Aperture: | f/11.0 |
Focal Length: | 31.0 mm (35 mm equivalent: 46.0 mm) |
Flash: | Off, Did not fire |
Exposure mode: | Aperture-priority AE |
Resolution: | 72 x 72 dpi |
Dimension: | 979 x 1478 pixels |
Original Date: | 2016:05:14 14:29:31 |
Digitized Date: | 2016:05:14 14:29:31+10:00 |
Created on: | 2016:05:14 14:29:31 |
Modified on: | 2016:05:17 22:01:24 |
Software: | Adobe Photoshop Elements 6.0 Windows |
Copyright: | George Cook/"Tiabunna" |
Already Applied | True |
Artist | George_Cook |
Auto Lateral CA | 0 |
Blacks 2012 | -23 |
Blue Hue | 0 |
Blue Saturation | 0 |
Camera Profile | Adobe Standard |
Circle Of Confusion | 0.020 mm |
Clarity 2012 | +29 |
Color Mode | RGB |
Color Noise Reduction | 25 |
Color Noise Reduction Detail | 50 |
Color Space | sRGB |
Color Temperature | 4600 |
Contrast | Normal |
Contrast 2012 | -32 |
Convert To Grayscale | True |
Creator | George_Cook |
Custom Rendered | Normal |
Date Created | 2016:05:14 |
Exposure 2012 | 0.00 |
Exposure Compensation | 0 |
Exposure Mode | Auto |
Field Of View | 42.7 deg |
Flash Fired | False |
Flash Function | False |
Flash Mode | Off |
Flash Red Eye Mode | False |
Flash Return | No return detection |
Focal Length In 35mm Format | 46 mm |
Format | image/jpeg |
Grain Amount | 0 |
Gray Mixer Aqua | +66 |
Gray Mixer Blue | +32 |
Gray Mixer Green | +34 |
Gray Mixer Magenta | +66 |
Gray Mixer Orange | 0 |
Gray Mixer Purple | 0 |
Gray Mixer Red | 0 |
Gray Mixer Yellow | +68 |
Green Hue | 0 |
Green Saturation | 0 |
Has Crop | False |
Has Settings | True |
Highlights 2012 | 0 |
Hyperfocal Distance | 4.31 m |
ICC Profile Name | sRGB IEC61966-2.1 |
ISO | 100 |
Image Size | 979x1478 |
Lens | Sigma or Tamron Lens |
Lens ID | Sigma 17-70mm F2.8-4.5 DC Macro or Sigma 18-50mm F3.5-5.6 DC |
Lens Manual Distortion Amount | 0 |
Lens Model | Sigma or Tamron Lens |
Lens Profile Enable | 0 |
Lens Profile Setup | LensDefaults |
Light Value | 11.6 |
Luminance Smoothing | 0 |
Marked | True |
Metering Mode | Center-weighted average |
Parametric Darks | 0 |
Parametric Highlight Split | 75 |
Parametric Highlights | 0 |
Parametric Lights | 0 |
Parametric Midtone Split | 50 |
Parametric Shadow Split | 25 |
Parametric Shadows | 0 |
Perspective Horizontal | 0 |
Perspective Rotate | 0.0 |
Perspective Scale | 100 |
Perspective Vertical | 0 |
Post Crop Vignette Amount | +18 |
Post Crop Vignette Feather | 50 |
Post Crop Vignette Midpoint | 40 |
Post Crop Vignette Roundness | -30 |
Post Crop Vignette Style | 1 |
Process Version | 6.7 |
Red Hue | 0 |
Red Saturation | 0 |
Rights | George Cook/"Tiabunna" |
Saturation | Normal |
Scale Factor To 35 mm Equivalent | 1.5 |
Scene Capture Type | Standard |
Sensing Method | One-chip color area |
Shadow Tint | 0 |
Shadows 2012 | 0 |
Sharpen Detail | 25 |
Sharpen Edge Masking | 0 |
Sharpen Radius | +1.0 |
Sharpness | Normal |
Split Toning Balance | 0 |
Split Toning Highlight Hue | 52 |
Split Toning Highlight Saturation | 64 |
Split Toning Shadow Hue | 37 |
Split Toning Shadow Saturation | 22 |
Subject Distance Range | Distant |
Tint | +14 |
Tone Curve Name 2012 | Linear |
Tone Curve PV2012 | 0, 0, 255, 255 |
Tone Curve PV2012 Blue | 0, 0, 255, 255 |
Tone Curve PV2012 Green | 0, 0, 255, 255 |
Tone Curve PV2012 Red | 0, 0, 255, 255 |
Version | 7.4 |
Vignette Amount | 0 |
White Balance | Auto |
Whites 2012 | 0 |