Shooting information for this photo
Camera: | PENTAX K-30 |
Exposure: | 0.16667 sec. (1/6) |
Flash: | Off, Did not fire |
Exposure mode: | Manual |
Resolution: | 72 x 72 dpi |
Dimension: | 720 x 480 pixels |
Original Date: | 2013:02:01 22:00:32 |
Digitized Date: | 2013:02:01 22:00:32+11:00 |
Created on: | 2013:02:01 22:00:32 |
Modified on: | 2013:02:13 09:09:51 |
Software: | Adobe Photoshop Elements 6.0 Windows |
Copyright: | Copyright George Cook "Tiabunna" |
Already Applied | True |
Blue Hue | 0 |
Blue Saturation | 0 |
Brightness | +50 |
Camera Profile | Embedded |
Caption Writer | Scanned from Kodachrome slide |
Chromatic Aberration B | 0 |
Chromatic Aberration R | 0 |
Clarity | 33 |
Color Mode | RGB |
Color Noise Reduction | 25 |
Color Space | sRGB |
Color Temperature | 6200 |
Contrast | High |
Convert To Grayscale | False |
Crop Angle | 1.422749 |
Crop Bottom | 0.985375 |
Crop Height | 3 |
Crop Left | 0.065136 |
Crop Right | 0.937867 |
Crop Top | 0.058873 |
Crop Unit | Unknown (3) |
Crop Width | 2 |
Custom Rendered | Normal |
Defringe | 0 |
Exposure | +1.65 |
Exposure Compensation | 0 |
Exposure Mode | Manual |
Fill Light | 25 |
Flash Fired | False |
Flash Function | False |
Flash Mode | Off |
Flash Red Eye Mode | False |
Flash Return | No return detection |
Format | image/jpeg |
Green Hue | 0 |
Green Saturation | 0 |
Has Crop | True |
Has Settings | True |
Highlight Recovery | 0 |
Hue Adjustment Aqua | 0 |
Hue Adjustment Blue | 0 |
Hue Adjustment Green | 0 |
Hue Adjustment Magenta | 0 |
Hue Adjustment Orange | 0 |
Hue Adjustment Purple | 0 |
Hue Adjustment Red | 0 |
Hue Adjustment Yellow | 0 |
ICC Profile Name | sRGB IEC61966-2.1 |
ISO | 800 |
Image Size | 720x480 |
Luminance Adjustment Aqua | 0 |
Luminance Adjustment Blue | 0 |
Luminance Adjustment Green | 0 |
Luminance Adjustment Magenta | 0 |
Luminance Adjustment Orange | 0 |
Luminance Adjustment Purple | 0 |
Luminance Adjustment Red | 0 |
Luminance Adjustment Yellow | 0 |
Luminance Smoothing | 0 |
Marked | True |
Metering Mode | Center-weighted average |
Parametric Darks | 0 |
Parametric Highlight Split | 75 |
Parametric Highlights | 0 |
Parametric Lights | 0 |
Parametric Midtone Split | 50 |
Parametric Shadow Split | 25 |
Parametric Shadows | 0 |
Rating | 3 |
Raw File Name | IMGP1777-1.DNG |
Red Hue | 0 |
Red Saturation | 0 |
Rights | Copyright George Cook "Tiabunna" |
Saturation | Normal |
Saturation Adjustment Aqua | 0 |
Saturation Adjustment Blue | 0 |
Saturation Adjustment Green | 0 |
Saturation Adjustment Magenta | 0 |
Saturation Adjustment Orange | 0 |
Saturation Adjustment Purple | 0 |
Saturation Adjustment Red | 0 |
Saturation Adjustment Yellow | 0 |
Scene Capture Type | Standard |
Sensing Method | One-chip color area |
Shadow Tint | 0 |
Shadows | 5 |
Sharpen Detail | 25 |
Sharpen Edge Masking | 0 |
Sharpen Radius | +1.0 |
Sharpness | Hard |
Split Toning Balance | 0 |
Split Toning Highlight Hue | 0 |
Split Toning Highlight Saturation | 0 |
Split Toning Shadow Hue | 0 |
Split Toning Shadow Saturation | 0 |
Subject Distance Range | Unknown |
Tint | +13 |
Tone Curve | 0, 0, 32, 22, 64, 56, 128, 128, 192, 196, 255, 255 |
Tone Curve Name | Medium Contrast |
Version | 4.2 |
Vibrance | +18 |
Vignette Amount | 0 |
White Balance | Manual |