Shooting information for this photo
Camera: | FUJIFILM MX-1700ZOOM |
Exposure: | 0.00455 sec. (1/220) |
Aperture: | f/7.0 |
Focal Length: | 19.8 mm (35 mm equivalent: 129.0 mm) |
Flash: | No Flash |
Exposure mode: | Program AE |
Max Aperture: | 3.1 |
Resolution: | 240 x 240 dpi |
Dimension: | 1167 x 850 pixels |
Original Date: | 2005:06:08 11:42:38 |
Created on: | 2005:06:08 11:42:38 |
Modified on: | 2016:01:19 22:01:53 |
Software: | Adobe Photoshop CC 2015 (Windows) |
Already Applied | True |
Artist | RHM |
Auto Lateral CA | 0 |
Auto White Version | 134348800 |
Blacks 2012 | -45 |
Blue Hue | 0 |
Blue Saturation | 0 |
Brightness Value | 8 |
Camera Profile | Embedded |
Circle Of Confusion | 0.005 mm |
Clarity 2012 | +36 |
Color Mode | RGB |
Color Noise Reduction | 0 |
Color Space | Uncalibrated |
Contrast 2012 | +25 |
Convert To Grayscale | False |
Creator | RHM |
Crop Angle | 0 |
Crop Bottom | 0.959184 |
Crop Constrain To Warp | 0 |
Crop Left | 0.005025 |
Crop Right | 0.917085 |
Crop Top | 0.128729 |
Date Created | 2005:06:08 11:42:38 |
Defringe Green Amount | 0 |
Defringe Green Hue Hi | 60 |
Defringe Green Hue Lo | 40 |
Defringe Purple Amount | 0 |
Defringe Purple Hue Hi | 70 |
Defringe Purple Hue Lo | 30 |
Dehaze | 0 |
Description | Aircraft landing at London City Airport view from University of East London LRC site perimeter fence.Fujifilm MX-1700Zoom |
Exposure 2012 | +0.10 |
Exposure Compensation | 0 |
Field Of View | 15.9 deg |
Format | image/jpeg |
Grain Amount | 0 |
Green Hue | 0 |
Green Saturation | 0 |
Has Crop | True |
Has Settings | True |
Highlights 2012 | +70 |
Hue Adjustment Aqua | 0 |
Hue Adjustment Blue | 0 |
Hue Adjustment Green | 0 |
Hue Adjustment Magenta | 0 |
Hue Adjustment Orange | 0 |
Hue Adjustment Purple | 0 |
Hue Adjustment Red | 0 |
Hue Adjustment Yellow | 0 |
Hyperfocal Distance | 12.14 m |
ICC Profile Name | ProPhoto RGB |
ISO | 125 |
Image Description | Aircraft landing at London City Airport view from University of East London LRC site perimeter fence.Fujifilm MX-1700Zoom |
Image Size | 1167x850 |
Incremental Temperature | 0 |
Incremental Tint | +5 |
Lens Manual Distortion Amount | 0 |
Lens Profile Enable | 0 |
Lens Profile Setup | LensDefaults |
Light Value | 13.1 |
Luminance Adjustment Aqua | 0 |
Luminance Adjustment Blue | 0 |
Luminance Adjustment Green | 0 |
Luminance Adjustment Magenta | 0 |
Luminance Adjustment Orange | 0 |
Luminance Adjustment Purple | 0 |
Luminance Adjustment Red | 0 |
Luminance Adjustment Yellow | 0 |
Luminance Smoothing | 0 |
Metering Mode | Multi-segment |
Parametric Darks | -6 |
Parametric Highlight Split | 75 |
Parametric Highlights | 0 |
Parametric Lights | +10 |
Parametric Midtone Split | 50 |
Parametric Shadow Split | 25 |
Parametric Shadows | 0 |
Perspective Aspect | 0 |
Perspective Horizontal | 0 |
Perspective Rotate | 0.0 |
Perspective Scale | 100 |
Perspective Upright | 0 |
Perspective Vertical | 0 |
Post Crop Vignette Amount | 0 |
Process Version | 6.7 |
Rating | 0 |
Raw File Name | DSCF4193.JPG |
Red Hue | 0 |
Red Saturation | 0 |
Saturation | 0 |
Saturation Adjustment Aqua | 0 |
Saturation Adjustment Blue | 0 |
Saturation Adjustment Green | 0 |
Saturation Adjustment Magenta | 0 |
Saturation Adjustment Orange | 0 |
Saturation Adjustment Purple | 0 |
Saturation Adjustment Red | 0 |
Saturation Adjustment Yellow | 0 |
Scale Factor To 35 mm Equivalent | 6.5 |
Scene Type | Directly photographed |
Sensing Method | One-chip color area |
Shadow Tint | 0 |
Shadows 2012 | -2 |
Sharpen Detail | 95 |
Sharpen Edge Masking | 99 |
Sharpen Radius | +0.9 |
Sharpness | 5 |
Split Toning Balance | 0 |
Split Toning Highlight Hue | 0 |
Split Toning Highlight Saturation | 0 |
Split Toning Shadow Hue | 0 |
Split Toning Shadow Saturation | 0 |
Subject | Fujifilm MX-1700Zoom, University of East London, LRC site perimeter fence, Aircraft, landing, London City Airport, O2 Arena, Canary Wharf, docklands, fence, chainlink, tower blocks |
Title | Coming in to land at London City Airport |
Tone Curve | 0, 0, 255, 255 |
Tone Curve Blue | 0, 0, 255, 255 |
Tone Curve Green | 0, 0, 255, 255 |
Tone Curve Name | Linear |
Tone Curve Name 2012 | Linear |
Tone Curve PV2012 | 0, 0, 255, 255 |
Tone Curve PV2012 Blue | 0, 0, 255, 255 |
Tone Curve PV2012 Green | 0, 0, 255, 255 |
Tone Curve PV2012 Red | 0, 0, 255, 255 |
Tone Curve Red | 0, 0, 255, 255 |
Tone Map Strength | 0 |
Version | 9.3.1 |
Vibrance | +50 |
Vignette Amount | 0 |
White Balance | Custom |
Whites 2012 | -62 |