Shooting information for this photo
Camera: | Canon MG6400 |
Resolution: | 300 x 300 dpi |
Dimension: | 2314 x 1571 pixels |
Original Date: | 2015:09:26 12:00:00 |
Created on: | 2015:09:26 19:08:50 |
Modified on: | 2015:10:23 20:42:28 |
Software: | PaintShop Pro 18.00 |
Copyright: | rhm |
Already Applied | True |
Artist | rhm |
Blacks 2012 | -81 |
Clarity 2012 | +31 |
Color Mode | RGB |
Color Space | Uncalibrated |
Contrast 2012 | 0 |
Creator | rhm |
Crop Angle | 0.095768 |
Crop Bottom | 0.952852 |
Crop Constrain To Warp | 0 |
Crop Left | 0.044059 |
Crop Right | 0.975993 |
Crop Top | 0.059754 |
Date Created | 2015:09:26 12:00 |
Dehaze | +12 |
Description | Wild at the 1937 Royal Fleet Review on the Solent..B&W print Scan |
Exposure 2012 | +0.36 |
Format | image/jpeg |
Grain Amount | 0 |
Has Crop | True |
Has Settings | True |
Highlights 2012 | -2 |
ICC Profile Name | ProPhoto RGB |
Image Description | Wild at the 1937 Royal Fleet Review on the Solent..B&W print Scan |
Image Size | 2314x1571 |
Lens Manual Distortion Amount | 0 |
Lens Profile Enable | 0 |
Lens Profile Setup | LensDefaults |
Luminance Smoothing | 0 |
Parametric Darks | 0 |
Parametric Highlight Split | 75 |
Parametric Highlights | 0 |
Parametric Lights | 0 |
Parametric Midtone Split | 50 |
Parametric Shadow Split | 25 |
Parametric Shadows | 0 |
Perspective Aspect | 0 |
Perspective Horizontal | 0 |
Perspective Rotate | 0.0 |
Perspective Scale | 100 |
Perspective Upright | 0 |
Perspective Vertical | 0 |
Post Crop Vignette Amount | +29 |
Post Crop Vignette Feather | 50 |
Post Crop Vignette Midpoint | 50 |
Post Crop Vignette Roundness | 0 |
Post Crop Vignette Style | 1 |
Process Version | 6.7 |
Rating | 0 |
Raw File Name | 15-09-26-0011.jpg |
Rights | rhm |
Shadows 2012 | -33 |
Sharpen Detail | 25 |
Sharpen Edge Masking | 0 |
Sharpen Radius | +1.0 |
Sharpness | 0 |
Split Toning Balance | 0 |
Split Toning Highlight Hue | 0 |
Split Toning Highlight Saturation | 0 |
Split Toning Shadow Hue | 0 |
Split Toning Shadow Saturation | 0 |
Title | Wild at the review |
Tone Curve | 0, 0, 255, 255 |
Tone Curve Blue | 0, 0, 255, 255 |
Tone Curve Green | 0, 0, 255, 255 |
Tone Curve Name | Linear |
Tone Curve Name 2012 | Linear |
Tone Curve PV2012 | 0, 0, 255, 255 |
Tone Curve PV2012 Blue | 0, 0, 255, 255 |
Tone Curve PV2012 Green | 0, 0, 255, 255 |
Tone Curve PV2012 Red | 0, 0, 255, 255 |
Tone Curve Red | 0, 0, 255, 255 |
Tone Map Strength | 0 |
Version | 9.2 |
Vignette Amount | 0 |
Whites 2012 | -5 |