Shooting information for this photo
Camera: | Canon EOS 550D |
Exposure: | 0.01667 sec. (1/60) |
Aperture: | f/5.0 |
Focal Length: | 44.0 mm (35 mm equivalent: 69.2 mm) |
Flash: | On, Fired |
Exposure mode: | Portrait |
Resolution: | 240 x 240 dpi |
Original Date: | 2013:10:05 18:05:06.00 |
Created on: | 2013:10:05 18:05:06.00 |
Modified on: | 2013:10:11 17:33:22 |
Software: | Adobe Photoshop Lightroom 4.0 (Windows) |
Already Applied | True |
Artist | Gillian Everett; Picasa |
Auto Lateral CA | 0 |
Blacks 2012 | +7 |
Blue Hue | 0 |
Blue Saturation | 0 |
Brightness | 0 |
Camera Profile | Adobe Standard |
Circle Of Confusion | 0.019 mm |
Clarity | 0 |
Clarity 2012 | +100 |
Color Noise Reduction | 0 |
Contrast | 0 |
Contrast 2012 | 0 |
Convert To Grayscale | False |
Creator | Gillian Everett, Picasa |
Custom Rendered | Normal |
Date Created | 2013:10:05 18:05:06.00 |
Defringe | 0 |
Exposure | 0.00 |
Exposure 2012 | +0.50 |
Exposure Compensation | 0 |
Exposure Mode | Auto |
Field Of View | 29.2 deg |
Fill Light | 0 |
Format | image/jpeg |
Grain Amount | 0 |
Green Hue | 0 |
Green Saturation | 0 |
Has Crop | False |
Has Settings | True |
Highlight Recovery | 0 |
Highlights 2012 | -100 |
Hue Adjustment Aqua | 0 |
Hue Adjustment Blue | 0 |
Hue Adjustment Green | 0 |
Hue Adjustment Magenta | 0 |
Hue Adjustment Orange | 0 |
Hue Adjustment Purple | 0 |
Hue Adjustment Red | 0 |
Hue Adjustment Yellow | 0 |
Hyperfocal Distance | 20.27 m |
ISO | 400 |
Image Size | 2044x2043 |
Incremental Temperature | 0 |
Incremental Tint | 0 |
Last Keyword IPTC | Worldwide Photo Walk, Mooloolaba Walk, Mooloolaba, Queensland, Australia, 2013, Canon EOS 550D, gillianeverett |
Last Keyword XMP | Worldwide Photo Walk, Mooloolaba Walk, Mooloolaba, Queensland, Australia, 2013, Canon EOS 550D, gillianeverett |
Lens Manual Distortion Amount | 0 |
Lens Profile Enable | 0 |
Lens Profile Setup | LensDefaults |
Light Value | 8.6 |
Luminance Adjustment Aqua | +20 |
Luminance Adjustment Blue | +40 |
Luminance Adjustment Green | +35 |
Luminance Adjustment Magenta | +20 |
Luminance Adjustment Orange | +40 |
Luminance Adjustment Purple | +20 |
Luminance Adjustment Red | +40 |
Luminance Adjustment Yellow | +40 |
Luminance Smoothing | 0 |
Metering Mode | Multi-segment |
Parametric Darks | 0 |
Parametric Highlight Split | 75 |
Parametric Highlights | 0 |
Parametric Lights | 0 |
Parametric Midtone Split | 50 |
Parametric Shadow Split | 25 |
Parametric Shadows | 0 |
Perspective Horizontal | 0 |
Perspective Rotate | 0.0 |
Perspective Scale | 100 |
Perspective Vertical | 0 |
Post Crop Vignette Amount | 0 |
Process Version | 6.7 |
Red Hue | 0 |
Red Saturation | 0 |
Saturation | +31 |
Saturation Adjustment Aqua | 0 |
Saturation Adjustment Blue | 0 |
Saturation Adjustment Green | 0 |
Saturation Adjustment Magenta | 0 |
Saturation Adjustment Orange | 0 |
Saturation Adjustment Purple | 0 |
Saturation Adjustment Red | 0 |
Saturation Adjustment Yellow | 0 |
Scale Factor To 35 mm Equivalent | 1.6 |
Scene Capture Type | Standard |
Shadow Tint | 0 |
Shadows | 0 |
Shadows 2012 | +56 |
Sharpen Detail | 25 |
Sharpen Edge Masking | 0 |
Sharpen Radius | +1.0 |
Sharpness | 0 |
Split Toning Balance | 0 |
Split Toning Highlight Hue | 0 |
Split Toning Highlight Saturation | 0 |
Split Toning Shadow Hue | 0 |
Split Toning Shadow Saturation | 0 |
Subject | 2013, Australia, Canon EOS 550D, Mooloolaba, Mooloolaba Walk, Queensland, Worldwide Photo Walk, gillianeverett |
Tone Curve | 0, 0, 255, 255 |
Tone Curve Blue | 0, 0, 255, 255 |
Tone Curve Green | 0, 0, 255, 255 |
Tone Curve Name | Linear |
Tone Curve Name 2012 | Linear |
Tone Curve PV2012 | 0, 0, 255, 255 |
Tone Curve PV2012 Blue | 0, 0, 255, 255 |
Tone Curve PV2012 Green | 0, 0, 255, 255 |
Tone Curve PV2012 Red | 0, 0, 255, 255 |
Tone Curve Red | 0, 0, 255, 255 |
Version | 7.0 |
Vibrance | +52 |
Vignette Amount | 0 |
White Balance | Auto |
Whites 2012 | -100 |