Shooting information for this photo
Camera: | SONY ILCE-6000 |
Exposure: | 0.0125 sec. (1/80) |
Aperture: | f/5.0 |
Focal Length: | 30.0 mm (35 mm equivalent: 45.0 mm) |
Flash: | Off, Did not fire |
Exposure mode: | Program AE |
Max Aperture: | 4.0 |
Resolution: | 350 x 350 dpi |
Dimension: | 5922 x 3880 pixels |
Original Date: | 2019:11:20 15:45:29 |
Created on: | 2019:11:20 15:45:29 |
Modified on: | 2019:11:22 18:32:33 |
Software: | Microsoft Photo Gallery 16.4.3528.331 |
AF Point Selected | Upper-right |
Already Applied | False |
Anti-Blur | Off |
Auto Lateral CA | 0 |
Auto Portrait Framed | No |
Blacks 2012 | -2 |
Blue Hue | 0 |
Blue Saturation | 0 |
Brightness | 0.000000 |
Brightness Value | 5.43515625 |
Camera Profile | Embedded |
Circle Of Confusion | 0.020 mm |
Clarity 2012 | -43 |
Color Compensation Filter | 0 |
Color Mode | Vivid |
Color Noise Reduction | 0 |
Color Space | sRGB |
Color Temperature | Auto |
Contrast | 50.000000 |
Contrast 2012 | +66 |
Convert To Grayscale | True |
Custom Rendered | Normal |
Dehaze | 0 |
Description | Später Herbst bei der Vogelsburg Volkacher Mainschleife Escherndorfer Pforte Abendstimmung flickr |
Digital Zoom Ratio | 1 |
Distortion Correction | Auto |
Dynamic Range Optimizer | Off |
Exposure 2012 | +0.40 |
Exposure Compensation | 0.160000 |
Exposure Mode | Auto |
Field Of View | 43.6 deg |
File Format | Unknown (3 3 1 0) |
Flash Exposure Compensation | 3 |
Flash Level | -2/3 |
Focal Length In 35mm Format | 45 mm |
Focus Mode | DMF |
Format | image/jpeg |
Full Image Size | 768x161742848 |
Grain Amount | 0 |
Gray Mixer Aqua | 0 |
Gray Mixer Blue | 0 |
Gray Mixer Green | 0 |
Gray Mixer Magenta | 0 |
Gray Mixer Orange | 0 |
Gray Mixer Purple | 0 |
Gray Mixer Red | 0 |
Gray Mixer Yellow | 0 |
Green Hue | 0 |
Green Saturation | 0 |
HDR | Off; Uncorrected image |
Has Crop | False |
Has Settings | True |
High ISO Noise Reduction | Normal |
Highlights 2012 | -17 |
Hyperfocal Distance | 8.99 m |
ISO | 100 |
Image Description | Später Herbst bei der Vogelsburg Volkacher Mainschleife Escherndorfer Pforte Abendstimmung flickr |
Image Size | 5922x3880 |
Image Stabilization | Off |
Incremental Temperature | 0 |
Incremental Tint | 0 |
Intelligent Auto | Off |
Lateral Chromatic Aberration | Auto |
Lens | E 16-70mm F4 ZA OSS |
Lens ID | E 16-70mm F4 ZA OSS |
Lens Info | 16-70mm f/4 |
Lens Manual Distortion Amount | 0 |
Lens Model | E 16-70mm F4 ZA OSS |
Lens Profile Enable | 0 |
Lens Profile Setup | LensDefaults |
Lens Spec | Unknown (00 0 2000 0.2 0 00) |
Lens Type | E-Mount, T-Mount, Other Lens or no lens |
Light Source | Unknown |
Light Value | 11.0 |
Long Exposure Noise Reduction | On (unused) |
Luminance Noise Reduction Contrast | 68 |
Luminance Noise Reduction Detail | 64 |
Luminance Smoothing | 54 |
Metering Mode | Multi-segment |
Multi Frame Noise Reduction | Off |
Offset Schema | 4142 |
Override Look Vignette | False |
Parametric Darks | 0 |
Parametric Highlight Split | 75 |
Parametric Highlights | 0 |
Parametric Lights | 0 |
Parametric Midtone Split | 50 |
Parametric Shadow Split | 25 |
Parametric Shadows | 0 |
Perspective Aspect | 0 |
Perspective Horizontal | 0 |
Perspective Rotate | 0.0 |
Perspective Scale | 100 |
Perspective Upright | 0 |
Perspective Vertical | 0 |
Perspective X | 0.00 |
Perspective Y | 0.00 |
Picture Effect | Off |
Pipeline Version | 01.00 |
Post Crop Vignette Amount | 0 |
Process Version | 11.0 |
Quality | Fine |
Rating | 0 |
Recommended Exposure Index | 100 |
Red Hue | 0 |
Red Saturation | 0 |
Release Mode | Normal |
Saturation | Normal |
Scale Factor To 35 mm Equivalent | 1.5 |
Scene Capture Type | Standard |
Scene Mode | Standard |
Scene Type | Directly photographed |
Sensitivity Type | Recommended Exposure Index |
Sequence Number | Single |
Shadow Tint | 0 |
Shadows 2012 | +7 |
Sharpen Detail | 25 |
Sharpen Edge Masking | 0 |
Sharpen Radius | +1.0 |
Sharpness | Normal |
Soft Skin Effect | Off |
Sony Model ID | Unknown (312) |
Split Toning Balance | 0 |
Split Toning Highlight Hue | 0 |
Split Toning Highlight Saturation | 0 |
Split Toning Shadow Hue | 0 |
Split Toning Shadow Saturation | 0 |
Stream Type | 3 |
Teleconverter | None |
Texture | 0 |
Title | Später Herbst bei der Vogelsburg Volkacher Mainschleife Escherndorfer Pforte Abendstimmung flickr |
Tone Curve | 0, 0, 255, 255 |
Tone Curve Blue | 0, 0, 255, 255 |
Tone Curve Green | 0, 0, 255, 255 |
Tone Curve Name | Linear |
Tone Curve Name 2012 | Linear |
Tone Curve PV2012 | 0, 0, 255, 255 |
Tone Curve PV2012 Blue | 0, 0, 255, 255 |
Tone Curve PV2012 Green | 0, 0, 255, 255 |
Tone Curve PV2012 Red | 0, 0, 255, 255 |
Tone Curve Red | 0, 0, 255, 255 |
Tone Map Strength | 0 |
Version | 12.0 |
Vignette Amount | 0 |
Vignetting Correction | Auto |
WB Shift AB GM | 859451955 687865907 |
White Balance | Auto |
White Balance 0 | 2.600293 |
White Balance 1 | 1.000000 |
White Balance 2 | 1.193073 |
White Balance Fine Tune | 0 |
Whites 2012 | +21 |
XP Title | Später Herbst bei der Vogelsburg Volkacher Mainschleife Escherndorfer Pforte Abendstimmung flickr |
Zone Matching | ISO Setting Used |