Shooting information for this photo
Camera: | Canon EOS 5D Mark IV |
Exposure: | 0.00313 sec. (1/320) |
Aperture: | f/4.5 |
Focal Length: | 270.0 mm (35 mm equivalent: 604.8 mm) |
Flash: | Off, Did not fire |
Exposure mode: | Manual |
Max Aperture: | 4.0 |
Resolution: | 300 x 300 dpi |
Dimension: | 3000 x 2000 pixels |
Original Date: | 2024:03:30 12:57:09 |
Created on: | 2024:03:30 12:57:09 |
Modified on: | 2024:03:31 17:47:58 |
Software: | Adobe Photoshop 25.1 (Macintosh) |
Copyright: | © Arlequin Photographie / Andreas Schindler |
Already Applied | True |
Approximate Focus Distance | 16.5 |
Artist | Andreas Schindler |
Auto Lateral CA | 0 |
Blacks 2012 | -20 |
Blue Hue | 0 |
Blue Saturation | 0 |
Camera Profile | Adobe Standard |
Circle Of Confusion | 0.013 mm |
Clarity 2012 | +28 |
Color Grade Blending | 50 |
Color Grade Global Hue | 0 |
Color Grade Global Lum | 0 |
Color Grade Global Sat | 0 |
Color Grade Highlight Lum | 0 |
Color Grade Midtone Hue | 0 |
Color Grade Midtone Lum | 0 |
Color Grade Midtone Sat | 0 |
Color Grade Shadow Lum | 0 |
Color Noise Reduction | 25 |
Color Noise Reduction Detail | 50 |
Color Noise Reduction Smoothness | 50 |
Color Space | sRGB |
Color Temperature | 4750 |
Contrast 2012 | +7 |
Creator | Andreas Schindler |
Custom Rendered | Normal |
Defringe Green Amount | 0 |
Defringe Green Hue Hi | 60 |
Defringe Green Hue Lo | 40 |
Defringe Purple Amount | 0 |
Defringe Purple Hue Hi | 70 |
Defringe Purple Hue Lo | 30 |
Dehaze | +23 |
Description | Treffen Grenadier Community Luxemburg |
Exposure 2012 | +0.02 |
Exposure Compensation | 0 |
Exposure Mode | Manual |
Field Of View | 3.4 deg |
Firmware | 1.0.4 |
Flash Compensation | 0 |
Format | image/jpeg |
Grain Amount | 0 |
Green Hue | 0 |
Green Saturation | 0 |
HDR Edit Mode | 0 |
Has Crop | False |
Has Settings | True |
Highlights 2012 | -62 |
Hue Adjustment Aqua | 0 |
Hue Adjustment Blue | 0 |
Hue Adjustment Green | 0 |
Hue Adjustment Magenta | 0 |
Hue Adjustment Orange | 0 |
Hue Adjustment Purple | 0 |
Hue Adjustment Red | 0 |
Hue Adjustment Yellow | 0 |
Hyperfocal Distance | 1207.74 m |
ISO | 400 |
Image Description | Treffen Grenadier Community Luxemburg |
Image Number | 0 |
Image Size | 3000x2000 |
Lens | EF135mm f/2L USM +2x III |
Lens ID | Canon EF 135mm f/2L + 2x |
Lens Info | 270mm f/? |
Lens Manual Distortion Amount | 0 |
Lens Model | EF135mm f/2L USM +2x III |
Lens Profile Enable | 1 |
Lens Profile Setup | LensDefaults |
Light Value | 10.7 |
Look Amount | 1 |
Look Copyright | © 2018 Adobe Systems, Inc. |
Look Group | Profiles |
Look Name | Adobe Color |
Look Parameters Camera Profile | Adobe Standard |
Look Parameters Convert To Grayscale | False |
Look Parameters Look Table | E1095149FDB39D7A057BAB208837E2 E1 |
Look Parameters Process Version | 15.4 |
Look Parameters Tone Curve PV2012 | 0, 0, 22, 16, 40, 35, 127, 127, 224, 230, 240, 246, 255, 255 |
Look Parameters Tone Curve PV2012 Blue | 0, 0, 255, 255 |
Look Parameters Tone Curve PV2012 Green | 0, 0, 255, 255 |
Look Parameters Tone Curve PV2012 Red | 0, 0, 255, 255 |
Look Parameters Version | 16.2 |
Look Supports Amount | false |
Look Supports Monochrome | false |
Look Supports Output Referred | false |
Luminance Adjustment Aqua | 0 |
Luminance Adjustment Blue | 0 |
Luminance Adjustment Green | 0 |
Luminance Adjustment Magenta | 0 |
Luminance Adjustment Orange | 0 |
Luminance Adjustment Purple | 0 |
Luminance Adjustment Red | 0 |
Luminance Adjustment Yellow | 0 |
Luminance Smoothing | 0 |
Marked | True |
Metering Mode | Spot |
Override Look Vignette | False |
Parametric Darks | 0 |
Parametric Highlight Split | 75 |
Parametric Highlights | 0 |
Parametric Lights | 0 |
Parametric Midtone Split | 50 |
Parametric Shadow Split | 25 |
Parametric Shadows | 0 |
Perspective Aspect | 0 |
Perspective Horizontal | 0 |
Perspective Rotate | 0.0 |
Perspective Scale | 100 |
Perspective Upright | 0 |
Perspective Vertical | 0 |
Perspective X | 0.00 |
Perspective Y | 0.00 |
Point Colors | -1.000000, -1.000000, -1.000000, -1.000000, -1.000000, -1.000000, -1.000000, -1.000000, -1.000000, -1.000000, -1.000000, -1.000000, -1.000000, -1.000000, -1.000000, -1.000000, -1.000000, -1.000000, -1.000000 |
Post Crop Vignette Amount | 0 |
Process Version | 15.4 |
Rating | 0 |
Recommended Exposure Index | 400 |
Red Hue | 0 |
Red Saturation | 0 |
Rights | © Arlequin Photographie / Andreas Schindler |
Saturation | -2 |
Saturation Adjustment Aqua | 0 |
Saturation Adjustment Blue | 0 |
Saturation Adjustment Green | 0 |
Saturation Adjustment Magenta | 0 |
Saturation Adjustment Orange | 0 |
Saturation Adjustment Purple | 0 |
Saturation Adjustment Red | 0 |
Saturation Adjustment Yellow | 0 |
Scale Factor To 35 mm Equivalent | 2.2 |
Scene Capture Type | Standard |
Sensitivity Type | Recommended Exposure Index |
Shadow Tint | 0 |
Shadows 2012 | +47 |
Sharpen Detail | 25 |
Sharpen Edge Masking | 0 |
Sharpen Radius | +1.0 |
Sharpness | 54 |
Split Toning Balance | 0 |
Split Toning Highlight Hue | 0 |
Split Toning Highlight Saturation | 0 |
Split Toning Shadow Hue | 0 |
Split Toning Shadow Saturation | 0 |
Texture | +26 |
Tint | +6 |
Tone Curve Name 2012 | Linear |
Tone Curve PV2012 | 0, 0, 255, 255 |
Tone Curve PV2012 Blue | 0, 0, 255, 255 |
Tone Curve PV2012 Green | 0, 0, 255, 255 |
Tone Curve PV2012 Red | 0, 0, 255, 255 |
Version | 16.2 |
Vibrance | +12 |
Vignette Amount | 0 |
White Balance | Manual |
Whites 2012 | +46 |
GPS Information |
GPS Altitude | 477.2 m Above Sea Level |
GPS Altitude Ref | Above Sea Level |
GPS Date Stamp | 2024:03:30 |
GPS Date/Time | 2024:03:30 10:57:08.704Z |
GPS Dest Bearing Ref | Unknown () |
GPS Dilution Of Precision | 2.2 |
GPS Latitude | 50 deg 11' 3.32" N |
GPS Latitude Ref | North |
GPS Longitude | 6 deg 4' 18.76" E |
GPS Longitude Ref | East |
GPS Map Datum | WGS-84 |
GPS Measure Mode | 3-Dimensional Measurement |
GPS Position | 50 deg 11' 3.32" N, 6 deg 4' 18.76" E |
GPS Satellites | 6 |
GPS Status | Measurement Active |
GPS Time Stamp | 10:57:08.704 |
GPS Version ID | 2.3.0.0 |