Shooting information for this photo
Camera: | Canon EOS 5D Mark II |
Exposure: | 0.00063 sec. (1/1600) |
Aperture: | f/4.0 |
Focal Length: | 105.0 mm (35 mm equivalent: 102.5 mm) |
Flash: | Off, Did not fire |
Exposure mode: | Manual |
Max Aperture: | 4.0 |
Resolution: | 300 x 300 dpi |
Dimension: | 3000 x 2000 pixels |
Original Date: | 2016:07:22 13:57:39.42 |
Created on: | 2016:07:22 13:57:39.42 |
Modified on: | 2019:10:05 17:57:38.42 |
Software: | Adobe Photoshop CC 2019 (Macintosh) |
Copyright: | Copyright: Arlequin Photographie |
Already Applied | True |
Approximate Focus Distance | 11.9 |
Artist | Photographer:Andreas Schindler |
Auto Lateral CA | 0 |
Blacks 2012 | -19 |
Blue Hue | 0 |
Blue Saturation | 0 |
Camera Profile | Adobe Standard |
Circle Of Confusion | 0.031 mm |
Clarity 2012 | +20 |
Color Mode | RGB |
Color Noise Reduction | 25 |
Color Noise Reduction Detail | 50 |
Color Noise Reduction Smoothness | 50 |
Color Space | sRGB |
Color Temperature | 4850 |
Contrast 2012 | +20 |
Convert To Grayscale | False |
Creator | Photographer:Andreas Schindler |
Custom Rendered | Normal |
Date Created | 2016:07:22 13:57:39.042 |
Defringe Green Amount | 0 |
Defringe Green Hue Hi | 60 |
Defringe Green Hue Lo | 40 |
Defringe Purple Amount | 0 |
Defringe Purple Hue Hi | 70 |
Defringe Purple Hue Lo | 30 |
Dehaze | -17 |
Distortion Correction Already Applied | True |
Exposure 2012 | +2.10 |
Exposure Compensation | 0 |
Exposure Mode | Manual |
Field Of View | 19.9 deg |
Firmware | 2.1.2 |
Flash Compensation | 0 |
Format | image/jpeg |
Grain Amount | 0 |
Green Hue | 0 |
Green Saturation | 0 |
Has Crop | False |
Has Settings | True |
Highlights 2012 | -59 |
Hue Adjustment Aqua | 0 |
Hue Adjustment Blue | 0 |
Hue Adjustment Green | 0 |
Hue Adjustment Magenta | 0 |
Hue Adjustment Orange | 0 |
Hue Adjustment Purple | 0 |
Hue Adjustment Red | 0 |
Hue Adjustment Yellow | 0 |
Hyperfocal Distance | 89.53 m |
ICC Profile Name | sRGB IEC61966-2.1 |
ISO | 250 |
Image Number | 0 |
Image Size | 3000x2000 |
Lens | EF24-105mm f/4L IS USM |
Lens ID | Canon EF 24-105mm f/4L IS |
Lens Info | 24-105mm f/? |
Lens Manual Distortion Amount | 0 |
Lens Model | EF24-105mm f/4L IS USM |
Lens Profile Chromatic Aberration Scale | 100 |
Lens Profile Distortion Scale | 100 |
Lens Profile Enable | 1 |
Lens Profile Filename | Canon EOS-1Ds Mark III (Canon EF 24-105mm f4 L IS USM) - RAW.lcp |
Lens Profile Name | Adobe (Canon EF 24-105mm f/4 L IS USM) |
Lens Profile Setup | LensDefaults |
Lens Profile Vignetting Scale | 100 |
Light Value | 13.3 |
Luminance Adjustment Aqua | 0 |
Luminance Adjustment Blue | 0 |
Luminance Adjustment Green | 0 |
Luminance Adjustment Magenta | 0 |
Luminance Adjustment Orange | 0 |
Luminance Adjustment Purple | 0 |
Luminance Adjustment Red | 0 |
Luminance Adjustment Yellow | 0 |
Luminance Smoothing | 0 |
Metering Mode | Spot |
Override Look Vignette | False |
Owner Name | Arlequin Photographie |
Parametric Darks | 0 |
Parametric Highlight Split | 75 |
Parametric Highlights | 0 |
Parametric Lights | 0 |
Parametric Midtone Split | 50 |
Parametric Shadow Split | 25 |
Parametric Shadows | 0 |
Perspective Aspect | 0 |
Perspective Horizontal | 0 |
Perspective Rotate | 0.0 |
Perspective Scale | 100 |
Perspective Upright | 0 |
Perspective Vertical | 0 |
Perspective X | 0.00 |
Perspective Y | 0.00 |
Post Crop Vignette Amount | 0 |
Process Version | 11.0 |
Rating | 0 |
Raw File Name | 2016_07_22_manhattan_staten_is land_ferry_100.CR2 |
Red Hue | 0 |
Red Saturation | 0 |
Rights | Copyright: Arlequin Photographie |
Saturation | +10 |
Saturation Adjustment Aqua | 0 |
Saturation Adjustment Blue | 0 |
Saturation Adjustment Green | 0 |
Saturation Adjustment Magenta | 0 |
Saturation Adjustment Orange | 0 |
Saturation Adjustment Purple | 0 |
Saturation Adjustment Red | 0 |
Saturation Adjustment Yellow | 0 |
Scale Factor To 35 mm Equivalent | 1.0 |
Scene Capture Type | Standard |
Shadow Tint | 0 |
Shadows 2012 | +25 |
Sharpen Detail | 25 |
Sharpen Edge Masking | 0 |
Sharpen Radius | +1.0 |
Sharpness | 40 |
Split Toning Balance | 0 |
Split Toning Highlight Hue | 0 |
Split Toning Highlight Saturation | 0 |
Split Toning Shadow Hue | 0 |
Split Toning Shadow Saturation | 0 |
Texture | +19 |
Tint | +1 |
Tone Curve | 0, 0, 32, 22, 64, 56, 128, 128, 192, 196, 255, 255 |
Tone Curve Blue | 0, 0, 255, 255 |
Tone Curve Green | 0, 0, 255, 255 |
Tone Curve Name | Medium Contrast |
Tone Curve Name 2012 | Linear |
Tone Curve PV2012 | 0, 0, 255, 255 |
Tone Curve PV2012 Blue | 0, 0, 255, 255 |
Tone Curve PV2012 Green | 0, 0, 255, 255 |
Tone Curve PV2012 Red | 0, 0, 255, 255 |
Tone Curve Red | 0, 0, 255, 255 |
Tone Map Strength | 0 |
Version | 11.3.1 |
Vibrance | +40 |
Vignette Amount | 0 |
Vignette Correction Already Applied | True |
White Balance | Manual |
Whites 2012 | +18 |