Shooting information for this photo
Camera: | Canon EOS 5D Mark IV |
Exposure: | 30 sec. |
Aperture: | f/18.0 |
Focal Length: | 85.0 mm (35 mm equivalent: 170.0 mm) |
Flash: | Off, Did not fire |
Exposure mode: | Manual |
Max Aperture: | 1.8 |
Resolution: | 600.1 x 600.1 dpi |
Dimension: | 3360 x 2240 pixels |
Original Date: | 2019:02:19 21:35:32.00 |
Created on: | 2019:02:19 21:35:32.00 |
Modified on: | 2019:02:21 10:12:34.00 |
Software: | Adobe Photoshop CC 2018 (Macintosh) |
Copyright: | Arlequin Photographie |
Already Applied | True |
Approximate Focus Distance | 7.27 |
Artist | Andreas Schindler |
Auto Lateral CA | 1 |
Blacks 2012 | -23 |
Blue Hue | 0 |
Blue Saturation | 0 |
Camera Profile | Adobe Standard |
Circle Of Confusion | 0.015 mm |
Clarity 2012 | +21 |
Color Mode | RGB |
Color Noise Reduction | 25 |
Color Noise Reduction Detail | 50 |
Color Noise Reduction Smoothness | 50 |
Color Space | sRGB |
Color Temperature | 2400 |
Contrast 2012 | -30 |
Convert To Grayscale | False |
Creator | Andreas Schindler |
Custom Rendered | Normal |
Date Created | 2019:02:19 21:35:32 |
Defringe Green Amount | 0 |
Defringe Green Hue Hi | 60 |
Defringe Green Hue Lo | 40 |
Defringe Purple Amount | 0 |
Defringe Purple Hue Hi | 70 |
Defringe Purple Hue Lo | 30 |
Dehaze | +13 |
Distortion Correction Already Applied | True |
Exposure 2012 | +0.58 |
Exposure Compensation | 0 |
Exposure Mode | Manual |
Field Of View | 12.1 deg |
Firmware | 1.0.4 |
Flash Compensation | 0 |
Format | image/jpeg |
Grain Amount | 0 |
Green Hue | 0 |
Green Saturation | 0 |
Has Crop | False |
Has Settings | True |
Highlights 2012 | -53 |
Hue Adjustment Aqua | 0 |
Hue Adjustment Blue | 0 |
Hue Adjustment Green | 0 |
Hue Adjustment Magenta | 0 |
Hue Adjustment Orange | 0 |
Hue Adjustment Purple | 0 |
Hue Adjustment Red | 0 |
Hue Adjustment Yellow | 0 |
Hyperfocal Distance | 26.72 m |
ICC Profile Name | sRGB IEC61966-2.1 |
ISO | 100 |
Image Number | 0 |
Image Size | 3360x2240 |
Lateral Chromatic Aberration Correction Already Applied | True |
Lens | EF85mm f/1.8 USM |
Lens ID | Canon EF 85mm f/1.8 USM |
Lens Info | 85mm f/? |
Lens Manual Distortion Amount | 0 |
Lens Model | EF85mm f/1.8 USM |
Lens Profile Chromatic Aberration Scale | 100 |
Lens Profile Distortion Scale | 100 |
Lens Profile Enable | 1 |
Lens Profile Filename | Canon EOS-1Ds Mark III (Canon EF 85mm f1.8 USM) - RAW.lcp |
Lens Profile Name | Adobe (Canon EF 85mm f/1.8 USM) |
Lens Profile Setup | LensDefaults |
Lens Profile Vignetting Scale | 100 |
Light Value | 3.4 |
Look Amount | 1.000000 |
Look Copyright | © 2018 Adobe Systems, Inc. |
Look Group | Profiles |
Look Name | Adobe Vivid |
Look Parameters Camera Profile | Adobe Standard |
Look Parameters Clarity 2012 | +10 |
Look Parameters Convert To Grayscale | False |
Look Parameters Look Table | 2FE663AB0D3CE5DA7B9F657BBCD66D FE |
Look Parameters Process Version | 10.0 |
Look Parameters Tone Curve PV2012 | 0, 0, 32, 22, 64, 56, 128, 128, 224, 232, 240, 246, 255, 255 |
Look Parameters Version | 10.3 |
Look Supports Amount | false |
Look Supports Monochrome | false |
Look Supports Output Referred | false |
Luminance Adjustment Aqua | 0 |
Luminance Adjustment Blue | 0 |
Luminance Adjustment Green | 0 |
Luminance Adjustment Magenta | 0 |
Luminance Adjustment Orange | 0 |
Luminance Adjustment Purple | 0 |
Luminance Adjustment Red | 0 |
Luminance Adjustment Yellow | 0 |
Luminance Smoothing | 0 |
Metering Mode | Spot |
Override Look Vignette | False |
Parametric Darks | 0 |
Parametric Highlight Split | 75 |
Parametric Highlights | 0 |
Parametric Lights | 0 |
Parametric Midtone Split | 50 |
Parametric Shadow Split | 25 |
Parametric Shadows | 0 |
Perspective Aspect | 0 |
Perspective Horizontal | 0 |
Perspective Rotate | 0.0 |
Perspective Scale | 100 |
Perspective Upright | 0 |
Perspective Vertical | 0 |
Perspective X | 0.00 |
Perspective Y | 0.00 |
Post Crop Vignette Amount | 0 |
Process Version | 10.0 |
Rating | 0 |
Raw File Name | 20190219_Bastogne_37.CR2 |
Recommended Exposure Index | 100 |
Red Hue | 0 |
Red Saturation | 0 |
Rights | Arlequin Photographie |
Saturation | -6 |
Saturation Adjustment Aqua | 0 |
Saturation Adjustment Blue | 0 |
Saturation Adjustment Green | 0 |
Saturation Adjustment Magenta | 0 |
Saturation Adjustment Orange | 0 |
Saturation Adjustment Purple | 0 |
Saturation Adjustment Red | 0 |
Saturation Adjustment Yellow | 0 |
Scale Factor To 35 mm Equivalent | 2.0 |
Scene Capture Type | Standard |
Sensitivity Type | Recommended Exposure Index |
Shadow Tint | 0 |
Shadows 2012 | +52 |
Sharpen Detail | 25 |
Sharpen Edge Masking | 0 |
Sharpen Radius | +1.0 |
Sharpness | 40 |
Split Toning Balance | 0 |
Split Toning Highlight Hue | 0 |
Split Toning Highlight Saturation | 0 |
Split Toning Shadow Hue | 0 |
Split Toning Shadow Saturation | 0 |
Tint | +19 |
Tone Curve | 0, 0, 32, 22, 64, 56, 128, 128, 192, 196, 255, 255 |
Tone Curve Blue | 0, 0, 255, 255 |
Tone Curve Green | 0, 0, 255, 255 |
Tone Curve Name | Medium Contrast |
Tone Curve Name 2012 | Linear |
Tone Curve PV2012 | 0, 0, 255, 255 |
Tone Curve PV2012 Blue | 0, 0, 255, 255 |
Tone Curve PV2012 Green | 0, 0, 255, 255 |
Tone Curve PV2012 Red | 0, 0, 255, 255 |
Tone Curve Red | 0, 0, 255, 255 |
Tone Map Strength | 0 |
Version | 10.3 |
Vibrance | +10 |
Vignette Amount | 0 |
Vignette Correction Already Applied | True |
White Balance | Auto |
Whites 2012 | +36 |