Shooting information for this photo
Camera: | NIKON CORPORATION NIKON D40 |
Exposure: | 0.008 sec. (1/125) |
Aperture: | f/2.0 |
Focal Length: | 35.0 mm (35 mm equivalent: 52.0 mm) |
Flash: | No Flash |
Exposure mode: | Aperture-priority AE |
Max Aperture: | 1.7 |
Resolution: | 1000 x 1000 dpi |
Original Date: | 2020:02:22 15:36:56.70 |
Created on: | 2020:02:22 15:36:56.70 |
Modified on: | 2020:02:23 03:08:55 |
Software: | Adobe Photoshop Lightroom 6.10 (Macintosh) |
Already Applied | True |
Approximate Focus Distance | 16.8 |
Auto Lateral CA | 0 |
Auto White Version | 134348800 |
Blacks 2012 | -31 |
Blue Hue | 0 |
Blue Saturation | 0 |
CFA Pattern | [Blue,Green][Green,Red] |
Camera Profile | Adobe Standard |
Circle Of Confusion | 0.020 mm |
Clarity 2012 | +31 |
Color Noise Reduction | 25 |
Color Noise Reduction Detail | 50 |
Color Noise Reduction Smoothness | 50 |
Color Space | sRGB |
Color Temperature | 4200 |
Contrast | Normal |
Contrast 2012 | -28 |
Convert To Grayscale | False |
Custom Rendered | Normal |
Date Created | 2020:02:22 15:36:56.70 |
Defringe Green Amount | 0 |
Defringe Green Hue Hi | 60 |
Defringe Green Hue Lo | 40 |
Defringe Purple Amount | 0 |
Defringe Purple Hue Hi | 70 |
Defringe Purple Hue Lo | 30 |
Dehaze | 0 |
Digital Zoom Ratio | 1 |
Exposure 2012 | +0.50 |
Exposure Compensation | -2/3 |
Exposure Mode | Auto |
Field Of View | 38.2 deg |
Focal Length In 35mm Format | 52 mm |
Format | image/jpeg |
Gain Control | None |
Grain Amount | 0 |
Green Hue | 0 |
Green Saturation | 0 |
Has Crop | False |
Has Settings | True |
Hierarchical Subject | 35mm, Bruton, Hauser & Wirth, Nikon D40, Oudolf Field, Radić Pavilion, Somerset, Tamron, Tamron SP 35mm f/1.8 Di VC USD, garden, prime lens |
Highlights 2012 | -72 |
Hue Adjustment Aqua | 0 |
Hue Adjustment Blue | 0 |
Hue Adjustment Green | 0 |
Hue Adjustment Magenta | 0 |
Hue Adjustment Orange | 0 |
Hue Adjustment Purple | 0 |
Hue Adjustment Red | 0 |
Hue Adjustment Yellow | 0 |
Hyperfocal Distance | 30.29 m |
ISO | 200 |
Image Number | 2228 |
Image Size | 3000x1995 |
Lens | TAMRON SP 35mm F1.8 Di VC USD F012N |
Lens ID | TAMRON SP 35mm F1.8 Di VC USD F012N |
Lens Info | 35mm f/1.8 |
Lens Manual Distortion Amount | 0 |
Lens Model | TAMRON SP 35mm F1.8 Di VC USD F012N |
Lens Profile Enable | 0 |
Lens Profile Setup | LensDefaults |
Light Source | Unknown |
Light Value | 8.0 |
Luminance Adjustment Aqua | 0 |
Luminance Adjustment Blue | 0 |
Luminance Adjustment Green | +35 |
Luminance Adjustment Magenta | 0 |
Luminance Adjustment Orange | -37 |
Luminance Adjustment Purple | 0 |
Luminance Adjustment Red | 0 |
Luminance Adjustment Yellow | 0 |
Luminance Smoothing | 0 |
Metering Mode | Multi-segment |
Parametric Darks | 0 |
Parametric Highlight Split | 75 |
Parametric Highlights | 0 |
Parametric Lights | 0 |
Parametric Midtone Split | 50 |
Parametric Shadow Split | 25 |
Parametric Shadows | 0 |
Perspective Aspect | 0 |
Perspective Horizontal | 0 |
Perspective Rotate | 0.0 |
Perspective Scale | 100 |
Perspective Upright | 0 |
Perspective Vertical | 0 |
Perspective X | 0.00 |
Perspective Y | 0.00 |
Post Crop Vignette Amount | 0 |
Process Version | 6.7 |
Red Hue | 0 |
Red Saturation | 0 |
Saturation | Normal |
Saturation Adjustment Aqua | 0 |
Saturation Adjustment Blue | +27 |
Saturation Adjustment Green | -48 |
Saturation Adjustment Magenta | 0 |
Saturation Adjustment Orange | +35 |
Saturation Adjustment Purple | 0 |
Saturation Adjustment Red | 0 |
Saturation Adjustment Yellow | 0 |
Scale Factor To 35 mm Equivalent | 1.5 |
Scene Capture Type | Standard |
Scene Type | Directly photographed |
Sensing Method | One-chip color area |
Shadow Tint | 0 |
Shadows 2012 | -40 |
Sharpen Detail | 25 |
Sharpen Edge Masking | 0 |
Sharpen Radius | +1.0 |
Sharpness | Normal |
Split Toning Balance | 0 |
Split Toning Highlight Hue | 0 |
Split Toning Highlight Saturation | 0 |
Split Toning Shadow Hue | 0 |
Split Toning Shadow Saturation | 0 |
Subject | 35mm, Bruton, Hauser & Wirth, Nikon D40, Oudolf Field, Radić Pavilion, Somerset, Tamron, Tamron SP 35mm f/1.8 Di VC USD, garden, prime lens |
Subject Distance Range | Unknown |
Tint | +18 |
Tone Curve | 0, 0, 255, 255 |
Tone Curve Blue | 0, 0, 255, 255 |
Tone Curve Green | 0, 0, 255, 255 |
Tone Curve Name | Linear |
Tone Curve Name 2012 | Medium Contrast |
Tone Curve PV2012 | 0, 0, 32, 22, 64, 56, 128, 128, 192, 196, 255, 255 |
Tone Curve PV2012 Blue | 0, 0, 255, 255 |
Tone Curve PV2012 Green | 0, 0, 255, 255 |
Tone Curve PV2012 Red | 0, 0, 255, 255 |
Tone Curve Red | 0, 0, 255, 255 |
Tone Map Strength | 0 |
Version | 9.10 |
Vibrance | +35 |
Vignette Amount | 0 |
White Balance | Auto |
Whites 2012 | +16 |