Shooting information for this photo
Camera: | NIKON CORPORATION NIKON D40 |
Exposure: | 0.0025 sec. (1/400) |
Aperture: | f/11.0 |
Focal Length: | 55.0 mm (35 mm equivalent: 82.0 mm) |
Flash: | No Flash |
Exposure mode: | Aperture-priority AE |
Max Aperture: | 4.8 |
Resolution: | 1000 x 1000 dpi |
Original Date: | 2019:07:29 10:48:38.90 |
Created on: | 2019:07:29 10:48:38.90 |
Modified on: | 2019:08:24 06:38:51 |
Software: | Adobe Photoshop Lightroom 6.10 (Macintosh) |
Already Applied | True |
Approximate Focus Distance | 2 |
Auto Lateral CA | 0 |
Auto White Version | 134348800 |
Blacks 2012 | +53 |
Blue Hue | 0 |
Blue Saturation | 0 |
CFA Pattern | [Blue,Green][Green,Red] |
Camera Profile | Adobe Standard |
Circle Of Confusion | 0.020 mm |
Clarity 2012 | +32 |
Color Noise Reduction | 25 |
Color Noise Reduction Detail | 50 |
Color Noise Reduction Smoothness | 50 |
Color Space | sRGB |
Color Temperature | 9711 |
Contrast | Normal |
Contrast 2012 | +46 |
Convert To Grayscale | False |
Crop Angle | -0.320842 |
Crop Bottom | 0.991648 |
Crop Constrain To Warp | 0 |
Crop Left | 0.00233 |
Crop Right | 0.99767 |
Crop Top | 0.008352 |
Custom Rendered | Normal |
Date Created | 2019:07:29 10:48:38.90 |
Defringe Green Amount | 0 |
Defringe Green Hue Hi | 60 |
Defringe Green Hue Lo | 40 |
Defringe Purple Amount | 0 |
Defringe Purple Hue Hi | 70 |
Defringe Purple Hue Lo | 30 |
Dehaze | 0 |
Digital Zoom Ratio | 1 |
Exposure 2012 | 0.00 |
Exposure Compensation | -1/3 |
Exposure Mode | Auto |
Field Of View | 24.8 deg |
Focal Length In 35mm Format | 82 mm |
Format | image/jpeg |
Gain Control | Low gain up |
Grain Amount | 0 |
Green Hue | 0 |
Green Saturation | 0 |
Has Crop | True |
Has Settings | True |
Hierarchical Subject | A Board, AF-S DX Nikkor 18-200mm f/3.5-5.6G ED VRII, Argyle Street, Bath, Beercraft, Nikon D40, Pulteney Weir, summer |
Highlights 2012 | 0 |
Hue Adjustment Aqua | 0 |
Hue Adjustment Blue | 0 |
Hue Adjustment Green | 0 |
Hue Adjustment Magenta | 0 |
Hue Adjustment Orange | 0 |
Hue Adjustment Purple | 0 |
Hue Adjustment Red | 0 |
Hue Adjustment Yellow | 0 |
Hyperfocal Distance | 13.65 m |
ISO | 400 |
Image Number | 1415 |
Image Size | 3000x1995 |
Lens | 18.0-200.0 mm f/3.5-5.6 |
Lens ID | AF-S DX VR Zoom-Nikkor 18-200mm f/3.5-5.6G IF-ED [II] or AF-S DX VR Zoom-Nikkor 18-200mm f/3.5-5.6G IF-ED |
Lens Info | 18-200mm f/3.5-5.6 |
Lens Manual Distortion Amount | 0 |
Lens Model | 18.0-200.0 mm f/3.5-5.6 |
Lens Profile Enable | 0 |
Lens Profile Setup | LensDefaults |
Light Source | Unknown |
Light Value | 13.6 |
Luminance Adjustment Aqua | 0 |
Luminance Adjustment Blue | 0 |
Luminance Adjustment Green | +42 |
Luminance Adjustment Magenta | 0 |
Luminance Adjustment Orange | -35 |
Luminance Adjustment Purple | 0 |
Luminance Adjustment Red | +21 |
Luminance Adjustment Yellow | 0 |
Luminance Smoothing | 0 |
Metering Mode | Multi-segment |
Parametric Darks | +59 |
Parametric Highlight Split | 75 |
Parametric Highlights | 0 |
Parametric Lights | +45 |
Parametric Midtone Split | 50 |
Parametric Shadow Split | 25 |
Parametric Shadows | 0 |
Perspective Aspect | 0 |
Perspective Horizontal | 0 |
Perspective Rotate | 0.0 |
Perspective Scale | 100 |
Perspective Upright | 0 |
Perspective Vertical | 0 |
Perspective X | 0.00 |
Perspective Y | 0.00 |
Post Crop Vignette Amount | 0 |
Process Version | 6.7 |
Red Hue | 0 |
Red Saturation | 0 |
Saturation | High |
Saturation Adjustment Aqua | 0 |
Saturation Adjustment Blue | 0 |
Saturation Adjustment Green | 0 |
Saturation Adjustment Magenta | 0 |
Saturation Adjustment Orange | -43 |
Saturation Adjustment Purple | 0 |
Saturation Adjustment Red | 0 |
Saturation Adjustment Yellow | 0 |
Scale Factor To 35 mm Equivalent | 1.5 |
Scene Capture Type | Standard |
Scene Type | Directly photographed |
Sensing Method | One-chip color area |
Shadow Tint | 0 |
Shadows 2012 | 0 |
Sharpen Detail | 48 |
Sharpen Edge Masking | 0 |
Sharpen Radius | +0.8 |
Sharpness | Hard |
Split Toning Balance | 0 |
Split Toning Highlight Hue | 0 |
Split Toning Highlight Saturation | 0 |
Split Toning Shadow Hue | 0 |
Split Toning Shadow Saturation | 0 |
Subject | A Board, AF-S DX Nikkor 18-200mm f/3.5-5.6G ED VRII, Argyle Street, Bath, Beercraft, Nikon D40, Pulteney Weir, summer |
Subject Distance Range | Unknown |
Tint | -6 |
Tone Curve | 0, 0, 255, 255 |
Tone Curve Blue | 0, 0, 255, 255 |
Tone Curve Green | 0, 0, 255, 255 |
Tone Curve Name | Linear |
Tone Curve Name 2012 | Linear |
Tone Curve PV2012 | 0, 0, 255, 255 |
Tone Curve PV2012 Blue | 0, 0, 255, 255 |
Tone Curve PV2012 Green | 0, 0, 255, 255 |
Tone Curve PV2012 Red | 0, 0, 255, 255 |
Tone Curve Red | 0, 0, 255, 255 |
Tone Map Strength | 0 |
Version | 9.10 |
Vibrance | +2 |
Vignette Amount | 0 |
White Balance | Auto |
Whites 2012 | +50 |