Shooting information for this photo
Camera: | Canon EOS 40D |
Exposure: | 0.008 sec. (1/125) |
Aperture: | f/1.4 |
Focal Length: | 50.0 mm (35 mm equivalent: 80.9 mm) |
Flash: | Off, Did not fire |
Exposure mode: | Manual |
Max Aperture: | 1.4 |
Resolution: | 1000 x 1000 dpi |
Original Date: | 2016:04:30 12:29:53.00 |
Created on: | 2016:04:30 12:29:53.00 |
Modified on: | 2019:03:14 15:03:49 |
Software: | Adobe Photoshop Lightroom 6.10 (Macintosh) |
Already Applied | True |
Artist | Paul Smith |
Auto Lateral CA | 0 |
Auto White Version | 134348800 |
Blacks 2012 | 0 |
Blue Hue | 0 |
Blue Saturation | 0 |
Camera Profile | Embedded |
Circle Of Confusion | 0.019 mm |
Clarity 2012 | +82 |
Color Noise Reduction | 0 |
Color Space | sRGB |
Contrast 2012 | +54 |
Convert To Grayscale | False |
Creator | Paul Smith |
Custom Rendered | Normal |
Date Created | 2016:04:30 12:29:53.00 |
Defringe Green Amount | 0 |
Defringe Green Hue Hi | 60 |
Defringe Green Hue Lo | 40 |
Defringe Purple Amount | 3 |
Defringe Purple Hue Hi | 84 |
Defringe Purple Hue Lo | 13 |
Dehaze | 0 |
Exposure 2012 | +0.45 |
Exposure Compensation | 0 |
Exposure Mode | Manual |
Field Of View | 25.1 deg |
Firmware | 1.0.3 |
Flash Compensation | 0 |
Format | image/jpeg |
Grain Amount | 0 |
Green Hue | 0 |
Green Saturation | 0 |
Has Crop | False |
Has Settings | True |
Hierarchical Subject | Chinon 55mm f/1.4, M42, depth of field, pencil shavings, pencils |
Highlights 2012 | +23 |
Hue Adjustment Aqua | 0 |
Hue Adjustment Blue | 0 |
Hue Adjustment Green | 0 |
Hue Adjustment Magenta | 0 |
Hue Adjustment Orange | 0 |
Hue Adjustment Purple | 0 |
Hue Adjustment Red | 0 |
Hue Adjustment Yellow | 0 |
Hyperfocal Distance | 96.21 m |
ISO | 1600 |
Image Number | 0 |
Image Size | 3000x2000 |
Incremental Temperature | -12 |
Incremental Tint | 0 |
Lens | 1-65535mm |
Lens ID | Canon EF 35-80mm f/4-5.6 |
Lens Manual Distortion Amount | 0 |
Lens Model | 1-65535mm |
Lens Profile Enable | 0 |
Lens Profile Setup | LensDefaults |
Light Value | 3.9 |
Luminance Adjustment Aqua | 0 |
Luminance Adjustment Blue | -22 |
Luminance Adjustment Green | 0 |
Luminance Adjustment Magenta | -15 |
Luminance Adjustment Orange | 0 |
Luminance Adjustment Purple | -100 |
Luminance Adjustment Red | +58 |
Luminance Adjustment Yellow | 0 |
Luminance Smoothing | 0 |
Metering Mode | Multi-segment |
Owner Name | Paul Smith |
Parametric Darks | 0 |
Parametric Highlight Split | 75 |
Parametric Highlights | 0 |
Parametric Lights | +33 |
Parametric Midtone Split | 50 |
Parametric Shadow Split | 25 |
Parametric Shadows | 0 |
Perspective Aspect | 0 |
Perspective Horizontal | 0 |
Perspective Rotate | 0.0 |
Perspective Scale | 100 |
Perspective Upright | 0 |
Perspective Vertical | 0 |
Perspective X | 0.00 |
Perspective Y | 0.00 |
Post Crop Vignette Amount | 0 |
Process Version | 6.7 |
Red Hue | 0 |
Red Saturation | 0 |
Saturation | 0 |
Saturation Adjustment Aqua | 0 |
Saturation Adjustment Blue | 0 |
Saturation Adjustment Green | 0 |
Saturation Adjustment Magenta | 0 |
Saturation Adjustment Orange | 0 |
Saturation Adjustment Purple | 0 |
Saturation Adjustment Red | 0 |
Saturation Adjustment Yellow | 0 |
Scale Factor To 35 mm Equivalent | 1.6 |
Scene Capture Type | Standard |
Shadow Tint | 0 |
Shadows 2012 | +11 |
Sharpen Detail | 42 |
Sharpen Edge Masking | 0 |
Sharpen Radius | +1.6 |
Sharpness | 53 |
Split Toning Balance | 0 |
Split Toning Highlight Hue | 0 |
Split Toning Highlight Saturation | 0 |
Split Toning Shadow Hue | 0 |
Split Toning Shadow Saturation | 0 |
Subject | Chinon 55mm f/1.4, M42, depth of field, pencil shavings, pencils |
Tone Curve | 0, 0, 255, 255 |
Tone Curve Blue | 0, 0, 255, 255 |
Tone Curve Green | 0, 0, 255, 255 |
Tone Curve Name | Linear |
Tone Curve Name 2012 | Linear |
Tone Curve PV2012 | 0, 0, 255, 255 |
Tone Curve PV2012 Blue | 0, 0, 255, 255 |
Tone Curve PV2012 Green | 0, 0, 255, 255 |
Tone Curve PV2012 Red | 0, 0, 255, 255 |
Tone Curve Red | 0, 0, 255, 255 |
Tone Map Strength | 0 |
Version | 9.10 |
Vibrance | +37 |
Vignette Amount | 0 |
White Balance | Auto |
Whites 2012 | 0 |