Shooting information for this photo
Camera: | NIKON CORPORATION NIKON D2Xs |
Exposure: | 0.00556 sec. (1/180) |
Aperture: | f/6.7 |
Focal Length: | 60.0 mm (35 mm equivalent: 90.0 mm) |
Flash: | No Flash |
Exposure mode: | Program AE |
Max Aperture: | 2.8 |
Resolution: | 1000 x 1000 dpi |
Original Date: | 2014:08:19 07:04:29.57 |
Created on: | 2014:08:19 07:04:29.57 |
Modified on: | 2017:12:23 04:08:08 |
Software: | Adobe Photoshop Lightroom 6.10 (Macintosh) |
Already Applied | True |
Auto Lateral CA | 0 |
Auto White Version | 134348800 |
Blacks 2012 | 0 |
Blue Hue | 0 |
Blue Saturation | 0 |
Camera Profile | Embedded |
Circle Of Confusion | 0.020 mm |
Clarity 2012 | +37 |
Color Noise Reduction | 0 |
Color Space | sRGB |
Contrast | High |
Contrast 2012 | -88 |
Convert To Grayscale | False |
Custom Rendered | Normal |
Date Created | 2014:08:19 07:04:29.57 |
Defringe Green Amount | 0 |
Defringe Green Hue Hi | 60 |
Defringe Green Hue Lo | 40 |
Defringe Purple Amount | 0 |
Defringe Purple Hue Hi | 70 |
Defringe Purple Hue Lo | 30 |
Dehaze | 0 |
Digital Zoom Ratio | 1 |
Exposure 2012 | +0.65 |
Exposure Compensation | +1/3 |
Exposure Mode | Auto |
Field Of View | 22.6 deg |
Flash Compensation | 0 |
Focal Length In 35mm Format | 90 mm |
Format | image/jpeg |
Gradient Based Corr Active | true |
Gradient Based Corr Amount | 1.000000 |
Gradient Based Corr Brightness | 0.000000 |
Gradient Based Corr Clarity 2012 | 0.000000 |
Gradient Based Corr Contrast 2012 | 0.000000 |
Gradient Based Corr Defringe | 0.000000 |
Gradient Based Corr Exposure 2012 | -0.490187 |
Gradient Based Corr Highlights 2012 | -0.175400 |
Gradient Based Corr Hue | 186.003998 |
Gradient Based Corr Local Blacks 2012 | 0.000000 |
Gradient Based Corr Local Dehaze | 0.000000 |
Gradient Based Corr Local Whites 2012 | 0.000000 |
Gradient Based Corr Luminance Noise | 0.000000 |
Gradient Based Corr Mask Full X | 0.470662 |
Gradient Based Corr Mask Full Y | 0.003099 |
Gradient Based Corr Mask Value | 1.000000 |
Gradient Based Corr Mask What | Mask/Gradient |
Gradient Based Corr Mask Zero X | 0.470662 |
Gradient Based Corr Mask Zero Y | 0.336136 |
Gradient Based Corr Moire | 0.000000 |
Gradient Based Corr Saturation | 0.235039 |
Gradient Based Corr Shadows 2012 | 0.359470 |
Gradient Based Corr Sharpness | 0.000000 |
Gradient Based Corr Temperature | -0.477039 |
Gradient Based Corr Tint | 0.973323 |
Gradient Based Corr What | Correction |
Grain Amount | 0 |
Green Hue | 0 |
Green Saturation | 0 |
Has Crop | False |
Has Settings | True |
Hierarchical Subject | Lyme, Lyme Bay, Lyme Regis, Sea, girl, man, people |
Highlights 2012 | -24 |
Hue Adjustment Aqua | 0 |
Hue Adjustment Blue | 0 |
Hue Adjustment Green | 0 |
Hue Adjustment Magenta | 0 |
Hue Adjustment Orange | 0 |
Hue Adjustment Purple | 0 |
Hue Adjustment Red | 0 |
Hue Adjustment Yellow | 0 |
Hyperfocal Distance | 26.82 m |
ISO | 200 |
Image Number | 57699 |
Image Size | 3000x2000 |
Incremental Temperature | 0 |
Incremental Tint | -32 |
Lens | Tokina AT-X 535 PRO DX - AF 50-135mm f/2.8 |
Lens ID | Tokina AT-X 535 PRO DX - AF 50-135mm f/2.8 |
Lens Manual Distortion Amount | 0 |
Lens Model | Tokina AT-X 535 PRO DX - AF 50-135mm f/2.8 |
Lens Profile Enable | 0 |
Lens Profile Setup | LensDefaults |
Light Source | Unknown |
Light Value | 12.0 |
Luminance Adjustment Aqua | 0 |
Luminance Adjustment Blue | 0 |
Luminance Adjustment Green | 0 |
Luminance Adjustment Magenta | 0 |
Luminance Adjustment Orange | 0 |
Luminance Adjustment Purple | 0 |
Luminance Adjustment Red | 0 |
Luminance Adjustment Yellow | 0 |
Luminance Smoothing | 0 |
Metering Mode | Multi-segment |
Parametric Darks | -9 |
Parametric Highlight Split | 75 |
Parametric Highlights | 0 |
Parametric Lights | -21 |
Parametric Midtone Split | 50 |
Parametric Shadow Split | 25 |
Parametric Shadows | 0 |
Perspective Aspect | 0 |
Perspective Horizontal | 0 |
Perspective Rotate | 0.0 |
Perspective Scale | 100 |
Perspective Upright | 0 |
Perspective Vertical | 0 |
Perspective X | 0.00 |
Perspective Y | 0.00 |
Post Crop Vignette Amount | 0 |
Process Version | 6.7 |
Red Hue | 0 |
Red Saturation | 0 |
Saturation | Normal |
Saturation Adjustment Aqua | 0 |
Saturation Adjustment Blue | 0 |
Saturation Adjustment Green | 0 |
Saturation Adjustment Magenta | 0 |
Saturation Adjustment Orange | 0 |
Saturation Adjustment Purple | 0 |
Saturation Adjustment Red | 0 |
Saturation Adjustment Yellow | 0 |
Scale Factor To 35 mm Equivalent | 1.5 |
Scene Capture Type | Standard |
Sensing Method | One-chip color area |
Shadow Tint | 0 |
Shadows 2012 | +24 |
Sharpen Detail | 25 |
Sharpen Edge Masking | 0 |
Sharpen Radius | +1.0 |
Sharpness | Hard |
Split Toning Balance | 0 |
Split Toning Highlight Hue | 0 |
Split Toning Highlight Saturation | 0 |
Split Toning Shadow Hue | 0 |
Split Toning Shadow Saturation | 0 |
Subject | Lyme, Lyme Bay, Lyme Regis, Sea, girl, man, people |
Subject Distance Range | Unknown |
Title | DSC_0363.JPG flickr copy |
Tone Curve | 0, 0, 255, 255 |
Tone Curve Blue | 0, 0, 255, 255 |
Tone Curve Green | 0, 0, 255, 255 |
Tone Curve Name | Linear |
Tone Curve Name 2012 | Linear |
Tone Curve PV2012 | 0, 0, 255, 255 |
Tone Curve PV2012 Blue | 0, 0, 255, 255 |
Tone Curve PV2012 Green | 0, 0, 255, 255 |
Tone Curve PV2012 Red | 0, 0, 255, 255 |
Tone Curve Red | 0, 0, 255, 255 |
Tone Map Strength | 0 |
Version | 9.10 |
Vibrance | +9 |
Vignette Amount | 0 |
White Balance | Auto |
Whites 2012 | 0 |