Shooting information for this photo
Camera: | NIKON CORPORATION NIKON D700 |
Exposure: | 0.0025 sec. (1/400) |
Aperture: | f/10.0 |
Focal Length: | 60.0 mm (35 mm equivalent: 60.0 mm) |
Flash: | No Flash |
Exposure mode: | Program AE |
Max Aperture: | 4.3 |
Resolution: | 240 x 240 dpi |
Dimension: | 2800 x 1866 pixels |
Original Date: | 2018:04:02 14:01:04.25 |
Created on: | 2018:04:02 14:01:04.25 |
Modified on: | 2018:04:04 16:56:58.25 |
Software: | Adobe Photoshop CC (Macintosh) |
Copyright: | Wolfgang Pfriemer |
Already Applied | True |
Approximate Focus Distance | 1 |
Artist | Wolfgang Pfriemer |
Auto Lateral CA | 0 |
Blacks 2012 | +57 |
Blue Hue | 0 |
Blue Saturation | 0 |
CFA Pattern | [Red,Green][Green,Blue] |
Camera Profile | Adobe Standard |
Circle Of Confusion | 0.030 mm |
Clarity 2012 | 0 |
Color Mode | RGB |
Color Noise Reduction | 25 |
Color Noise Reduction Detail | 50 |
Color Noise Reduction Smoothness | 50 |
Color Space | sRGB |
Color Temperature | 5050 |
Contrast | Normal |
Contrast 2012 | 0 |
Convert To Grayscale | False |
Creator | Wolfgang Pfriemer |
Crop Angle | 0 |
Crop Bottom | 0.822878 |
Crop Constrain To Warp | 0 |
Crop Left | 0.085285 |
Crop Right | 0.847817 |
Crop Top | 0.05891 |
Custom Rendered | Normal |
Date Created | 2018:04:02 14:01:04.025 |
Defringe Green Amount | 0 |
Defringe Green Hue Hi | 60 |
Defringe Green Hue Lo | 40 |
Defringe Purple Amount | 0 |
Defringe Purple Hue Hi | 70 |
Defringe Purple Hue Lo | 30 |
Dehaze | +99 |
Digital Zoom Ratio | 1 |
Exposure 2012 | -0.10 |
Exposure Compensation | +1/3 |
Exposure Mode | Auto |
Field Of View | 33.4 deg |
Focal Length In 35mm Format | 60 mm |
Format | image/jpeg |
Gain Control | Low gain up |
Grain Amount | 0 |
Green Hue | 0 |
Green Saturation | 0 |
Has Crop | True |
Has Settings | True |
Highlights 2012 | -100 |
Hue Adjustment Aqua | 0 |
Hue Adjustment Blue | 0 |
Hue Adjustment Green | 0 |
Hue Adjustment Magenta | 0 |
Hue Adjustment Orange | 0 |
Hue Adjustment Purple | 0 |
Hue Adjustment Red | 0 |
Hue Adjustment Yellow | 0 |
Hyperfocal Distance | 11.98 m |
ICC Profile Name | sRGB IEC61966-2.1 |
ISO | 800 |
Image Number | 58933 |
Image Size | 2800x1866 |
Lens | 28.0-105.0 mm f/3.5-4.5 |
Lens ID | AF Zoom-Nikkor 28-105mm f/3.5-4.5D IF |
Lens Info | 28-105mm f/3.5-4.5 |
Lens Manual Distortion Amount | 0 |
Lens Model | 28.0-105.0 mm f/3.5-4.5 |
Lens Profile Enable | 0 |
Lens Profile Setup | LensDefaults |
Light Source | Unknown |
Light Value | 12.3 |
Luminance Adjustment Aqua | 0 |
Luminance Adjustment Blue | 0 |
Luminance Adjustment Green | 0 |
Luminance Adjustment Magenta | 0 |
Luminance Adjustment Orange | 0 |
Luminance Adjustment Purple | 0 |
Luminance Adjustment Red | 0 |
Luminance Adjustment Yellow | 0 |
Luminance Smoothing | 0 |
Metering Mode | Multi-segment |
Parametric Darks | 0 |
Parametric Highlight Split | 75 |
Parametric Highlights | 0 |
Parametric Lights | 0 |
Parametric Midtone Split | 50 |
Parametric Shadow Split | 25 |
Parametric Shadows | 0 |
Perspective Aspect | 0 |
Perspective Horizontal | 0 |
Perspective Rotate | 0.0 |
Perspective Scale | 100 |
Perspective Upright | 0 |
Perspective Vertical | 0 |
Perspective X | 0.00 |
Perspective Y | 0.00 |
Post Crop Vignette Amount | 0 |
Process Version | 10.0 |
Rating | 0 |
Raw File Name | DSC_9290.NEF |
Red Hue | 0 |
Red Saturation | 0 |
Rights | Wolfgang Pfriemer |
Saturation | Normal |
Saturation Adjustment Aqua | 0 |
Saturation Adjustment Blue | 0 |
Saturation Adjustment Green | 0 |
Saturation Adjustment Magenta | 0 |
Saturation Adjustment Orange | 0 |
Saturation Adjustment Purple | 0 |
Saturation Adjustment Red | 0 |
Saturation Adjustment Yellow | 0 |
Scale Factor To 35 mm Equivalent | 1.0 |
Scene Capture Type | Standard |
Scene Type | Directly photographed |
Sensing Method | One-chip color area |
Shadow Tint | 0 |
Shadows 2012 | +63 |
Sharpen Detail | 25 |
Sharpen Edge Masking | 0 |
Sharpen Radius | +1.0 |
Sharpness | Normal |
Split Toning Balance | 0 |
Split Toning Highlight Hue | 0 |
Split Toning Highlight Saturation | 0 |
Split Toning Shadow Hue | 0 |
Split Toning Shadow Saturation | 0 |
Subject Distance Range | Unknown |
Tint | +1 |
Tone Curve | 0, 0, 32, 22, 64, 56, 128, 128, 192, 196, 255, 255 |
Tone Curve Blue | 0, 0, 255, 255 |
Tone Curve Green | 0, 0, 255, 255 |
Tone Curve Name | Medium Contrast |
Tone Curve Name 2012 | Linear |
Tone Curve PV2012 | 0, 0, 255, 255 |
Tone Curve PV2012 Blue | 0, 0, 255, 255 |
Tone Curve PV2012 Green | 0, 0, 255, 255 |
Tone Curve PV2012 Red | 0, 0, 255, 255 |
Tone Curve Red | 0, 0, 255, 255 |
Version | 10.2 |
Vibrance | 0 |
Vignette Amount | 0 |
White Balance | Auto |
Whites 2012 | -58 |
GPS Information |
GPS Altitude | 138 m Above Sea Level |
GPS Altitude Ref | Above Sea Level |
GPS Date Stamp | 2018:04:02 |
GPS Date/Time | 2018:04:02 06:01:20Z |
GPS Latitude | 8 deg 32' 32.39" S |
GPS Latitude Ref | South |
GPS Longitude | 115 deg 10' 21.56" E |
GPS Longitude Ref | East |
GPS Position | 8 deg 32' 32.39" S, 115 deg 10' 21.56" E |
GPS Satellites | 12 |
GPS Time Stamp | 06:01:20 |
GPS Version ID | 2.2.0.0 |