Shooting information for this photo
Camera: | NIKON CORPORATION NIKON D7000 |
Exposure: | 2.5 sec. |
Aperture: | f/10.0 |
Focal Length: | 26.0 mm (35 mm equivalent: 39.0 mm) |
Flash: | Off, Did not fire |
Exposure mode: | Manual |
Max Aperture: | 4.0 |
Resolution: | 240 x 240 dpi |
Original Date: | 2016:05:28 22:34:51.30 |
Created on: | 2016:05:28 22:34:51.30 |
Modified on: | 2016:05:29 20:40:31 |
Software: | Adobe Photoshop Lightroom 5.7 (Windows) |
Copyright: | uwschu |
Already Applied | True |
Approximate Focus Distance | 4294967295 |
Artist | uwschu |
Auto Lateral CA | 0 |
Auto White Version | 134348800 |
Blacks 2012 | -5 |
Blue Hue | 0 |
Blue Saturation | 0 |
CFA Pattern | [Red,Green][Green,Blue] |
Camera Profile | Adobe Standard |
Circle Of Confusion | 0.020 mm |
Clarity 2012 | +32 |
Color Noise Reduction | 25 |
Color Noise Reduction Detail | 50 |
Color Noise Reduction Smoothness | 50 |
Color Temperature | 5204 |
Contrast | Normal |
Contrast 2012 | +30 |
Convert To Grayscale | False |
Creator | uwschu |
Crop Angle | 0 |
Crop Bottom | 0.89 |
Crop Constrain To Warp | 0 |
Crop Left | 0 |
Crop Right | 1 |
Crop Top | 0 |
Custom Rendered | Custom |
Date Created | 2016:05:28 22:34:51.30 |
Defringe Green Amount | 0 |
Defringe Green Hue Hi | 60 |
Defringe Green Hue Lo | 40 |
Defringe Purple Amount | 0 |
Defringe Purple Hue Hi | 70 |
Defringe Purple Hue Lo | 30 |
Digital Zoom Ratio | 1 |
Exposure 2012 | +0.63 |
Exposure Compensation | 0 |
Exposure Mode | Manual |
Field Of View | 49.6 deg |
Focal Length In 35mm Format | 39 mm |
Format | image/jpeg |
Gain Control | None |
Grain Amount | 0 |
Green Hue | 0 |
Green Saturation | 0 |
Has Crop | True |
Has Settings | True |
Highlights 2012 | -50 |
Hue Adjustment Aqua | 0 |
Hue Adjustment Blue | 0 |
Hue Adjustment Green | 0 |
Hue Adjustment Magenta | 0 |
Hue Adjustment Orange | 0 |
Hue Adjustment Purple | 0 |
Hue Adjustment Red | 0 |
Hue Adjustment Yellow | 0 |
Hyperfocal Distance | 3.37 m |
ISO | 100 |
Image Number | 26290 |
Image Size | 4928x2905 |
Lens | 18.0-105.0 mm f/3.5-5.6 |
Lens ID | AF-S DX VR Zoom-Nikkor 18-105mm f/3.5-5.6G ED |
Lens Info | 18-105mm f/3.5-5.6 |
Lens Manual Distortion Amount | 0 |
Lens Model | 18.0-105.0 mm f/3.5-5.6 |
Lens Profile Enable | 0 |
Lens Profile Setup | LensDefaults |
Light Source | Unknown |
Light Value | 5.3 |
Luminance Adjustment Aqua | 0 |
Luminance Adjustment Blue | -32 |
Luminance Adjustment Green | 0 |
Luminance Adjustment Magenta | 0 |
Luminance Adjustment Orange | 0 |
Luminance Adjustment Purple | 0 |
Luminance Adjustment Red | 0 |
Luminance Adjustment Yellow | 0 |
Luminance Noise Reduction Contrast | 0 |
Luminance Noise Reduction Detail | 50 |
Luminance Smoothing | 18 |
Metering Mode | Multi-segment |
Parametric Darks | 0 |
Parametric Highlight Split | 75 |
Parametric Highlights | 0 |
Parametric Lights | 0 |
Parametric Midtone Split | 50 |
Parametric Shadow Split | 25 |
Parametric Shadows | 0 |
Perspective Aspect | 0 |
Perspective Horizontal | 0 |
Perspective Rotate | 0.0 |
Perspective Scale | 100 |
Perspective Upright | 0 |
Perspective Vertical | 0 |
Post Crop Vignette Amount | 0 |
Process Version | 6.7 |
Red Hue | 0 |
Red Saturation | 0 |
Rights | uwschu |
Saturation | Normal |
Saturation Adjustment Aqua | 0 |
Saturation Adjustment Blue | +38 |
Saturation Adjustment Green | 0 |
Saturation Adjustment Magenta | 0 |
Saturation Adjustment Orange | 0 |
Saturation Adjustment Purple | 0 |
Saturation Adjustment Red | +45 |
Saturation Adjustment Yellow | 0 |
Scale Factor To 35 mm Equivalent | 1.5 |
Scene Capture Type | Standard |
Scene Type | Directly photographed |
Sensing Method | One-chip color area |
Sensitivity Type | Recommended Exposure Index |
Shadow Tint | 0 |
Shadows 2012 | 0 |
Sharpen Detail | 25 |
Sharpen Edge Masking | 62 |
Sharpen Radius | +1.0 |
Sharpness | Normal |
Split Toning Balance | 0 |
Split Toning Highlight Hue | 0 |
Split Toning Highlight Saturation | 0 |
Split Toning Shadow Hue | 0 |
Split Toning Shadow Saturation | 0 |
Subject Distance Range | Unknown |
Tint | -1 |
Tone Curve | 0, 0, 255, 255 |
Tone Curve Blue | 0, 0, 255, 255 |
Tone Curve Green | 0, 0, 255, 255 |
Tone Curve Name | Linear |
Tone Curve Name 2012 | Linear |
Tone Curve PV2012 | 0, 0, 255, 255 |
Tone Curve PV2012 Blue | 0, 0, 255, 255 |
Tone Curve PV2012 Green | 0, 0, 255, 255 |
Tone Curve PV2012 Red | 0, 0, 255, 255 |
Tone Curve Red | 0, 0, 255, 255 |
Version | 8.7 |
Vibrance | +81 |
Vignette Amount | 0 |
White Balance | Auto |
Whites 2012 | +20 |