Shooting information for this photo
Camera: | NIKON CORPORATION NIKON D200 |
Exposure: | 0.002 sec. (1/500) |
Aperture: | f/11.0 |
Focal Length: | 60.0 mm (35 mm equivalent: 90.0 mm) |
Flash: | No Flash |
Exposure mode: | Program AE |
Max Aperture: | 3.9 |
Resolution: | 180 x 180 dpi |
Dimension: | 2160 x 1620 pixels |
Original Date: | 2008:06:30 17:08:01.90 |
Digitized Date: | 2008:06:30 17:08:01.90-05:00 |
Created on: | 2008:06:30 17:08:01.90 |
Modified on: | 2008:07:16 21:34:19.90 |
Software: | Adobe Photoshop CS3 Macintosh |
Copyright: | ©Marina van der Linden |
Already Applied | True |
Blue Hue | 0 |
Blue Saturation | 0 |
Brightness | +60 |
CFA Pattern | [Green,Red][Blue,Green] |
Camera Profile | ACR 3.3 |
Chromatic Aberration B | 0 |
Chromatic Aberration R | 0 |
Circle Of Confusion | 0.020 mm |
Color Mode | RGB |
Color Noise Reduction | 36 |
Color Space | Uncalibrated |
Color Temperature | 5150 |
Contrast | +29 |
Convert To Grayscale | False |
Custom Rendered | Normal |
Digital Zoom Ratio | 1 |
Exposure | +0.30 |
Exposure Compensation | -1/3 |
Exposure Mode | Auto |
Field Of View | 22.6 deg |
Fill Light | 0 |
Flash Fired | False |
Flash Function | False |
Flash Mode | Unknown |
Flash Red Eye Mode | False |
Flash Return | No return detection |
Focal Length In 35mm Format | 90 mm |
Format | image/jpeg |
Gain Control | Low gain up |
Green Hue | 0 |
Green Saturation | 0 |
Has Crop | False |
Has Settings | True |
Highlight Recovery | 0 |
Hue Adjustment Aqua | 0 |
Hue Adjustment Blue | 0 |
Hue Adjustment Green | 0 |
Hue Adjustment Magenta | 0 |
Hue Adjustment Orange | 0 |
Hue Adjustment Purple | 0 |
Hue Adjustment Red | 0 |
Hue Adjustment Yellow | 0 |
Hyperfocal Distance | 16.34 m |
ICC Profile Name | Adobe RGB (1998) |
ISO | 400 |
Image Number | 14552 |
Image Size | 2160x1620 |
Lens | 24.0-85.0 mm f/2.8-4.0 |
Lens Info | 24-85mm f/2.8-4 |
Light Source | Unknown |
Light Value | 13.9 |
Luminance Adjustment Aqua | 0 |
Luminance Adjustment Blue | 0 |
Luminance Adjustment Green | 0 |
Luminance Adjustment Magenta | 0 |
Luminance Adjustment Orange | 0 |
Luminance Adjustment Purple | 0 |
Luminance Adjustment Red | 0 |
Luminance Adjustment Yellow | 0 |
Luminance Smoothing | 13 |
Marked | True |
Metering Mode | Multi-segment |
Parametric Darks | 0 |
Parametric Highlight Split | 75 |
Parametric Highlights | 0 |
Parametric Lights | 0 |
Parametric Midtone Split | 50 |
Parametric Shadow Split | 25 |
Parametric Shadows | 0 |
Rating | 0 |
Raw File Name | NMN_0493.NEF |
Red Hue | 0 |
Red Saturation | 0 |
Rights | ©Marina van der Linden |
Saturation | +8 |
Saturation Adjustment Aqua | 0 |
Saturation Adjustment Blue | 0 |
Saturation Adjustment Green | 0 |
Saturation Adjustment Magenta | 0 |
Saturation Adjustment Orange | 0 |
Saturation Adjustment Purple | 0 |
Saturation Adjustment Red | 0 |
Saturation Adjustment Yellow | 0 |
Scale Factor To 35 mm Equivalent | 1.5 |
Scene Capture Type | Standard |
Scene Type | Directly photographed |
Sensing Method | One-chip color area |
Shadow Tint | 0 |
Shadows | 8 |
Sharpness | 29 |
Sidecar For Extension | NEF |
Split Toning Balance | 0 |
Split Toning Highlight Hue | 0 |
Split Toning Highlight Saturation | 0 |
Split Toning Shadow Hue | 0 |
Split Toning Shadow Saturation | 0 |
Startup Profile | |
Subject | buildings, reflection, city, Vancouver, crane, construction |
Subject Distance Range | Unknown |
Time Zone Offset | -5 -5 |
Tint | -2 |
Title | Under construction |
Tone Curve | 0, 0, 32, 22, 64, 56, 128, 128, 192, 196, 255, 255 |
Tone Curve Name | Medium Contrast |
Version | 4.0 |
Vibrance | +10 |
Vignette Amount | 0 |
White Balance | Custom |