Shooting information for this photo
Camera: | PENTAX Corporation PENTAX Optio S |
Exposure: | 0.0125 sec. (1/80) |
Aperture: | f/2.6 |
Focal Length: | 5.8 mm (35 mm equivalent: 35.0 mm) |
Flash: | Off, Did not fire |
Exposure mode: | Program AE |
Max Aperture: | 2.6 |
Resolution: | 240 x 240 dpi |
Dimension: | 2048 x 1536 pixels |
Original Date: | 2018:03:11 14:45:49 |
Digitized Date: | 2018:03:11 14:45:49-07:00 |
Created on: | 2018:03:11 14:45:49 |
Modified on: | 2018:03:16 23:30:56 |
Software: | Optio S V1.00 |
Copyright: | Laura Fletcher |
Already Applied | True |
Blue Hue | 0 |
Blue Saturation | 0 |
Brightness | 0 |
Camera Profile | Embedded |
Chromatic Aberration B | 0 |
Chromatic Aberration R | 0 |
Circle Of Confusion | 0.005 mm |
Clarity | +100 |
Color Noise Reduction | 0 |
Contrast | Normal |
Convert To Grayscale | False |
Creator | Laura Fletcher - raingirl photos |
Custom Rendered | Normal |
Defringe | 0 |
Exposure | +0.38 |
Exposure Compensation | 0 |
Exposure Mode | Auto |
Field Of View | 54.4 deg |
Fill Light | 0 |
Flash Fired | False |
Flash Function | False |
Flash Mode | Off |
Flash Red Eye Mode | False |
Flash Return | No return detection |
Focal Length In 35mm Format | 35 mm |
Gain Control | Low gain down |
Green Hue | 0 |
Green Saturation | 0 |
Has Crop | False |
Has Settings | True |
Highlight Recovery | 0 |
Hue Adjustment Aqua | 0 |
Hue Adjustment Blue | 0 |
Hue Adjustment Green | 0 |
Hue Adjustment Magenta | 0 |
Hue Adjustment Orange | 0 |
Hue Adjustment Purple | 0 |
Hue Adjustment Red | 0 |
Hue Adjustment Yellow | 0 |
Hyperfocal Distance | 2.60 m |
Image Size | 2048x1536 |
Incremental Temperature | 0 |
Incremental Tint | 0 |
Light Source | Shade |
Luminance Adjustment Aqua | 0 |
Luminance Adjustment Blue | 0 |
Luminance Adjustment Green | 0 |
Luminance Adjustment Magenta | 0 |
Luminance Adjustment Orange | 0 |
Luminance Adjustment Purple | 0 |
Luminance Adjustment Red | 0 |
Luminance Adjustment Yellow | 0 |
Luminance Smoothing | 0 |
Marked | True |
Metering Mode | Spot |
Parametric Darks | 0 |
Parametric Highlight Split | 75 |
Parametric Highlights | 0 |
Parametric Lights | +81 |
Parametric Midtone Split | 50 |
Parametric Shadow Split | 25 |
Parametric Shadows | -38 |
Post Crop Vignette Amount | 0 |
Red Hue | 0 |
Red Saturation | 0 |
Rights | Laura Fletcher |
Saturation | Normal |
Saturation Adjustment Aqua | 0 |
Saturation Adjustment Blue | 0 |
Saturation Adjustment Green | 0 |
Saturation Adjustment Magenta | 0 |
Saturation Adjustment Orange | 0 |
Saturation Adjustment Purple | 0 |
Saturation Adjustment Red | 0 |
Saturation Adjustment Yellow | 0 |
Scale Factor To 35 mm Equivalent | 6.0 |
Scene Capture Type | Standard |
Shadow Tint | 0 |
Shadows | 0 |
Sharpen Detail | 25 |
Sharpen Edge Masking | 0 |
Sharpen Radius | +1.0 |
Sharpness | Normal |
Split Toning Balance | 0 |
Split Toning Highlight Hue | 0 |
Split Toning Highlight Saturation | 0 |
Split Toning Shadow Hue | 0 |
Split Toning Shadow Saturation | 0 |
Subject | HFF, art, bamboo leaves, bishop's close, garden, ipernity, nature, railing |
Subject Distance Range | Close |
Tone Curve | 0, 0, 255, 255 |
Tone Curve Name | Linear |
Version | 5.3 |
Vibrance | 0 |
Vignette Amount | 0 |
White Balance | Manual |