Shooting information for this photo
Camera: | Canon EOS 5D Mark II |
Exposure: | 1 sec. |
Aperture: | f/22.0 |
Focal Length: | 16.0 mm (35 mm equivalent: 109.8 mm) |
Flash: | Off, Did not fire |
Exposure mode: | Bulb |
Max Aperture: | 2.8 |
Resolution: | 72 x 72 dpi |
Dimension: | 800 x 531 pixels |
Original Date: | 2010:06:14 11:33:15.83 |
Digitized Date: | 2010:06:14 11:33:15.83Z |
Created on: | 2010:06:14 11:33:15.83 |
Modified on: | 2010:07:05 18:04:07 |
Software: | Adobe Photoshop CS4 Macintosh |
Copyright: | Ragnheiður Arngrímsdóttir |
Already Applied | True |
Artist | Ragnheiður Arngrímsdóttir |
Authors Position | Photographer |
Blue Hue | 0 |
Blue Saturation | 0 |
Brightness | +50 |
Camera Profile | Adobe Standard |
Chromatic Aberration B | 0 |
Chromatic Aberration R | 0 |
Circle Of Confusion | 0.004 mm |
Clarity | +70 |
Color Mode | RGB |
Color Noise Reduction | 25 |
Color Space | Uncalibrated |
Color Temperature | 5350 |
Contrast | +25 |
Convert To Grayscale | False |
Creator | Ragnheiður Arngrímsdóttir |
Custom Rendered | Normal |
Defringe | 0 |
Exposure | -0.85 |
Exposure Compensation | 0 |
Exposure Mode | Auto |
Field Of View | 18.6 deg |
Fill Light | 61 |
Firmware | 1.1.0 |
Flash Compensation | 0 |
Flash Fired | False |
Flash Function | False |
Flash Mode | Off |
Flash Red Eye Mode | False |
Flash Return | No return detection |
Format | image/jpeg |
Green Hue | 0 |
Green Saturation | 0 |
Has Crop | False |
Has Settings | True |
Highlight Recovery | 0 |
Hue Adjustment Aqua | 0 |
Hue Adjustment Blue | 0 |
Hue Adjustment Green | 0 |
Hue Adjustment Magenta | 0 |
Hue Adjustment Orange | 0 |
Hue Adjustment Purple | 0 |
Hue Adjustment Red | 0 |
Hue Adjustment Yellow | 0 |
Hyperfocal Distance | 2.66 m |
ICC Profile Name | Adobe RGB (1998) |
ISO | 50 |
Image Number | 0 |
Image Size | 800x531 |
Lens | EF16-35mm f/2.8L USM |
Lens Info | 16-35mm f/? |
Light Value | 9.9 |
Luminance Adjustment Aqua | 0 |
Luminance Adjustment Blue | 0 |
Luminance Adjustment Green | 0 |
Luminance Adjustment Magenta | 0 |
Luminance Adjustment Orange | 0 |
Luminance Adjustment Purple | 0 |
Luminance Adjustment Red | 0 |
Luminance Adjustment Yellow | 0 |
Luminance Smoothing | 0 |
Marked | True |
Metering Mode | Multi-segment |
Owner Name | Ragnheidur Arngrimsdottir |
Parametric Darks | 0 |
Parametric Highlight Split | 75 |
Parametric Highlights | 0 |
Parametric Lights | 0 |
Parametric Midtone Split | 50 |
Parametric Shadow Split | 25 |
Parametric Shadows | 0 |
Post Crop Vignette Amount | -51 |
Post Crop Vignette Feather | 100 |
Post Crop Vignette Midpoint | 50 |
Post Crop Vignette Roundness | 0 |
Red Hue | 0 |
Red Saturation | 0 |
Rights | Ragnheiður Arngrímsdóttir |
Saturation | -53 |
Saturation Adjustment Aqua | 0 |
Saturation Adjustment Blue | 0 |
Saturation Adjustment Green | 0 |
Saturation Adjustment Magenta | 0 |
Saturation Adjustment Orange | 0 |
Saturation Adjustment Purple | 0 |
Saturation Adjustment Red | 0 |
Saturation Adjustment Yellow | 0 |
Scale Factor To 35 mm Equivalent | 6.9 |
Scene Capture Type | Standard |
Shadow Tint | 0 |
Shadows | 100 |
Sharpen Detail | 25 |
Sharpen Edge Masking | 0 |
Sharpen Radius | +1.0 |
Sharpness | 25 |
Split Toning Balance | 0 |
Split Toning Highlight Hue | 0 |
Split Toning Highlight Saturation | 0 |
Split Toning Shadow Hue | 0 |
Split Toning Shadow Saturation | 0 |
Subject | hellisgerði, kona, úti, þorhildur |
Tint | +2 |
Tone Curve | 0, 0, 32, 22, 64, 56, 128, 128, 192, 196, 255, 255 |
Tone Curve Name | Medium Contrast |
Version | 5.2 |
Vibrance | 0 |
Vignette Amount | -23 |
Vignette Midpoint | 50 |
Web Statement | www.ragnheidurarngrims.is |
White Balance | As Shot |