Shooting information for this photo
Camera: | Canon EOS 5D Mark II |
Exposure: | 0.00625 sec. (1/160) |
Aperture: | f/4.5 |
Focal Length: | 85.0 mm (35 mm equivalent: 577.5 mm) |
Flash: | Off, Did not fire |
Exposure mode: | Manual |
Max Aperture: | 1.2 |
Resolution: | 80 x 80 dpi |
Dimension: | 598 x 769 pixels |
Original Date: | 2010:05:13 15:50:57.99 |
Digitized Date: | 2010:05:13 15:50:57.99Z |
Created on: | 2010:05:13 15:50:57.99 |
Modified on: | 2010:05:15 20:40:07 |
Software: | Adobe Photoshop CS4 Macintosh |
Copyright: | Ragnheiður Arngrímsdóttir |
Already Applied | True |
Artist | Ragnheiður Arngrímsdóttir |
Authors Position | Photographer |
Blue Hue | 0 |
Blue Saturation | 0 |
Brightness | +57 |
Camera Profile | Adobe Standard |
Chromatic Aberration B | 0 |
Chromatic Aberration R | 0 |
Circle Of Confusion | 0.004 mm |
Clarity | +47 |
Color Mode | RGB |
Color Noise Reduction | 25 |
Color Space | Uncalibrated |
Color Temperature | 4340 |
Contrast | +38 |
Convert To Grayscale | False |
Creator | Ragnheiður Arngrímsdóttir |
Crop Angle | 2.25871 |
Crop Bottom | 0.752832 |
Crop Height | 2242 |
Crop Left | 0.273517 |
Crop Right | 0.770621 |
Crop Top | 0.124179 |
Crop Unit | pixels |
Crop Width | 2882 |
Custom Rendered | Normal |
Defringe | 0 |
Exposure | +0.43 |
Exposure Compensation | 0 |
Exposure Mode | Manual |
Field Of View | 3.6 deg |
Fill Light | 16 |
Firmware | 1.1.0 |
Flash Compensation | 0 |
Flash Fired | False |
Flash Function | False |
Flash Mode | Off |
Flash Red Eye Mode | False |
Flash Return | No return detection |
Format | image/jpeg |
Green Hue | 0 |
Green Saturation | 0 |
Has Crop | True |
Has Settings | True |
Highlight Recovery | 0 |
Hue Adjustment Aqua | 0 |
Hue Adjustment Blue | 0 |
Hue Adjustment Green | 0 |
Hue Adjustment Magenta | 0 |
Hue Adjustment Orange | 0 |
Hue Adjustment Purple | 0 |
Hue Adjustment Red | 0 |
Hue Adjustment Yellow | 0 |
Hyperfocal Distance | 363.07 m |
ICC Profile Name | Adobe RGB (1998) |
ISO | 125 |
Image Number | 0 |
Image Size | 598x769 |
Lens | EF85mm f/1.2L II USM |
Lens Info | 85mm f/? |
Light Value | 11.3 |
Luminance Adjustment Aqua | 0 |
Luminance Adjustment Blue | 0 |
Luminance Adjustment Green | 0 |
Luminance Adjustment Magenta | 0 |
Luminance Adjustment Orange | 0 |
Luminance Adjustment Purple | 0 |
Luminance Adjustment Red | 0 |
Luminance Adjustment Yellow | 0 |
Luminance Smoothing | 0 |
Marked | True |
Metering Mode | Multi-segment |
Owner Name | Ragnheidur Arngrimsdottir |
Parametric Darks | 0 |
Parametric Highlight Split | 75 |
Parametric Highlights | 0 |
Parametric Lights | 0 |
Parametric Midtone Split | 50 |
Parametric Shadow Split | 25 |
Parametric Shadows | 0 |
Photometric Interpretation | RGB |
Planar Configuration | Chunky |
Post Crop Vignette Amount | -15 |
Post Crop Vignette Feather | 86 |
Post Crop Vignette Midpoint | 50 |
Post Crop Vignette Roundness | 0 |
Rating | 4 |
Red Hue | 0 |
Red Saturation | 0 |
Rights | Ragnheiður Arngrímsdóttir |
Samples Per Pixel | 3 |
Saturation | 0 |
Saturation Adjustment Aqua | 0 |
Saturation Adjustment Blue | 0 |
Saturation Adjustment Green | 0 |
Saturation Adjustment Magenta | 0 |
Saturation Adjustment Orange | 0 |
Saturation Adjustment Purple | 0 |
Saturation Adjustment Red | 0 |
Saturation Adjustment Yellow | 0 |
Scale Factor To 35 mm Equivalent | 6.8 |
Scene Capture Type | Standard |
Shadow Tint | 0 |
Shadows | 9 |
Sharpen Detail | 25 |
Sharpen Edge Masking | 0 |
Sharpen Radius | +1.5 |
Sharpness | 64 |
Split Toning Balance | 0 |
Split Toning Highlight Hue | 0 |
Split Toning Highlight Saturation | 0 |
Split Toning Shadow Hue | 0 |
Split Toning Shadow Saturation | 0 |
Tint | +1 |
Tone Curve | 0, 0, 32, 22, 64, 56, 128, 128, 192, 196, 255, 255 |
Tone Curve Name | Medium Contrast |
Version | 5.2 |
Vibrance | 0 |
Vignette Amount | -87 |
Vignette Midpoint | 3 |
Web Statement | www.ragnheidurarngrims.is |
White Balance | Custom |