Shooting information for this photo
Camera: | FUJIFILM X100V |
Resolution: | 240 x 240 dpi |
Dimension: | 4012 x 4012 pixels |
Original Date: | 2022:03:03 15:00:51+00:00 |
Created on: | 2022:03:03 15:00:51 |
Modified on: | 2022:03:03 20:59:59 |
Software: | Adobe Photoshop Lightroom 6.0 (Windows) |
Already Applied | True |
Artist | Picasa |
Auto Lateral CA | 0 |
Auto White Version | 134348800 |
Blacks 2012 | 0 |
Blue Hue | 0 |
Blue Saturation | -15 |
Camera Profile | Adobe Standard |
Clarity 2012 | 0 |
Color Noise Reduction | 0 |
Contrast 2012 | -1 |
Convert To Grayscale | False |
Creator | Picasa |
Crop Angle | 2.15578 |
Crop Bottom | 1 |
Crop Constrain To Warp | 0 |
Crop Left | 0.056483 |
Crop Right | 0.674779 |
Crop Top | 0 |
Defringe Green Amount | 0 |
Defringe Green Hue Hi | 60 |
Defringe Green Hue Lo | 40 |
Defringe Purple Amount | 0 |
Defringe Purple Hue Hi | 70 |
Defringe Purple Hue Lo | 30 |
Exposure 2012 | +0.25 |
Format | image/jpeg |
Grain Amount | 20 |
Grain Frequency | 50 |
Grain Size | 25 |
Green Hue | 0 |
Green Saturation | 0 |
Has Crop | True |
Has Settings | True |
Highlights 2012 | 0 |
Hue Adjustment Aqua | -27 |
Hue Adjustment Blue | +3 |
Hue Adjustment Green | 0 |
Hue Adjustment Magenta | 0 |
Hue Adjustment Orange | -27 |
Hue Adjustment Purple | 0 |
Hue Adjustment Red | 0 |
Hue Adjustment Yellow | 0 |
Image Size | 4012x4012 |
Incremental Temperature | 0 |
Incremental Tint | 0 |
Lens Manual Distortion Amount | -53 |
Lens Profile Enable | 0 |
Lens Profile Setup | LensDefaults |
Luminance Adjustment Aqua | 0 |
Luminance Adjustment Blue | 0 |
Luminance Adjustment Green | 0 |
Luminance Adjustment Magenta | 0 |
Luminance Adjustment Orange | 0 |
Luminance Adjustment Purple | 0 |
Luminance Adjustment Red | 0 |
Luminance Adjustment Yellow | 0 |
Luminance Smoothing | 0 |
Parametric Darks | 0 |
Parametric Highlight Split | 75 |
Parametric Highlights | 0 |
Parametric Lights | 0 |
Parametric Midtone Split | 50 |
Parametric Shadow Split | 25 |
Parametric Shadows | 0 |
Perspective Aspect | 0 |
Perspective Horizontal | 0 |
Perspective Rotate | 0.0 |
Perspective Scale | 100 |
Perspective Upright | 0 |
Perspective Vertical | 0 |
Post Crop Vignette Amount | 0 |
Process Version | 6.7 |
Raw File Name | DSCF8996-2.JPG |
Red Hue | 0 |
Red Saturation | 0 |
Related Image Height | 4012 |
Related Image Width | 4012 |
Saturation | -50 |
Saturation Adjustment Aqua | 0 |
Saturation Adjustment Blue | +16 |
Saturation Adjustment Green | -20 |
Saturation Adjustment Magenta | -18 |
Saturation Adjustment Orange | 0 |
Saturation Adjustment Purple | -17 |
Saturation Adjustment Red | +27 |
Saturation Adjustment Yellow | -14 |
Shadow Tint | 0 |
Shadows 2012 | 0 |
Sharpen Detail | 25 |
Sharpen Edge Masking | 0 |
Sharpen Radius | +1.0 |
Sharpness | 0 |
Split Toning Balance | 0 |
Split Toning Highlight Hue | 0 |
Split Toning Highlight Saturation | 0 |
Split Toning Shadow Hue | 0 |
Split Toning Shadow Saturation | 0 |
Tone Curve | 0, 0, 255, 255 |
Tone Curve Blue | 0, 0, 255, 255 |
Tone Curve Green | 0, 0, 255, 255 |
Tone Curve Name | Linear |
Tone Curve Name 2012 | Custom |
Tone Curve PV2012 | 0, 0, 68, 64, 189, 209, 255, 255 |
Tone Curve PV2012 Blue | 0, 0, 64, 56, 190, 204, 255, 255 |
Tone Curve PV2012 Green | 0, 0, 67, 64, 192, 204, 255, 255 |
Tone Curve PV2012 Red | 0, 0, 65, 62, 194, 206, 255, 255 |
Tone Curve Red | 0, 0, 255, 255 |
Version | 9.0 |
Vibrance | 0 |
Vignette Amount | 0 |
White Balance | As Shot |
Whites 2012 | 0 |