Shooting information for this photo
Camera: | Canon CanoScan LiDE 120 |
Resolution: | 160 x 160 dpi |
Created on: | 2015:09:06 22:57:07 |
Modified on: | 2015:09:11 21:40:54 |
Software: | Adobe Photoshop Lightroom 6.1.1 (Macintosh) |
Copyright: | © Graham Hughes 2015 |
Already Applied | True |
Artist | Graham Hughes |
Auto Lateral CA | 0 |
Auto White Version | 134348800 |
Blacks 2012 | 0 |
Blue Hue | 0 |
Blue Saturation | 0 |
Camera Profile | Adobe Standard |
Clarity 2012 | 0 |
Color Noise Reduction | 25 |
Color Noise Reduction Detail | 50 |
Color Noise Reduction Smoothness | 50 |
Color Space | sRGB |
Contrast 2012 | 0 |
Convert To Grayscale | True |
Creator | Graham Hughes |
Dehaze | 0 |
Description | Silver gelatin paper negative process. Ernmann Globus 5 x 7 LF camera, Industar 37 300 mm lense. Exposure 10 seconds and sunset. Agfa expired gloss paper. Taken on road to Poroti, Northland New Zealand. |
Exposure 2012 | 0.00 |
Format | image/jpeg |
Grain Amount | 0 |
Gray Mixer Aqua | 0 |
Gray Mixer Blue | 0 |
Gray Mixer Green | 0 |
Gray Mixer Magenta | 0 |
Gray Mixer Orange | 0 |
Gray Mixer Purple | 0 |
Gray Mixer Red | 0 |
Gray Mixer Yellow | 0 |
Green Hue | 0 |
Green Saturation | 0 |
Has Crop | False |
Has Settings | True |
Highlights 2012 | 0 |
Image Description | Silver gelatin paper negative process. Ernmann Globus 5 x 7 LF camera, Industar 37 300 mm lense. Exposure 10 seconds and sunset. Agfa expired gloss paper. Taken on road to Poroti, Northland New Zealand. |
Image Size | 900x637 |
Incremental Temperature | 0 |
Incremental Tint | 0 |
Lens Manual Distortion Amount | 0 |
Lens Profile Enable | 0 |
Lens Profile Setup | LensDefaults |
Luminance Smoothing | 0 |
Marked | True |
Parametric Darks | -15 |
Parametric Highlight Split | 75 |
Parametric Highlights | 0 |
Parametric Lights | 0 |
Parametric Midtone Split | 50 |
Parametric Shadow Split | 25 |
Parametric Shadows | 0 |
Perspective Aspect | 0 |
Perspective Horizontal | 0 |
Perspective Rotate | 0.0 |
Perspective Scale | 100 |
Perspective Upright | 0 |
Perspective Vertical | 0 |
Post Crop Vignette Amount | 0 |
Process Version | 6.7 |
Red Hue | 0 |
Red Saturation | 0 |
Rights | © Graham Hughes 2015 |
Shadow Tint | 0 |
Shadows 2012 | 0 |
Sharpen Detail | 25 |
Sharpen Edge Masking | 0 |
Sharpen Radius | +1.0 |
Sharpness | 25 |
Split Toning Balance | +85 |
Split Toning Highlight Hue | 37 |
Split Toning Highlight Saturation | 34 |
Split Toning Shadow Hue | 246 |
Split Toning Shadow Saturation | 60 |
Title | Where Warriors Sleep |
Tone Curve | 0, 0, 255, 255 |
Tone Curve Blue | 0, 0, 255, 255 |
Tone Curve Green | 0, 0, 255, 255 |
Tone Curve Name | Linear |
Tone Curve Name 2012 | Linear |
Tone Curve PV2012 | 0, 0, 255, 255 |
Tone Curve PV2012 Blue | 0, 0, 255, 255 |
Tone Curve PV2012 Green | 0, 0, 255, 255 |
Tone Curve PV2012 Red | 0, 0, 255, 255 |
Tone Curve Red | 0, 0, 255, 255 |
Tone Map Strength | 0 |
Usage Terms | All Rights Reserved |
Version | 9.1.1 |
Vignette Amount | 0 |
White Balance | As Shot |
Whites 2012 | 0 |