Shooting information for this photo
Camera: | Canon EOS 30D |
Exposure: | 0.03333 sec. (1/30) |
Aperture: | f/2.0 |
Focal Length: | 50.0 mm (35 mm equivalent: 80.1 mm) |
Flash: | Off, Did not fire |
Exposure mode: | Manual |
Max Aperture: | 2.0 |
Resolution: | 160 x 160 dpi |
Original Date: | 2015:04:13 18:11:32 |
Created on: | 2015:04:13 18:11:32 |
Modified on: | 2015:04:20 00:10:44 |
Software: | Adobe Photoshop Lightroom 5.7.1 (Macintosh) |
Copyright: | © Graham Hughes 2015 |
Already Applied | True |
Artist | Graham Hughes |
Auto Lateral CA | 0 |
Auto White Version | 134348800 |
Blacks 2012 | -87 |
Blue Hue | 0 |
Blue Saturation | 0 |
Camera Profile | Adobe Standard |
Circle Of Confusion | 0.019 mm |
Clarity 2012 | -30 |
Color Noise Reduction | 25 |
Color Noise Reduction Detail | 50 |
Color Noise Reduction Smoothness | 50 |
Color Temperature | 2920 |
Contrast 2012 | +26 |
Convert To Grayscale | True |
Creator | Graham Hughes |
Custom Rendered | Normal |
Date Created | 2015:04:13 18:11:32 |
Description | Vintage CZ Jena Tessar 50mm f 2:8 m42. Canon EOS 30D |
Exposure 2012 | +0.20 |
Exposure Compensation | 0 |
Exposure Mode | Manual |
Field Of View | 25.3 deg |
Firmware | 1.0.6 |
Flash Compensation | 0 |
Format | image/jpeg |
Grain Amount | 55 |
Grain Frequency | 25 |
Grain Size | 15 |
Gray Mixer Aqua | +50 |
Gray Mixer Blue | 0 |
Gray Mixer Green | +100 |
Gray Mixer Magenta | 0 |
Gray Mixer Orange | 0 |
Gray Mixer Purple | 0 |
Gray Mixer Red | 0 |
Gray Mixer Yellow | +100 |
Green Hue | 0 |
Green Saturation | 0 |
Has Crop | False |
Has Settings | True |
Highlights 2012 | -71 |
Hyperfocal Distance | 66.63 m |
ISO | 100 |
Image Description | Vintage CZ Jena Tessar 50mm f 2:8 m42. Canon EOS 30D |
Image Number | 208 |
Image Size | 900x600 |
Lens | 50.0 mm |
Lens ID | Canon EF 35-80mm f/4-5.6 |
Lens Info | 50mm f/? |
Lens Manual Distortion Amount | 0 |
Lens Model | 50.0 mm |
Lens Profile Enable | 0 |
Lens Profile Setup | LensDefaults |
Light Value | 6.9 |
Luminance Noise Reduction Contrast | 0 |
Luminance Noise Reduction Detail | 9 |
Luminance Smoothing | 11 |
Marked | True |
Metering Mode | Multi-segment |
Owner Name | unknown |
Parametric Darks | +48 |
Parametric Highlight Split | 75 |
Parametric Highlights | 0 |
Parametric Lights | +32 |
Parametric Midtone Split | 50 |
Parametric Shadow Split | 25 |
Parametric Shadows | 0 |
Perspective Aspect | 0 |
Perspective Horizontal | 0 |
Perspective Rotate | 0.0 |
Perspective Scale | 100 |
Perspective Upright | 0 |
Perspective Vertical | 0 |
Post Crop Vignette Amount | +7 |
Post Crop Vignette Feather | 50 |
Post Crop Vignette Midpoint | 30 |
Post Crop Vignette Roundness | 0 |
Post Crop Vignette Style | 2 |
Process Version | 6.7 |
Rating | 1 |
Red Hue | 0 |
Red Saturation | 0 |
Rights | © Graham Hughes 2015 |
Scale Factor To 35 mm Equivalent | 1.6 |
Scene Capture Type | Standard |
Shadow Tint | 0 |
Shadows 2012 | -18 |
Sharpen Detail | 25 |
Sharpen Edge Masking | 0 |
Sharpen Radius | +1.0 |
Sharpness | 25 |
Split Toning Balance | 0 |
Split Toning Highlight Hue | 0 |
Split Toning Highlight Saturation | 0 |
Split Toning Shadow Hue | 0 |
Split Toning Shadow Saturation | 0 |
Tint | -150 |
Title | Dog Stories : Waiotahi New Zealand |
Tone Curve | 0, 0, 255, 255 |
Tone Curve Blue | 0, 0, 255, 255 |
Tone Curve Green | 0, 0, 255, 255 |
Tone Curve Name | Linear |
Tone Curve Name 2012 | Strong Contrast |
Tone Curve PV2012 | 0, 0, 32, 16, 64, 50, 128, 128, 192, 202, 255, 255 |
Tone Curve PV2012 Blue | 0, 0, 255, 255 |
Tone Curve PV2012 Green | 0, 0, 255, 255 |
Tone Curve PV2012 Red | 0, 0, 255, 255 |
Tone Curve Red | 0, 0, 255, 255 |
Usage Terms | All Rights Reserved |
Version | 8.7.1 |
Vignette Amount | 0 |
White Balance | Manual |
Whites 2012 | +25 |