Shooting information for this photo
Camera: | Canon EOS 30D |
Exposure: | 0.00031 sec. (1/3200) |
Aperture: | f/2.0 |
Focal Length: | 50.0 mm (35 mm equivalent: 80.1 mm) |
Flash: | Off, Did not fire |
Exposure mode: | Manual |
Max Aperture: | 2.0 |
Resolution: | 100 x 100 dpi |
Original Date: | 2014:01:16 14:34:12 |
Created on: | 2014:01:16 14:34:12 |
Modified on: | 2015:01:09 12:35:26 |
Software: | Adobe Photoshop Lightroom 5.7.1 (Macintosh) |
Copyright: | Graham Hughes 2015 |
Already Applied | True |
Artist | Graham Hughes |
Auto Lateral CA | 0 |
Auto White Version | 134348800 |
Blacks 2012 | +7 |
Blue Hue | 0 |
Blue Saturation | 0 |
Camera Profile | Adobe Standard |
Circle Of Confusion | 0.019 mm |
Clarity 2012 | +24 |
Color Noise Reduction | 25 |
Color Noise Reduction Detail | 50 |
Color Noise Reduction Smoothness | 50 |
Color Temperature | 4708 |
Contrast 2012 | +29 |
Convert To Grayscale | True |
Creator | Graham Hughes |
Custom Rendered | Normal |
Date Created | 2014:01:16 14:34:12 |
Description | Canon EOS 30 D. Vinatge CZ 50mm M42 lense. |
Exposure 2012 | -0.45 |
Exposure Compensation | 0 |
Exposure Mode | Manual |
Field Of View | 25.3 deg |
Firmware | 1.0.6 |
Flash Compensation | 0 |
Format | image/jpeg |
Grain Amount | 21 |
Grain Frequency | 50 |
Grain Size | 25 |
Gray Mixer Aqua | +38 |
Gray Mixer Blue | 0 |
Gray Mixer Green | +30 |
Gray Mixer Magenta | 0 |
Gray Mixer Orange | +38 |
Gray Mixer Purple | 0 |
Gray Mixer Red | +25 |
Gray Mixer Yellow | +40 |
Green Hue | 0 |
Green Saturation | 0 |
Has Crop | False |
Has Settings | True |
Highlights 2012 | -77 |
Hyperfocal Distance | 66.63 m |
ISO | 100 |
Image Description | Canon EOS 30 D. Vinatge CZ 50mm M42 lense. |
Image Number | 176 |
Image Size | 533x800 |
Lens | 50.0 mm |
Lens ID | Canon EF 35-80mm f/4-5.6 |
Lens Info | 50mm f/? |
Lens Manual Distortion Amount | 0 |
Lens Model | 50.0 mm |
Lens Profile Enable | 0 |
Lens Profile Setup | LensDefaults |
Light Value | 13.6 |
Luminance Smoothing | 0 |
Marked | True |
Metering Mode | Multi-segment |
Owner Name | unknown |
Parametric Darks | 0 |
Parametric Highlight Split | 75 |
Parametric Highlights | 0 |
Parametric Lights | 0 |
Parametric Midtone Split | 50 |
Parametric Shadow Split | 25 |
Parametric Shadows | 0 |
Perspective Aspect | 0 |
Perspective Horizontal | 0 |
Perspective Rotate | 0.0 |
Perspective Scale | 100 |
Perspective Upright | 0 |
Perspective Vertical | 0 |
Post Crop Vignette Amount | 0 |
Process Version | 6.7 |
Rating | 5 |
Red Hue | 0 |
Red Saturation | 0 |
Rights | Graham Hughes 2015 |
Scale Factor To 35 mm Equivalent | 1.6 |
Scene Capture Type | Standard |
Shadow Tint | 0 |
Shadows 2012 | 0 |
Sharpen Detail | 25 |
Sharpen Edge Masking | 0 |
Sharpen Radius | +1.0 |
Sharpness | 25 |
Split Toning Balance | 0 |
Split Toning Highlight Hue | 360 |
Split Toning Highlight Saturation | 4 |
Split Toning Shadow Hue | 0 |
Split Toning Shadow Saturation | 2 |
Tint | -28 |
Title | Good Girls |
Tone Curve | 0, 0, 255, 255 |
Tone Curve Blue | 0, 0, 255, 255 |
Tone Curve Green | 0, 0, 255, 255 |
Tone Curve Name | Linear |
Tone Curve Name 2012 | Linear |
Tone Curve PV2012 | 0, 0, 255, 255 |
Tone Curve PV2012 Blue | 0, 0, 255, 255 |
Tone Curve PV2012 Green | 0, 0, 255, 255 |
Tone Curve PV2012 Red | 0, 0, 255, 255 |
Tone Curve Red | 0, 0, 255, 255 |
Version | 8.7.1 |
Vignette Amount | 0 |
White Balance | Auto |
Whites 2012 | +69 |