Shooting information for this photo
Camera: | Canon EOS 350D DIGITAL |
Exposure: | 0.0025 sec. (1/400) |
Aperture: | f/10.0 |
Focal Length: | 115.0 mm (35 mm equivalent: 186.6 mm) |
Flash: | Off, Did not fire |
Exposure mode: | Program AE |
Max Aperture: | 4.5 |
Resolution: | 96 x 96 dpi |
Original Date: | 2007:07:30 15:00:30 |
Digitized Date: | 2007:07:30 15:00:30+01:00 |
Created on: | 2007:07:30 15:00:30 |
Modified on: | 2007:08:08 21:32:45 |
Already Applied | True |
Artist | unknown |
Blue Hue | 0 |
Blue Saturation | 0 |
Brightness | +28 |
Camera Profile | ACR 3.1 |
Chromatic Aberration B | 0 |
Chromatic Aberration R | 0 |
Circle Of Confusion | 0.019 mm |
Clarity | 0 |
Color Noise Reduction | 25 |
Color Temperature | 6500 |
Contrast | +37 |
Convert To Grayscale | False |
Creator | unknown |
Crop Angle | 0 |
Crop Bottom | 0.596237 |
Crop Height | 1027 |
Crop Left | 0.416587 |
Crop Right | 0.870782 |
Crop Top | 0.254704 |
Crop Unit | pixels |
Crop Width | 2048 |
Custom Rendered | Normal |
Defringe | 0 |
Exposure | 0.00 |
Exposure Compensation | 0 |
Exposure Mode | Auto |
Field Of View | 11.0 deg |
Fill Light | 8 |
Firmware | 1.0.3 |
Flash Compensation | 0 |
Flash Fired | False |
Flash Function | False |
Flash Mode | Off |
Flash Red Eye Mode | False |
Flash Return | No return detection |
Green Hue | 0 |
Green Saturation | 0 |
Has Crop | True |
Has Settings | True |
Highlight Recovery | 16 |
Hue Adjustment Aqua | 0 |
Hue Adjustment Blue | 0 |
Hue Adjustment Green | 0 |
Hue Adjustment Magenta | 0 |
Hue Adjustment Orange | 0 |
Hue Adjustment Purple | 0 |
Hue Adjustment Red | 0 |
Hue Adjustment Yellow | 0 |
Hyperfocal Distance | 71.40 m |
ISO | 200 |
Image Number | 123 |
Image Size | 2048x1027 |
Lens | 28.0-135.0 mm |
Lens Info | 28-135mm f/? |
Light Value | 14.3 |
Luminance Adjustment Aqua | 0 |
Luminance Adjustment Blue | 0 |
Luminance Adjustment Green | 0 |
Luminance Adjustment Magenta | 0 |
Luminance Adjustment Orange | 0 |
Luminance Adjustment Purple | 0 |
Luminance Adjustment Red | 0 |
Luminance Adjustment Yellow | 0 |
Luminance Smoothing | 0 |
Metering Mode | Multi-segment |
Owner Name | unknown |
Parametric Darks | 0 |
Parametric Highlight Split | 75 |
Parametric Highlights | 0 |
Parametric Lights | 0 |
Parametric Midtone Split | 50 |
Parametric Shadow Split | 25 |
Parametric Shadows | 0 |
Red Hue | 0 |
Red Saturation | 0 |
Saturation | 0 |
Saturation Adjustment Aqua | 0 |
Saturation Adjustment Blue | 0 |
Saturation Adjustment Green | 0 |
Saturation Adjustment Magenta | 0 |
Saturation Adjustment Orange | 0 |
Saturation Adjustment Purple | 0 |
Saturation Adjustment Red | 0 |
Saturation Adjustment Yellow | 0 |
Scale Factor To 35 mm Equivalent | 1.6 |
Scene Capture Type | Standard |
Shadow Tint | 0 |
Shadows | 9 |
Sharpen Detail | 25 |
Sharpen Edge Masking | 0 |
Sharpen Radius | +1.0 |
Sharpness | 25 |
Split Toning Balance | 0 |
Split Toning Highlight Hue | 0 |
Split Toning Highlight Saturation | 0 |
Split Toning Shadow Hue | 0 |
Split Toning Shadow Saturation | 0 |
Time Zone Offset | 1 1 |
Tint | +30 |
Tone Curve | 0, 0, 32, 22, 64, 56, 128, 128, 192, 196, 255, 255 |
Tone Curve Name | Medium Contrast |
Version | 1.0 |
Vibrance | 0 |
Vignette Amount | 0 |
White Balance | Auto |