Shooting information for this photo
Camera: | Canon EOS 350D DIGITAL |
Exposure: | 0.00313 sec. (1/320) |
Aperture: | f/11.0 |
Focal Length: | 44.0 mm (35 mm equivalent: 173.1 mm) |
Flash: | Off, Did not fire |
Exposure mode: | Program AE |
Resolution: | 240 x 240 dpi |
Dimension: | 1440 x 927 pixels |
Original Date: | 2010:03:25 19:06:48 |
Digitized Date: | 2010:03:25 19:06:48Z |
Created on: | 2010:03:25 19:06:48 |
Modified on: | 2010:08:07 03:10:34 |
Copyright: | Kieran Turner |
Already Applied | True |
Artist | unknown |
Blue Hue | 0 |
Blue Saturation | 0 |
Brightness | +85 |
Camera Profile | ACR 4.4 |
Chromatic Aberration B | 0 |
Chromatic Aberration R | 0 |
Circle Of Confusion | 0.008 mm |
Clarity | +14 |
Color Noise Reduction | 25 |
Color Space | Uncalibrated |
Color Temperature | 5650 |
Contrast | High |
Convert To Grayscale | True |
Creator | Kieran Turner |
Crop Angle | -1.48423 |
Crop Bottom | 0.945137 |
Crop Height | 927 |
Crop Left | 0.002774 |
Crop Right | 0.982829 |
Crop Top | 0.051356 |
Crop Unit | pixels |
Crop Width | 1440 |
Custom Rendered | Normal |
Defringe | 0 |
Exposure | -1.00 |
Exposure Compensation | 0 |
Exposure Mode | Auto |
Field Of View | 11.9 deg |
Fill Light | 9 |
Firmware | 1.0.3 |
Flash Compensation | -0.333333333333333 |
Flash Fired | False |
Flash Function | False |
Flash Mode | Off |
Flash Red Eye Mode | False |
Flash Return | No return detection |
Gray Mixer Aqua | -27 |
Gray Mixer Blue | -75 |
Gray Mixer Green | -19 |
Gray Mixer Magenta | -44 |
Gray Mixer Orange | +100 |
Gray Mixer Purple | +52 |
Gray Mixer Red | -48 |
Gray Mixer Yellow | +100 |
Green Hue | 0 |
Green Saturation | 0 |
Has Crop | True |
Has Settings | True |
Highlight Recovery | 73 |
Hyperfocal Distance | 23.05 m |
ISO | 200 |
Image Number | 55 |
Image Size | 1470x957 |
Lens | 28.0-135.0 mm |
Lens ID | Unknown (65535) 28-135mm |
Lens Info | 28-135mm f/? |
Light Value | 14.2 |
Location | Budva, Montenegro |
Luminance Smoothing | 0 |
Marked | True |
Metering Mode | Average |
Owner Name | unknown |
Parametric Darks | -13 |
Parametric Highlight Split | 75 |
Parametric Highlights | +66 |
Parametric Lights | +29 |
Parametric Midtone Split | 50 |
Parametric Shadow Split | 25 |
Parametric Shadows | +78 |
Post Crop Vignette Amount | 0 |
Red Hue | 0 |
Red Saturation | 0 |
Rights | Kieran Turner |
Scale Factor To 35 mm Equivalent | 3.9 |
Scene Capture Type | Standard |
Shadow Tint | 0 |
Shadows | 13 |
Sharpen Detail | 25 |
Sharpen Edge Masking | 0 |
Sharpen Radius | +1.0 |
Sharpness | Hard |
Split Toning Balance | +45 |
Split Toning Highlight Hue | 221 |
Split Toning Highlight Saturation | 27 |
Split Toning Shadow Hue | 41 |
Split Toning Shadow Saturation | 41 |
Tint | +15 |
Tone Curve | 0, 0, 32, 16, 64, 50, 128, 128, 192, 202, 255, 255 |
Tone Curve Name | Strong Contrast |
Version | 6.1 |
Vignette Amount | 0 |
White Balance | Auto |