Shooting information for this photo
Camera: | Canon EOS 350D DIGITAL |
Exposure: | 0.3 sec. |
Aperture: | f/4.5 |
Focal Length: | 35.0 mm (35 mm equivalent: 56.8 mm) |
Flash: | Off, Did not fire |
Exposure mode: | Program AE |
Max Aperture: | 4.0 |
Resolution: | 96 x 96 dpi |
Original Date: | 2007:04:28 21:19:56 |
Digitized Date: | 2007:04:28 21:19:56+01:00 |
Created on: | 2007:04:28 21:19:56 |
Modified on: | 2007:05:01 01:10:59 |
Already Applied | True |
Artist | unknown |
Blue Hue | 0 |
Blue Saturation | -55 |
Brightness | +50 |
Camera Profile | ACR 3.1 |
Chromatic Aberration B | 0 |
Chromatic Aberration R | 0 |
Circle Of Confusion | 0.019 mm |
Color Noise Reduction | 69 |
Color Temperature | 3850 |
Contrast | +25 |
Convert To Grayscale | False |
Creator | unknown |
Crop Angle | 0 |
Crop Bottom | 1 |
Crop Height | 1511 |
Crop Left | 0.015414 |
Crop Right | 0.780347 |
Crop Top | 0.153179 |
Crop Unit | pixels |
Crop Width | 2048 |
Custom Rendered | Normal |
Exposure | 0.00 |
Exposure Compensation | 0 |
Exposure Mode | Auto |
Field Of View | 35.2 deg |
Fill Light | 0 |
Firmware | 1.0.3 |
Flash Compensation | 0 |
Flash Fired | False |
Flash Function | False |
Flash Mode | Off |
Flash Red Eye Mode | False |
Flash Return | No return detection |
Green Hue | 0 |
Green Saturation | 0 |
Has Crop | True |
Has Settings | True |
Highlight Recovery | 0 |
Hue Adjustment Aqua | 0 |
Hue Adjustment Blue | 0 |
Hue Adjustment Green | 0 |
Hue Adjustment Magenta | 0 |
Hue Adjustment Orange | 0 |
Hue Adjustment Purple | 0 |
Hue Adjustment Red | 0 |
Hue Adjustment Yellow | 0 |
Hyperfocal Distance | 14.70 m |
ISO | 1600 |
Image Number | 50 |
Image Size | 2048x1511 |
Lens | 18.0-55.0 mm |
Lens Info | 18-55mm f/? |
Light Value | 2.1 |
Luminance Adjustment Aqua | +18 |
Luminance Adjustment Blue | +22 |
Luminance Adjustment Green | -20 |
Luminance Adjustment Magenta | -20 |
Luminance Adjustment Orange | -6 |
Luminance Adjustment Purple | -13 |
Luminance Adjustment Red | -8 |
Luminance Adjustment Yellow | -25 |
Luminance Smoothing | 71 |
Metering Mode | Average |
Owner Name | unknown |
Parametric Darks | 0 |
Parametric Highlight Split | 75 |
Parametric Highlights | 0 |
Parametric Lights | 0 |
Parametric Midtone Split | 50 |
Parametric Shadow Split | 25 |
Parametric Shadows | 0 |
Private RTK Info | cHJpdmF0ZVJUS0luZm8gPSB7Cgl7Cg kJZmxhdCA9IHsKCQkJImJyaWdodG9u IHdlZGRpbmciLAoJCX0sCgkJcGF0aC A9IHsKCQkJImJyaWdodG9uIHdlZGRp bmciLAoJCX0sCgkJcHJpbWFyeSA9IC JicmlnaHRvbiB3ZWRkaW5nIiwKCQl1 dWlkID0gIjAzOTI5OENGLTlCQzAtND RGQi04OTI3LTYxOEUxRTlBMzE5QiIs Cgl9LAp9Cg== |
Red Hue | 0 |
Red Saturation | 0 |
Saturation | 0 |
Saturation Adjustment Aqua | -55 |
Saturation Adjustment Blue | -20 |
Saturation Adjustment Green | -44 |
Saturation Adjustment Magenta | 0 |
Saturation Adjustment Orange | -39 |
Saturation Adjustment Purple | 0 |
Saturation Adjustment Red | -22 |
Saturation Adjustment Yellow | -32 |
Scale Factor To 35 mm Equivalent | 1.6 |
Scene Capture Type | Standard |
Shadow Tint | 0 |
Shadows | 5 |
Sharpness | 39 |
Split Toning Balance | 0 |
Split Toning Highlight Hue | 0 |
Split Toning Highlight Saturation | 0 |
Split Toning Shadow Hue | 0 |
Split Toning Shadow Saturation | 0 |
Subject | brighton wedding |
Tint | +30 |
Tone Curve | 0, 0, 32, 16, 64, 50, 128, 128, 192, 202, 255, 255 |
Tone Curve Name | Strong Contrast |
Version | 1.0 |
Vibrance | 0 |
Vignette Amount | 0 |
White Balance | Auto |