Shooting information for this photo
Camera: | Canon EOS 350D DIGITAL |
Exposure: | 0.00286 sec. (1/350) |
Aperture: | f/11.0 |
Focal Length: | 18.0 mm (35 mm equivalent: 51.6 mm) |
Flash: | Off, Did not fire |
Exposure mode: | Program AE |
Resolution: | 240 x 240 dpi |
Original Date: | 2011:10:15 12:15:02 |
Created on: | 2011:10:15 12:15:02 |
Modified on: | 2011:11:23 15:33:39 |
Software: | Adobe Photoshop Lightroom 3.5 (Macintosh) |
Copyright: | Kieran Turner |
Already Applied | True |
Artist | Kieran Turner |
Blue Hue | 0 |
Blue Saturation | 0 |
Brightness | +50 |
Camera Profile | Camera Faithful |
Chromatic Aberration B | 0 |
Chromatic Aberration R | 0 |
Circle Of Confusion | 0.010 mm |
Clarity | 0 |
Color Noise Reduction | 25 |
Color Space | Uncalibrated |
Color Temperature | 5000 |
Contrast | High |
Convert To Grayscale | False |
Creator | Kieran Turner |
Crop Angle | 0 |
Crop Bottom | 1 |
Crop Height | 1169 |
Crop Left | 0.00722 |
Crop Right | 1 |
Crop Top | 0.129905 |
Crop Unit | pixels |
Crop Width | 2000 |
Custom Rendered | Normal |
Date Created | 2011:10:15 12:15:02 |
Defringe | 0 |
Exposure | 0.00 |
Exposure Compensation | -1 |
Exposure Mode | Auto |
Field Of View | 38.4 deg |
Fill Light | 19 |
Firmware | 1.0.3 |
Flash Compensation | 0 |
Green Hue | 0 |
Green Saturation | 0 |
Has Crop | True |
Has Settings | True |
Highlight Recovery | 0 |
Hue Adjustment Aqua | 0 |
Hue Adjustment Blue | 0 |
Hue Adjustment Green | 0 |
Hue Adjustment Magenta | 0 |
Hue Adjustment Orange | 0 |
Hue Adjustment Purple | 0 |
Hue Adjustment Red | 0 |
Hue Adjustment Yellow | 0 |
Hyperfocal Distance | 2.81 m |
ISO | 400 |
Image Number | 29 |
Image Size | 2024x1193 |
Lens | 18.0-55.0 mm |
Lens Info | 18-55mm f/? |
Light Value | 13.4 |
Luminance Adjustment Aqua | 0 |
Luminance Adjustment Blue | 0 |
Luminance Adjustment Green | 0 |
Luminance Adjustment Magenta | 0 |
Luminance Adjustment Orange | 0 |
Luminance Adjustment Purple | 0 |
Luminance Adjustment Red | 0 |
Luminance Adjustment Yellow | 0 |
Luminance Smoothing | 0 |
Marked | True |
Metering Mode | Average |
Owner Name | unknown |
Parametric Darks | 0 |
Parametric Highlight Split | 75 |
Parametric Highlights | 0 |
Parametric Lights | 0 |
Parametric Midtone Split | 50 |
Parametric Shadow Split | 25 |
Parametric Shadows | 0 |
Post Crop Vignette Amount | 0 |
Red Hue | 0 |
Red Saturation | 0 |
Rights | Kieran Turner |
Saturation | Normal |
Saturation Adjustment Aqua | 0 |
Saturation Adjustment Blue | 0 |
Saturation Adjustment Green | 0 |
Saturation Adjustment Magenta | 0 |
Saturation Adjustment Orange | 0 |
Saturation Adjustment Purple | 0 |
Saturation Adjustment Red | 0 |
Saturation Adjustment Yellow | 0 |
Scale Factor To 35 mm Equivalent | 2.9 |
Scene Capture Type | Standard |
Shadow Tint | 0 |
Shadows | 5 |
Sharpen Detail | 25 |
Sharpen Edge Masking | 0 |
Sharpen Radius | +1.0 |
Sharpness | Hard |
Split Toning Balance | 0 |
Split Toning Highlight Hue | 0 |
Split Toning Highlight Saturation | 0 |
Split Toning Shadow Hue | 0 |
Split Toning Shadow Saturation | 0 |
Tint | +22 |
Tone Curve | 0, 0, 32, 22, 64, 56, 128, 128, 192, 196, 255, 255 |
Tone Curve Name | Medium Contrast |
Version | 6.5 |
Vibrance | 0 |
Vignette Amount | 0 |
White Balance | Auto |