Shooting information for this photo
Camera: | Canon EOS 40D |
Exposure: | 25 sec. |
Aperture: | f/22.0 |
Focal Length: | 70.0 mm |
Flash: | Off, Did not fire |
Exposure mode: | Manual |
Max Aperture: | 2.8 |
Resolution: | 72 x 72 dpi |
Original Date: | 2011:05:25 16:13:29.01 |
Created on: | 2011:05:25 16:13:29.01 |
Modified on: | 2011:08:19 12:18:05 |
Software: | Adobe Photoshop Lightroom 3.4.1 |
Copyright: | Mika Pankar |
Already Applied | True |
Approximate Focus Distance | 17.8 |
Blue Hue | 0 |
Blue Saturation | 0 |
Brightness | +61 |
Camera Profile | Adobe Standard |
Chromatic Aberration B | 0 |
Chromatic Aberration R | 0 |
Clarity | +30 |
Color Noise Reduction | 25 |
Color Noise Reduction Detail | 50 |
Color Temperature | 3600 |
Contrast | +49 |
Convert To Grayscale | True |
Crop Angle | 0.69849 |
Crop Bottom | 0.781991 |
Crop Constrain To Warp | 0 |
Crop Height | 340 |
Crop Left | 0.006059 |
Crop Right | 0.993941 |
Crop Top | 0.018359 |
Crop Unit | pixels |
Crop Width | 680 |
Custom Rendered | Normal |
Date Created | 2011:05:25 16:13:29.01 |
Defringe | 0 |
Exposure | 0.00 |
Exposure Compensation | 0 |
Exposure Mode | Manual |
Fill Light | 20 |
Firmware | 1.0.5 |
Flash Compensation | 0 |
Gradient Based Corr Active | true |
Gradient Based Corr Amount | 1.000000 |
Gradient Based Corr Brightness | 0.000000 |
Gradient Based Corr Clarity | 0.000000 |
Gradient Based Corr Contrast | 0.200000 |
Gradient Based Corr Exposure | -0.082353 |
Gradient Based Corr Hue | 240.000000 |
Gradient Based Corr Mask Full X | 0.472482 |
Gradient Based Corr Mask Full Y | 0.746630 |
Gradient Based Corr Mask Value | 1.000000 |
Gradient Based Corr Mask What | Mask/Gradient |
Gradient Based Corr Mask Zero X | 0.475055 |
Gradient Based Corr Mask Zero Y | 0.522108 |
Gradient Based Corr Saturation | 0.000000 |
Gradient Based Corr Sharpness | 0.000000 |
Gradient Based Corr What | Correction |
Grain Amount | 0 |
Gray Mixer Aqua | -17 |
Gray Mixer Blue | +12 |
Gray Mixer Green | -17 |
Gray Mixer Magenta | +4 |
Gray Mixer Orange | -81 |
Gray Mixer Purple | +17 |
Gray Mixer Red | -11 |
Gray Mixer Yellow | -40 |
Green Hue | 0 |
Green Saturation | 0 |
Has Crop | True |
Has Settings | True |
Highlight Recovery | 6 |
ISO | 100 |
Image Number | 0 |
Image Size | 680x340 |
Label | Blue |
Lens | EF24-70mm f/2.8L USM |
Lens ID | Canon EF 24-70mm f/2.8L |
Lens Info | 24-70mm f/? |
Lens Manual Distortion Amount | 0 |
Lens Model | EF24-70mm f/2.8L USM |
Lens Profile Enable | 0 |
Lens Profile Setup | LensDefaults |
Light Value | 4.3 |
Luminance Noise Reduction Contrast | 0 |
Luminance Noise Reduction Detail | 50 |
Luminance Smoothing | 10 |
Marked | True |
Metering Mode | Multi-segment |
Parametric Darks | -9 |
Parametric Highlight Split | 75 |
Parametric Highlights | +84 |
Parametric Lights | +72 |
Parametric Midtone Split | 50 |
Parametric Shadow Split | 25 |
Parametric Shadows | -54 |
Perspective Horizontal | 0 |
Perspective Rotate | 0.0 |
Perspective Scale | 100 |
Perspective Vertical | 0 |
Post Crop Vignette Amount | -11 |
Post Crop Vignette Feather | 50 |
Post Crop Vignette Highlight Contrast | 0 |
Post Crop Vignette Midpoint | 50 |
Post Crop Vignette Roundness | 0 |
Post Crop Vignette Style | 1 |
Process Version | 5.7 |
Rating | 5 |
Red Hue | 0 |
Red Saturation | 0 |
Rights | Mika Pankar |
Scene Capture Type | Standard |
Shadow Tint | 0 |
Shadows | 5 |
Sharpen Detail | 25 |
Sharpen Edge Masking | 0 |
Sharpen Radius | +1.0 |
Sharpness | 51 |
Split Toning Balance | 0 |
Split Toning Highlight Hue | 0 |
Split Toning Highlight Saturation | 0 |
Split Toning Shadow Hue | 0 |
Split Toning Shadow Saturation | 0 |
Subject | B&W, Bretagne, Coast, Finistère, France, Le Four, Porspoder, Rock, landscape, lighthouse, long exposure, panoramic format, sea, stone |
Subject Distance | 17.8 m |
Tint | -14 |
Tone Curve | 0, 0, 32, 22, 64, 56, 128, 128, 192, 196, 255, 255 |
Tone Curve Name | Medium Contrast |
Usage Terms | All rights reserved |
Version | 6.4.1 |
Vignette Amount | 0 |
Web Statement | mikazmail@yahoo.fr |
White Balance | Custom |