Shooting information for this photo
Camera: | Canon EOS 70D |
Exposure: | 0.00286 sec. (1/350) |
Aperture: | f/8.0 |
Focal Length: | 55.0 mm (35 mm equivalent: 243.1 mm) |
Flash: | Off, Did not fire |
Exposure mode: | Aperture-priority AE |
Max Aperture: | 2.8 |
Resolution: | 240 x 240 dpi |
Original Date: | 2014:10:28 10:47:06.00 |
Created on: | 2014:10:28 10:47:06 |
Modified on: | 2015:12:30 11:45:03 |
Software: | Adobe Photoshop Lightroom 5.7 (Windows) |
Copyright: | Andrew Luyten 2014 |
Already Applied | True |
Approximate Focus Distance | 73 |
Artist | Andrew Luyten |
Auto Lateral CA | 0 |
Auto White Version | 134348800 |
Blacks 2012 | 0 |
Blue Hue | 0 |
Blue Saturation | 0 |
Camera Profile | Adobe Standard |
Circle Of Confusion | 0.007 mm |
City | Chhokangparo |
Clarity 2012 | +48 |
Color Noise Reduction | 25 |
Color Noise Reduction Detail | 50 |
Color Noise Reduction Smoothness | 50 |
Color Temperature | 6167 |
Contrast 2012 | +90 |
Convert To Grayscale | False |
Country | Nepal |
Creator | Andrew Luyten |
Crop Angle | 0 |
Crop Bottom | 1 |
Crop Constrain To Warp | 0 |
Crop Left | 0.111111 |
Crop Right | 1 |
Crop Top | 0 |
Custom Rendered | Normal |
Date Created | 2014:10:28 10:47:06.00 |
Defringe Green Amount | 0 |
Defringe Green Hue Hi | 60 |
Defringe Green Hue Lo | 40 |
Defringe Purple Amount | 0 |
Defringe Purple Hue Hi | 70 |
Defringe Purple Hue Lo | 30 |
Description | At Domje it is possible to catch a glimpse of Ganesh II (7118m) up a side valley. Unfortunately at this time of day the sun is in a similar direction. |
Exposure 2012 | +0.36 |
Exposure Compensation | 0 |
Exposure Mode | Auto |
Field Of View | 8.5 deg |
Firmware | 1.1.1 |
Flash Compensation | 0 |
Format | image/jpeg |
Grain Amount | 0 |
Green Hue | 0 |
Green Saturation | 0 |
Has Crop | True |
Has Settings | True |
Highlights 2012 | -90 |
Hue Adjustment Aqua | 0 |
Hue Adjustment Blue | 0 |
Hue Adjustment Green | 0 |
Hue Adjustment Magenta | 0 |
Hue Adjustment Orange | 0 |
Hue Adjustment Purple | 0 |
Hue Adjustment Red | 0 |
Hue Adjustment Yellow | 0 |
Hyperfocal Distance | 55.63 m |
ISO | 200 |
Image Description | At Domje it is possible to catch a glimpse of Ganesh II (7118m) up a side valley. Unfortunately at this time of day the sun is in a similar direction. |
Image Number | 0 |
Image Size | 1920x1440 |
Label | Picks |
Lens | EF-S17-55mm f/2.8 IS USM |
Lens ID | Canon EF-S 17-55mm f/2.8 IS USM |
Lens Info | 17-55mm f/? |
Lens Manual Distortion Amount | 0 |
Lens Model | EF-S17-55mm f/2.8 IS USM |
Lens Profile Chromatic Aberration Scale | 100 |
Lens Profile Distortion Scale | 100 |
Lens Profile Enable | 1 |
Lens Profile Filename | Canon EOS 50D (Canon EF-S 17-55mm f2.8 IS USM) - RAW.lcp |
Lens Profile Name | Adobe (Canon EF-S 17-55mm f/2.8 IS USM) |
Lens Profile Setup | LensDefaults |
Lens Profile Vignetting Scale | 100 |
Light Value | 13.5 |
Luminance Adjustment Aqua | 0 |
Luminance Adjustment Blue | 0 |
Luminance Adjustment Green | 0 |
Luminance Adjustment Magenta | 0 |
Luminance Adjustment Orange | 0 |
Luminance Adjustment Purple | 0 |
Luminance Adjustment Red | 0 |
Luminance Adjustment Yellow | 0 |
Luminance Noise Reduction Contrast | 0 |
Luminance Noise Reduction Detail | 50 |
Luminance Smoothing | 42 |
Marked | True |
Metering Mode | Multi-segment |
Owner Name | Andrew Luyten |
Parametric Darks | 0 |
Parametric Highlight Split | 87 |
Parametric Highlights | +7 |
Parametric Lights | -26 |
Parametric Midtone Split | 50 |
Parametric Shadow Split | 25 |
Parametric Shadows | 0 |
Perspective Aspect | 0 |
Perspective Horizontal | 0 |
Perspective Rotate | 0.0 |
Perspective Scale | 100 |
Perspective Upright | 0 |
Perspective Vertical | 0 |
Post Crop Vignette Amount | 0 |
Process Version | 6.7 |
Rating | 1 |
Recommended Exposure Index | 200 |
Red Hue | 0 |
Red Saturation | 0 |
Rights | Andrew Luyten 2014 |
Saturation | +10 |
Saturation Adjustment Aqua | 0 |
Saturation Adjustment Blue | -20 |
Saturation Adjustment Green | 0 |
Saturation Adjustment Magenta | 0 |
Saturation Adjustment Orange | 0 |
Saturation Adjustment Purple | 0 |
Saturation Adjustment Red | 0 |
Saturation Adjustment Yellow | 0 |
Scale Factor To 35 mm Equivalent | 4.4 |
Scene Capture Type | Standard |
Sensitivity Type | Recommended Exposure Index |
Shadow Tint | 0 |
Shadows 2012 | +12 |
Sharpen Detail | 35 |
Sharpen Edge Masking | 0 |
Sharpen Radius | +0.8 |
Sharpness | 40 |
Split Toning Balance | 0 |
Split Toning Highlight Hue | 0 |
Split Toning Highlight Saturation | 0 |
Split Toning Shadow Hue | 0 |
Split Toning Shadow Saturation | 0 |
State | Western Region |
Subject | Ganesh, Himalaya, Manaslu Circuit, Mountain Kingdoms, Nepal, Tsum, Tsum valley, mountain |
Tint | +21 |
Title | Peek at Ganesh II |
Tone Curve | 0, 0, 255, 255 |
Tone Curve Blue | 0, 0, 255, 255 |
Tone Curve Green | 0, 0, 255, 255 |
Tone Curve Name | Linear |
Tone Curve Name 2012 | Linear |
Tone Curve PV2012 | 0, 0, 255, 255 |
Tone Curve PV2012 Blue | 0, 0, 255, 255 |
Tone Curve PV2012 Green | 0, 0, 255, 255 |
Tone Curve PV2012 Red | 0, 0, 255, 255 |
Tone Curve Red | 0, 0, 255, 255 |
Version | 8.7 |
Vibrance | +43 |
Vignette Amount | 0 |
White Balance | Auto |
Whites 2012 | -21 |
GPS Information |
GPS Altitude | 2481.7 m Above Sea Level |
GPS Altitude Ref | Above Sea Level |
GPS Date Stamp | 2014:10:28 |
GPS Date/Time | 2014:10:28 05:02:06Z |
GPS Latitude | 28 deg 28' 37.95" N |
GPS Latitude Ref | North |
GPS Longitude | 85 deg 0' 33.01" E |
GPS Longitude Ref | East |
GPS Map Datum | WGS 1984 |
GPS Position | 28 deg 28' 37.95" N, 85 deg 0' 33.01" E |
GPS Time Stamp | 05:02:06 |
GPS Version ID | 2.3.0.0 |