Shooting information for this photo
Camera: | Canon EOS 550D |
Exposure: | 0.00313 sec. (1/320) |
Aperture: | f/10.0 |
Focal Length: | 23.0 mm (35 mm equivalent: 36.2 mm) |
Flash: | Off, Did not fire |
Exposure mode: | Aperture-priority AE |
Max Aperture: | 2.8 |
Resolution: | 240 x 240 dpi |
Original Date: | 2012:08:14 10:28:20.00 |
Created on: | 2012:08:14 10:28:20.00 |
Modified on: | 2012:09:15 16:35:29 |
Software: | Adobe Photoshop Lightroom 4.1 (Windows) |
Copyright: | © Andrew Luyten 2012 |
Already Applied | True |
Approximate Focus Distance | 73 |
Artist | Andrew Luyten |
Auto Lateral CA | 0 |
Blacks 2012 | 0 |
Blue Hue | 0 |
Blue Saturation | 0 |
Camera Profile | Adobe Standard |
Circle Of Confusion | 0.019 mm |
Clarity 2012 | +10 |
Color Noise Reduction | 25 |
Color Noise Reduction Detail | 50 |
Color Temperature | 5800 |
Contrast 2012 | 0 |
Convert To Grayscale | False |
Country | Tanzania |
Country Code | TZ |
Creator | Andrew Luyten |
Crop Angle | 0.870393 |
Crop Bottom | 1 |
Crop Constrain To Warp | 0 |
Crop Height | 1280 |
Crop Left | 0.026491 |
Crop Right | 0.99014 |
Crop Top | 0.004306 |
Crop Unit | pixels |
Crop Width | 1920 |
Custom Rendered | Normal |
Date Created | 2012:08:14 10:28:20.00 |
Defringe Green Amount | 0 |
Defringe Green Hue Hi | 60 |
Defringe Green Hue Lo | 40 |
Defringe Purple Amount | 0 |
Defringe Purple Hue Hi | 70 |
Defringe Purple Hue Lo | 30 |
Description | Of all the camps Karanga felt most like you might just end up rolling off of the mountain. |
Exposure 2012 | +1.19 |
Exposure Compensation | 0 |
Exposure Mode | Auto |
Field Of View | 52.9 deg |
Firmware | 1.0.6 |
Flash Compensation | 0 |
Format | image/jpeg |
Grain Amount | 0 |
Green Hue | 0 |
Green Saturation | 0 |
Has Crop | True |
Has Settings | True |
Highlights 2012 | -50 |
Hue Adjustment Aqua | 0 |
Hue Adjustment Blue | 0 |
Hue Adjustment Green | 0 |
Hue Adjustment Magenta | 0 |
Hue Adjustment Orange | 0 |
Hue Adjustment Purple | 0 |
Hue Adjustment Red | 0 |
Hue Adjustment Yellow | 0 |
Hyperfocal Distance | 2.77 m |
ISO | 200 |
Image Description | Of all the camps Karanga felt most like you might just end up rolling off of the mountain. |
Image Number | 0 |
Image Size | 1920x1280 |
Label | Picks |
Lens | EF-S17-55mm f/2.8 IS USM |
Lens ID | Canon EF-S 17-55mm f/2.8 IS USM |
Lens Info | 17-55mm f/? |
Lens Manual Distortion Amount | 0 |
Lens Model | EF-S17-55mm f/2.8 IS USM |
Lens Profile Enable | 0 |
Lens Profile Setup | LensDefaults |
Light Value | 14.0 |
Luminance Adjustment Aqua | 0 |
Luminance Adjustment Blue | 0 |
Luminance Adjustment Green | 0 |
Luminance Adjustment Magenta | 0 |
Luminance Adjustment Orange | 0 |
Luminance Adjustment Purple | 0 |
Luminance Adjustment Red | 0 |
Luminance Adjustment Yellow | 0 |
Luminance Smoothing | 0 |
Marked | True |
Metering Mode | Multi-segment |
Owner Name | Andrew Luyten |
Parametric Darks | 0 |
Parametric Highlight Split | 75 |
Parametric Highlights | 0 |
Parametric Lights | 0 |
Parametric Midtone Split | 50 |
Parametric Shadow Split | 25 |
Parametric Shadows | 0 |
Perspective Horizontal | 0 |
Perspective Rotate | 0.0 |
Perspective Scale | 100 |
Perspective Vertical | 0 |
Post Crop Vignette Amount | 0 |
Process Version | 6.7 |
Red Hue | 0 |
Red Saturation | 0 |
Rights | © Andrew Luyten 2012 |
Saturation | 0 |
Saturation Adjustment Aqua | 0 |
Saturation Adjustment Blue | 0 |
Saturation Adjustment Green | 0 |
Saturation Adjustment Magenta | 0 |
Saturation Adjustment Orange | 0 |
Saturation Adjustment Purple | 0 |
Saturation Adjustment Red | 0 |
Saturation Adjustment Yellow | 0 |
Scale Factor To 35 mm Equivalent | 1.6 |
Scene Capture Type | Standard |
Shadow Tint | 0 |
Shadows 2012 | 0 |
Sharpen Detail | 25 |
Sharpen Edge Masking | 0 |
Sharpen Radius | +1.0 |
Sharpness | 25 |
Split Toning Balance | 0 |
Split Toning Highlight Hue | 0 |
Split Toning Highlight Saturation | 0 |
Split Toning Shadow Hue | 0 |
Split Toning Shadow Saturation | 0 |
Subject | Camping, Exodus, Karanga, Kilimanjaro, Lemosho, Machame, Tanzania |
Tint | +11 |
Title | Camping on the Edge |
Tone Curve Name 2012 | Linear |
Tone Curve PV2012 | 0, 0, 255, 255 |
Tone Curve PV2012 Blue | 0, 0, 255, 255 |
Tone Curve PV2012 Green | 0, 0, 255, 255 |
Tone Curve PV2012 Red | 0, 0, 255, 255 |
Version | 7.1 |
Vibrance | +10 |
Vignette Amount | 0 |
White Balance | Auto |
Whites 2012 | 0 |
GPS Information |
GPS Altitude | 4031.425 m |
GPS Latitude | 3 deg 6' 46.43" S |
GPS Latitude Ref | South |
GPS Longitude | 37 deg 21' 16.04" E |
GPS Longitude Ref | East |
GPS Position | 3 deg 6' 46.43" S, 37 deg 21' 16.04" E |
GPS Version ID | 2.2.0.0 |