Shooting information for this photo
Camera: | Canon EOS 7D |
Exposure: | 0.00313 sec. (1/320) |
Aperture: | f/6.3 |
Focal Length: | 144.0 mm (35 mm equivalent: 226.1 mm) |
Flash: | Off, Did not fire |
Exposure mode: | Aperture-priority AE |
Max Aperture: | 4.0 |
Resolution: | 240 x 240 dpi |
Dimension: | 976 x 1200 pixels |
Original Date: | 2015:10:22 12:51:33.58 |
Created on: | 2015:10:22 12:51:33.58 |
Modified on: | 2015:11:21 10:29:49 |
Software: | Adobe Photoshop CS5 Windows |
Copyright: | Guenter Diel |
Already Applied | True |
Approximate Focus Distance | 16.3 |
Artist | Guenter Diel |
Auto Lateral CA | 1 |
Auto White Version | 134348800 |
Blacks 2012 | -3 |
Blue Hue | 0 |
Blue Saturation | 0 |
Camera Profile | Adobe Standard |
Circle Of Confusion | 0.019 mm |
Circular Gradient Based Corrections Correction Active | true |
Circular Gradient Based Corrections Correction Amount | 1.000000 |
Circular Gradient Based Corrections Correction Masks Angle | 6.932660 |
Circular Gradient Based Corrections Correction Masks Bottom | 0.727447 |
Circular Gradient Based Corrections Correction Masks Feather | +50 |
Circular Gradient Based Corrections Correction Masks Flipped | true |
Circular Gradient Based Corrections Correction Masks Left | 0.578014 |
Circular Gradient Based Corrections Correction Masks Mask Value | 1.000000 |
Circular Gradient Based Corrections Correction Masks Midpoint | +50 |
Circular Gradient Based Corrections Correction Masks Right | 0.744218 |
Circular Gradient Based Corrections Correction Masks Roundness | 0 |
Circular Gradient Based Corrections Correction Masks Top | 0.197127 |
Circular Gradient Based Corrections Correction Masks Version | +2 |
Circular Gradient Based Corrections Correction Masks What | Mask/CircularGradient |
Circular Gradient Based Corrections Local Blacks 2012 | 0.000000 |
Circular Gradient Based Corrections Local Brightness | 0.000000 |
Circular Gradient Based Corrections Local Clarity 2012 | 0.000000 |
Circular Gradient Based Corrections Local Contrast 2012 | 0.151160 |
Circular Gradient Based Corrections Local Defringe | 0.000000 |
Circular Gradient Based Corrections Local Dehaze | 0.000000 |
Circular Gradient Based Corrections Local Exposure 2012 | -0.035000 |
Circular Gradient Based Corrections Local Highlights 2012 | 0.000000 |
Circular Gradient Based Corrections Local Luminance Noise | 0.000000 |
Circular Gradient Based Corrections Local Moire | 0.000000 |
Circular Gradient Based Corrections Local Saturation | 0.139530 |
Circular Gradient Based Corrections Local Shadows 2012 | 0.000000 |
Circular Gradient Based Corrections Local Sharpness | 0.000000 |
Circular Gradient Based Corrections Local Temperature | 0.069770 |
Circular Gradient Based Corrections Local Tint | 0.000000 |
Circular Gradient Based Corrections Local Toning Hue | 240.000000 |
Circular Gradient Based Corrections Local Toning Saturation | 0.000000 |
Circular Gradient Based Corrections Local Whites 2012 | 0.000000 |
Circular Gradient Based Corrections What | Correction |
City | Bagan |
Clarity 2012 | 0 |
Color Mode | RGB |
Color Noise Reduction | 25 |
Color Noise Reduction Detail | 50 |
Color Noise Reduction Smoothness | 50 |
Color Space | sRGB |
Color Temperature | 4800 |
Contrast 2012 | -41 |
Convert To Grayscale | False |
Country | Myanmar |
Country Code | MMR |
Creator | Guenter Diel |
Crop Angle | 0 |
Crop Bottom | 1 |
Crop Constrain To Warp | 1 |
Crop Left | 0 |
Crop Right | 0.807276 |
Crop Top | 0.014749 |
Custom Rendered | Normal |
Date Created | 2015:10:22 12:51:33.058 |
Defringe Green Amount | 0 |
Defringe Green Hue Hi | 60 |
Defringe Green Hue Lo | 40 |
Defringe Purple Amount | 0 |
Defringe Purple Hue Hi | 70 |
Defringe Purple Hue Lo | 30 |
Dehaze | 0 |
Exposure 2012 | -1.16 |
Exposure Compensation | 0 |
Exposure Mode | Auto |
Field Of View | 9.1 deg |
Firmware | 1.2.3 |
Flash Compensation | 0 |
Format | image/jpeg |
Grain Amount | 0 |
Green Hue | 0 |
Green Saturation | 0 |
Has Crop | True |
Has Settings | True |
Highlights 2012 | -69 |
Hue Adjustment Aqua | 0 |
Hue Adjustment Blue | 0 |
Hue Adjustment Green | 0 |
Hue Adjustment Magenta | 0 |
Hue Adjustment Orange | 0 |
Hue Adjustment Purple | 0 |
Hue Adjustment Red | 0 |
Hue Adjustment Yellow | 0 |
Hyperfocal Distance | 172.02 m |
ICC Profile Name | sRGB IEC61966-2.1 |
ISO | 1600 |
Image Number | 0 |
Image Size | 976x1200 |
Lens | EF70-200mm f/4L IS USM |
Lens ID | Canon EF 70-200mm f/4L IS |
Lens Info | 70-200mm f/? |
Lens Manual Distortion Amount | 0 |
Lens Model | EF70-200mm f/4L IS USM |
Lens Profile Enable | 0 |
Lens Profile Setup | LensDefaults |
Light Value | 9.6 |
Luminance Adjustment Aqua | 0 |
Luminance Adjustment Blue | 0 |
Luminance Adjustment Green | 0 |
Luminance Adjustment Magenta | 0 |
Luminance Adjustment Orange | 0 |
Luminance Adjustment Purple | 0 |
Luminance Adjustment Red | 0 |
Luminance Adjustment Yellow | 0 |
Luminance Noise Reduction Contrast | 0 |
Luminance Noise Reduction Detail | 50 |
Luminance Smoothing | 23 |
Marked | True |
Metering Mode | Multi-segment |
Parametric Darks | 0 |
Parametric Highlight Split | 75 |
Parametric Highlights | 0 |
Parametric Lights | 0 |
Parametric Midtone Split | 50 |
Parametric Shadow Split | 25 |
Parametric Shadows | 0 |
Perspective Aspect | 0 |
Perspective Horizontal | 0 |
Perspective Rotate | 0.0 |
Perspective Scale | 100 |
Perspective Upright | 0 |
Perspective Vertical | 0 |
Photometric Interpretation | RGB |
Planar Configuration | Chunky |
Post Crop Vignette Amount | +12 |
Post Crop Vignette Feather | 50 |
Post Crop Vignette Midpoint | 50 |
Post Crop Vignette Roundness | 0 |
Post Crop Vignette Style | 1 |
Process Version | 6.7 |
Red Hue | 0 |
Red Saturation | 0 |
Rights | Guenter Diel |
Samples Per Pixel | 3 |
Saturation | 0 |
Saturation Adjustment Aqua | 0 |
Saturation Adjustment Blue | 0 |
Saturation Adjustment Green | 0 |
Saturation Adjustment Magenta | 0 |
Saturation Adjustment Orange | 0 |
Saturation Adjustment Purple | 0 |
Saturation Adjustment Red | 0 |
Saturation Adjustment Yellow | 0 |
Scale Factor To 35 mm Equivalent | 1.6 |
Scene Capture Type | Standard |
Shadow Tint | 0 |
Shadows 2012 | +69 |
Sharpen Detail | 29 |
Sharpen Edge Masking | 39 |
Sharpen Radius | +1.0 |
Sharpness | 25 |
Split Toning Balance | 0 |
Split Toning Highlight Hue | 0 |
Split Toning Highlight Saturation | 0 |
Split Toning Shadow Hue | 0 |
Split Toning Shadow Saturation | 0 |
Tint | +13 |
Tone Curve | 0, 0, 255, 255 |
Tone Curve Blue | 0, 0, 255, 255 |
Tone Curve Green | 0, 0, 255, 255 |
Tone Curve Name | Linear |
Tone Curve Name 2012 | Custom |
Tone Curve PV2012 | 7, 0, 151, 209, 217, 255 |
Tone Curve PV2012 Blue | 0, 0, 255, 255 |
Tone Curve PV2012 Green | 0, 0, 255, 255 |
Tone Curve PV2012 Red | 0, 0, 255, 255 |
Tone Curve Red | 0, 0, 255, 255 |
Tone Map Strength | 0 |
Version | 9.3 |
Vibrance | 0 |
Vignette Amount | 0 |
White Balance | Auto |
Whites 2012 | +13 |