Shooting information for this photo
Camera: | Canon EOS 5D Mark II |
Exposure: | 0.002 sec. (1/500) |
Aperture: | f/8.0 |
Focal Length: | 70.0 mm (35 mm equivalent: 68.3 mm) |
Flash: | Off, Did not fire |
Exposure mode: | Aperture-priority AE |
Max Aperture: | 4.0 |
Resolution: | 240 x 240 dpi |
Dimension: | 1801 x 1200 pixels |
Original Date: | 2011:01:06 11:48:39 |
Created on: | 2011:01:06 11:48:39+01:00 |
Modified on: | 2023:02:13 20:26:29 |
Software: | Adobe Photoshop CS5 Windows |
Copyright: | Guenter Diel |
Already Applied | True |
Approximate Focus Distance | 11.9 |
Artist | Guenter Diel |
Blue Hue | 0 |
Blue Saturation | 0 |
Body Serial Number | 1230821085 |
Brightness | 0 |
Camera Profile | Camera Neutral |
Chromatic Aberration B | 0 |
Chromatic Aberration R | 0 |
Circle Of Confusion | 0.031 mm |
Clarity | 0 |
Color Mode | RGB |
Color Noise Reduction | 25 |
Color Noise Reduction Detail | 50 |
Color Space | sRGB |
Color Temperature | 4644 |
Contrast | 0 |
Convert To Grayscale | False |
Country | Indien |
Country Code | IN |
Creator | Guenter Diel |
Crop Angle | 1.23367 |
Crop Bottom | 0.850408 |
Crop Constrain To Warp | 0 |
Crop Height | 1890 |
Crop Left | 0.396004 |
Crop Right | 0.893623 |
Crop Top | 0.32923 |
Crop Unit | pixels |
Crop Width | 2836 |
Defringe | 0 |
Depth Of Field | 21.89 m (7.46 - 29.36) |
Exposure | 0.00 |
Exposure Compensation | -1/3 |
Exposure Mode | Auto |
Field Of View | 29.5 deg |
Fill Light | 20 |
Firmware | 2.0.4 |
Flash Compensation | 0 |
Format | image/tiff |
Grain Amount | 0 |
Green Hue | 0 |
Green Saturation | 0 |
Has Crop | True |
Has Settings | True |
Highlight Recovery | 20 |
Hue Adjustment Aqua | 0 |
Hue Adjustment Blue | 0 |
Hue Adjustment Green | 0 |
Hue Adjustment Magenta | 0 |
Hue Adjustment Orange | 0 |
Hue Adjustment Purple | 0 |
Hue Adjustment Red | 0 |
Hue Adjustment Yellow | 0 |
Hyperfocal Distance | 19.89 m |
ICC Profile Name | sRGB IEC61966-2.1 |
ISO | 800 |
Image Number | 0 |
Image Size | 1801x1200 |
Lens | EF24-105mm f/4L IS USM |
Lens ID | Canon EF 24-105mm f/4L IS |
Lens Info | 24-105mm f/? |
Lens Manual Distortion Amount | 0 |
Lens Model | EF24-105mm f/4L IS USM |
Lens Profile Chromatic Aberration Scale | 100 |
Lens Profile Distortion Scale | 100 |
Lens Profile Enable | 1 |
Lens Profile Filename | Canon EOS-1Ds Mark III (Canon EF 24-105mm f4 L IS USM) - RAW.lcp |
Lens Profile Name | Adobe (Canon EF 24-105mm f/4 L IS USM) |
Lens Profile Setup | LensDefaults |
Lens Profile Vignetting Scale | 100 |
Lens Specification | 24, 105, undef, undef |
Light Value | 12.0 |
Luminance Adjustment Aqua | 0 |
Luminance Adjustment Blue | 0 |
Luminance Adjustment Green | 0 |
Luminance Adjustment Magenta | 0 |
Luminance Adjustment Orange | 0 |
Luminance Adjustment Purple | 0 |
Luminance Adjustment Red | 0 |
Luminance Adjustment Yellow | 0 |
Luminance Noise Reduction Contrast | 11 |
Luminance Noise Reduction Detail | 50 |
Luminance Smoothing | 11 |
Marked | True |
Metering Mode | Multi-segment |
Parametric Darks | 0 |
Parametric Highlight Split | 75 |
Parametric Highlights | 0 |
Parametric Lights | 0 |
Parametric Midtone Split | 50 |
Parametric Shadow Split | 25 |
Parametric Shadows | 0 |
Perspective Horizontal | 0 |
Perspective Rotate | 0.0 |
Perspective Scale | 100 |
Perspective Vertical | 0 |
Photographic Sensitivity | 800 |
Post Crop Vignette Amount | 0 |
Process Version | 5.7 |
Red Hue | 0 |
Red Saturation | 0 |
Rights | Guenter Diel |
Saturation | -3 |
Saturation Adjustment Aqua | 0 |
Saturation Adjustment Blue | 0 |
Saturation Adjustment Green | 0 |
Saturation Adjustment Magenta | -16 |
Saturation Adjustment Orange | 0 |
Saturation Adjustment Purple | 0 |
Saturation Adjustment Red | 0 |
Saturation Adjustment Yellow | 0 |
Scale Factor To 35 mm Equivalent | 1.0 |
Scene Capture Type | Standard |
Shadow Tint | 0 |
Shadows | 0 |
Sharpen Detail | 25 |
Sharpen Edge Masking | 14 |
Sharpen Radius | +1.0 |
Sharpness | 25 |
Split Toning Balance | 0 |
Split Toning Highlight Hue | 0 |
Split Toning Highlight Saturation | 0 |
Split Toning Shadow Hue | 0 |
Split Toning Shadow Saturation | 0 |
Subject Distance | 11.9 m |
Tint | -3 |
Title | 2011-Januar-06-Indien-0884-mod i(vor schärfen 2)-LR-B&W |
Tone Curve | 42, 0, 75, 69, 145, 207, 248, 255 |
Tone Curve Name | Custom |
Version | 6.3 |
Vibrance | 0 |
Vignette Amount | 0 |
White Balance | Auto |