Shooting information for this photo
Camera: | Canon EOS 5D Mark II |
Exposure: | 0.0008 sec. (1/1250) |
Aperture: | f/7.1 |
Focal Length: | 80.0 mm (35 mm equivalent: 78.1 mm) |
Flash: | Off, Did not fire |
Exposure mode: | Aperture-priority AE |
Max Aperture: | 4.0 |
Resolution: | 240 x 240 dpi |
Dimension: | 800 x 1200 pixels |
Original Date: | 2011:01:10 14:42:03 |
Created on: | 2011:01:10 14:42:03+01:00 |
Modified on: | 2021:04:02 15:39:52 |
Software: | Adobe Photoshop CS5 Windows |
Copyright: | Guenter Diel |
Already Applied | True |
Approximate Focus Distance | 0.86 |
Artist | Guenter Diel |
Auto Lateral CA | 1 |
Auto White Version | 134348800 |
Blacks 2012 | 0 |
Blue Hue | 0 |
Blue Saturation | 0 |
Camera Profile | Adobe Standard |
Circle Of Confusion | 0.031 mm |
Clarity 2012 | 0 |
Color Mode | RGB |
Color Noise Reduction | 25 |
Color Noise Reduction Detail | 50 |
Color Noise Reduction Smoothness | 50 |
Color Space | sRGB |
Color Temperature | 4350 |
Contrast 2012 | 5 |
Convert To Grayscale | False |
Country | Indien |
Country Code | IN |
Creator | Guenter Diel |
Crop Angle | 0 |
Crop Bottom | 0.932153 |
Crop Constrain To Warp | 0 |
Crop Left | 0.000001 |
Crop Right | 0.864306 |
Crop Top | 0.067847 |
Defringe Green Amount | 0 |
Defringe Green Hue Hi | 60 |
Defringe Green Hue Lo | 40 |
Defringe Purple Amount | 0 |
Defringe Purple Hue Hi | 70 |
Defringe Purple Hue Lo | 30 |
Depth Of Field | 0.05 m (0.84 - 0.88) |
Exposure 2012 | 0.150000 |
Exposure Compensation | -2/3 |
Exposure Mode | Auto |
Field Of View | 26.0 deg |
Firmware | 2.0.4 |
Flash Compensation | 0 |
Format | image/tiff |
Gradient Based Corr Active | True |
Gradient Based Corr Amount | 1 |
Gradient Based Corr Brightness | 0 |
Gradient Based Corr Clarity 2012 | 0 |
Gradient Based Corr Contrast 2012 | 0 |
Gradient Based Corr Defringe | 0 |
Gradient Based Corr Exposure 2012 | -0.030250 |
Gradient Based Corr Highlights 2012 | -0.075760 |
Gradient Based Corr Hue | 233 |
Gradient Based Corr Luminance Noise | 0 |
Gradient Based Corr Mask Full X | 0.359392 |
Gradient Based Corr Mask Full Y | 0.493359 |
Gradient Based Corr Mask Value | 1 |
Gradient Based Corr Mask What | Mask/Gradient |
Gradient Based Corr Mask Zero X | 0.362890 |
Gradient Based Corr Mask Zero Y | 0.647876 |
Gradient Based Corr Moire | 0 |
Gradient Based Corr Saturation | 0 |
Gradient Based Corr Shadows 2012 | 0 |
Gradient Based Corr Sharpness | 0 |
Gradient Based Corr Temperature | 0 |
Gradient Based Corr Tint | 0 |
Gradient Based Corr What | Correction |
Grain Amount | 0 |
Green Hue | 0 |
Green Saturation | 0 |
Has Crop | True |
Has Settings | True |
Highlights 2012 | -64 |
Hue Adjustment Aqua | 0 |
Hue Adjustment Blue | 0 |
Hue Adjustment Green | 0 |
Hue Adjustment Magenta | 0 |
Hue Adjustment Orange | 0 |
Hue Adjustment Purple | 0 |
Hue Adjustment Red | 0 |
Hue Adjustment Yellow | 0 |
Hyperfocal Distance | 29.28 m |
ICC Profile Name | sRGB IEC61966-2.1 |
ISO | 400 |
Image Number | 0 |
Image Size | 800x1200 |
Lens | EF24-105mm f/4L IS USM |
Lens ID | Canon EF 24-105mm f/4L IS |
Lens Info | 24-105mm f/? |
Lens Manual Distortion Amount | 0 |
Lens Model | EF24-105mm f/4L IS USM |
Lens Profile Enable | 0 |
Lens Profile Setup | LensDefaults |
Light Value | 13.9 |
Luminance Adjustment Aqua | 0 |
Luminance Adjustment Blue | 0 |
Luminance Adjustment Green | 0 |
Luminance Adjustment Magenta | 0 |
Luminance Adjustment Orange | 0 |
Luminance Adjustment Purple | 0 |
Luminance Adjustment Red | 0 |
Luminance Adjustment Yellow | 0 |
Luminance Smoothing | 0 |
Marked | True |
Metering Mode | Multi-segment |
Paint Correction Active | True |
Paint Correction Amount | 1 |
Paint Correction Brightness | 0 |
Paint Correction Clarity 2012 | 0 |
Paint Correction Contrast 2012 | 0 |
Paint Correction Defringe | 0 |
Paint Correction Exposure 2012 | 0.060500 |
Paint Correction Highlights 2012 | 0 |
Paint Correction Hue | 233 |
Paint Correction Luminance Noise | 0 |
Paint Correction Mask Center Weight | 0.251968 |
Paint Correction Mask Flow | 1 |
Paint Correction Mask Radius | 0.002548 |
Paint Correction Mask Value | 1 |
Paint Correction Mask What | Mask/Paint |
Paint Correction Moire | 0 |
Paint Correction Saturation | 0 |
Paint Correction Shadows 2012 | 0 |
Paint Correction Sharpness | 0 |
Paint Correction Temperature | 0 |
Paint Correction Tint | 0 |
Paint Correction What | Correction |
Parametric Darks | 0 |
Parametric Highlight Split | 75 |
Parametric Highlights | 0 |
Parametric Lights | 0 |
Parametric Midtone Split | 50 |
Parametric Shadow Split | 25 |
Parametric Shadows | 0 |
Perspective Aspect | 0 |
Perspective Horizontal | 0 |
Perspective Rotate | 0 |
Perspective Scale | 100 |
Perspective Upright | 0 |
Perspective Vertical | 0 |
Post Crop Vignette Amount | 0 |
Process Version | 6.7 |
Red Hue | 0 |
Red Saturation | 0 |
Rights | Guenter Diel |
Saturation | 0 |
Saturation Adjustment Aqua | 0 |
Saturation Adjustment Blue | 0 |
Saturation Adjustment Green | 0 |
Saturation Adjustment Magenta | 0 |
Saturation Adjustment Orange | 0 |
Saturation Adjustment Purple | 0 |
Saturation Adjustment Red | 0 |
Saturation Adjustment Yellow | 0 |
Scale Factor To 35 mm Equivalent | 1.0 |
Scene Capture Type | Standard |
Shadow Tint | 0 |
Shadows 2012 | 58 |
Sharpen Detail | 25 |
Sharpen Edge Masking | 0 |
Sharpen Radius | 1 |
Sharpness | 25 |
Split Toning Balance | 0 |
Split Toning Highlight Hue | 0 |
Split Toning Highlight Saturation | 0 |
Split Toning Shadow Hue | 0 |
Split Toning Shadow Saturation | 0 |
Subject | Porträt, portrait |
Subject Distance | 0.86 m |
Tint | -7 |
Title | 2011-Januar-10-Indien-2791-mod i(vor schärfen)-B&W-LR |
Tone Curve Name 2012 | Custom |
Tone Curve PV2012 | 0, 0, 36, 38, 160, 173, 255, 255 |
Tone Curve PV2012 Blue | 0, 0, 255, 255 |
Tone Curve PV2012 Green | 0, 0, 255, 255 |
Tone Curve PV2012 Red | 0, 0, 255, 255 |
Version | 8.3 |
Vibrance | 0 |
Vignette Amount | 0 |
White Balance | Auto |
Whites 2012 | 0 |