Shooting information for this photo
Camera: | Canon EOS 600D |
Exposure: | 0.00313 sec. (1/320) |
Aperture: | f/5.6 |
Focal Length: | 135.0 mm (35 mm equivalent: 434.3 mm) |
Flash: | Off, Did not fire |
Exposure mode: | Shutter speed priority AE |
Max Aperture: | 5.7 |
Resolution: | 240 x 240 dpi |
Original Date: | 2016:11:07 18:06:05.80 |
Created on: | 2016:11:07 18:06:05 |
Modified on: | 2023:07:09 15:57:11 |
Software: | Topaz Photo AI 1.3.12 |
Already Applied | True |
Approximate Focus Distance | 41.9 |
Artist | Zinco |
Auto Lateral CA | 1 |
Blacks 2012 | 0 |
Blue Hue | 0 |
Blue Saturation | 0 |
Camera Profile | Embedded |
Circle Of Confusion | 0.009 mm |
Clarity 2012 | 0 |
Color Noise Reduction | 0 |
Color Space | sRGB |
Contrast 2012 | 0 |
Convert To Grayscale | False |
Creator | Zinco |
Crop Angle | 0.652 |
Crop Constrain To Warp | 0 |
Custom Rendered | Normal |
Defringe Green Amount | 0 |
Defringe Green Hue Hi | 60 |
Defringe Green Hue Lo | 40 |
Defringe Purple Amount | 0 |
Defringe Purple Hue Hi | 70 |
Defringe Purple Hue Lo | 30 |
Dehaze | +47 |
Distortion Correction Already Applied | True |
Exposure 2012 | 0.00 |
Exposure Compensation | 0 |
Exposure Mode | Auto |
Field Of View | 4.7 deg |
Firmware | 1.0.2 |
Flash Compensation | 0 |
Flash Fired | False |
Flash Function | False |
Flash Mode | Off |
Flash Red Eye Mode | False |
Flash Return | No return detection |
Format | image/jpeg |
Gradient Based Corr Active | True |
Gradient Based Corr Amount | 1.000000 |
Gradient Based Corr Brightness | 0.000000 |
Gradient Based Corr Clarity 2012 | 0.630770 |
Gradient Based Corr Contrast 2012 | 0.000000 |
Gradient Based Corr Correction Range Mask Color Amount | 0.500000 |
Gradient Based Corr Correction Range Mask Depth Feather | 0.500000 |
Gradient Based Corr Correction Range Mask Depth Max | 1.000000 |
Gradient Based Corr Correction Range Mask Depth Min | 0.000000 |
Gradient Based Corr Correction Range Mask Lum Feather | 0.500000 |
Gradient Based Corr Correction Range Mask Lum Max | 1.000000 |
Gradient Based Corr Correction Range Mask Lum Min | 0.000000 |
Gradient Based Corr Correction Range Mask Type | 0 |
Gradient Based Corr Correction Range Mask Version | +2 |
Gradient Based Corr Defringe | 0.000000 |
Gradient Based Corr Exposure 2012 | 0.000000 |
Gradient Based Corr Highlights 2012 | 0.000000 |
Gradient Based Corr Hue | 240.000000 |
Gradient Based Corr Local Blacks 2012 | 0.000000 |
Gradient Based Corr Local Dehaze | 0.000000 |
Gradient Based Corr Local Texture | 0.000000 |
Gradient Based Corr Local Whites 2012 | 0.000000 |
Gradient Based Corr Luminance Noise | 0.000000 |
Gradient Based Corr Mask Full X | 0.466845 |
Gradient Based Corr Mask Full Y | 0.091981 |
Gradient Based Corr Mask Value | 1.000000 |
Gradient Based Corr Mask What | Mask/Gradient |
Gradient Based Corr Mask Zero X | 0.472975 |
Gradient Based Corr Mask Zero Y | 0.435475 |
Gradient Based Corr Moire | 0.000000 |
Gradient Based Corr Saturation | 0.000000 |
Gradient Based Corr Shadows 2012 | 0.000000 |
Gradient Based Corr Sharpness | 1.000000 |
Gradient Based Corr Temperature | 0.000000 |
Gradient Based Corr Tint | 0.000000 |
Gradient Based Corr What | Correction |
Gradient Based Corrections Correction Active | True |
Gradient Based Corrections Correction Amount | 1.000000 |
Gradient Based Corrections Correction Masks Full X | 0.466845 |
Gradient Based Corrections Correction Masks Full Y | 0.091981 |
Gradient Based Corrections Correction Masks Mask Value | 1.000000 |
Gradient Based Corrections Correction Masks What | Mask/Gradient |
Gradient Based Corrections Correction Masks Zero X | 0.472975 |
Gradient Based Corrections Correction Masks Zero Y | 0.435475 |
Gradient Based Corrections Correction Range Mask Color Amount | 0.500000 |
Gradient Based Corrections Correction Range Mask Depth Feather | 0.500000 |
Gradient Based Corrections Correction Range Mask Depth Max | 1.000000 |
Gradient Based Corrections Correction Range Mask Depth Min | 0.000000 |
Gradient Based Corrections Correction Range Mask Lum Feather | 0.500000 |
Gradient Based Corrections Correction Range Mask Lum Max | 1.000000 |
Gradient Based Corrections Correction Range Mask Lum Min | 0.000000 |
Gradient Based Corrections Correction Range Mask Type | 0 |
Gradient Based Corrections Correction Range Mask Version | +2 |
Gradient Based Corrections Local Blacks 2012 | 0.000000 |
Gradient Based Corrections Local Brightness | 0.000000 |
Gradient Based Corrections Local Clarity 2012 | 0.630770 |
Gradient Based Corrections Local Contrast 2012 | 0.000000 |
Gradient Based Corrections Local Defringe | 0.000000 |
Gradient Based Corrections Local Dehaze | 0.000000 |
Gradient Based Corrections Local Exposure 2012 | 0.000000 |
Gradient Based Corrections Local Highlights 2012 | 0.000000 |
Gradient Based Corrections Local Luminance Noise | 0.000000 |
Gradient Based Corrections Local Moire | 0.000000 |
Gradient Based Corrections Local Saturation | 0.000000 |
Gradient Based Corrections Local Shadows 2012 | 0.000000 |
Gradient Based Corrections Local Sharpness | 1.000000 |
Gradient Based Corrections Local Temperature | 0.000000 |
Gradient Based Corrections Local Texture | 0.000000 |
Gradient Based Corrections Local Tint | 0.000000 |
Gradient Based Corrections Local Toning Hue | 240.000000 |
Gradient Based Corrections Local Toning Saturation | 0.000000 |
Gradient Based Corrections Local Whites 2012 | 0.000000 |
Gradient Based Corrections What | Correction |
Grain Amount | 0 |
Green Hue | 0 |
Green Saturation | 0 |
Has Crop | True |
Has Extended XMP | 68D953C7A54C314AA31E20A236DD0D 15 |
Has Settings | True |
Highlights 2012 | 0 |
Hue Adjustment Aqua | 0 |
Hue Adjustment Blue | 0 |
Hue Adjustment Green | 0 |
Hue Adjustment Magenta | 0 |
Hue Adjustment Orange | 0 |
Hue Adjustment Purple | 0 |
Hue Adjustment Red | 0 |
Hue Adjustment Yellow | 0 |
Hyperfocal Distance | 348.44 m |
ISO | 320 |
Image Number | 0 |
Image Size | 2600x1584 |
Incremental Temperature | 0 |
Incremental Tint | 0 |
Lateral Chromatic Aberration Correction Already Applied | True |
Lens | EF-S18-135mm f/3.5-5.6 IS |
Lens ID | Canon EF-S 18-135mm f/3.5-5.6 IS |
Lens Info | 18-135mm f/? |
Lens Manual Distortion Amount | 0 |
Lens Model | EF-S18-135mm f/3.5-5.6 IS |
Lens Profile Chromatic Aberration Scale | 100 |
Lens Profile Distortion Scale | 100 |
Lens Profile Enable | 1 |
Lens Profile Filename | Canon EOS-1Ds Mark III (Canon EF 70-300mm f4-5.6 IS USM).lcp |
Lens Profile Name | Adobe (Canon EF 70-300mm f/4-5.6 IS USM) |
Lens Profile Setup | Custom |
Lens Profile Vignetting Scale | 100 |
Light Value | 11.6 |
Luminance Adjustment Aqua | 0 |
Luminance Adjustment Blue | 0 |
Luminance Adjustment Green | 0 |
Luminance Adjustment Magenta | 0 |
Luminance Adjustment Orange | 0 |
Luminance Adjustment Purple | 0 |
Luminance Adjustment Red | 0 |
Luminance Adjustment Yellow | 0 |
Luminance Smoothing | 0 |
Metering Mode | Multi-segment |
Override Look Vignette | False |
Paint Based Corrections Correction Active | True |
Paint Based Corrections Correction Amount | 1.000000 |
Paint Based Corrections Correction Masks Center Weight | 0.020488 |
Paint Based Corrections Correction Masks Flow | 1.000000 |
Paint Based Corrections Correction Masks Radius | 0.012779 |
Paint Based Corrections Correction Masks What | Mask/Paint |
Paint Based Corrections Correction Range Mask Color Amount | 0.500000 |
Paint Based Corrections Correction Range Mask Depth Feather | 0.500000 |
Paint Based Corrections Correction Range Mask Depth Max | 1.000000 |
Paint Based Corrections Correction Range Mask Depth Min | 0.000000 |
Paint Based Corrections Correction Range Mask Lum Feather | 0.500000 |
Paint Based Corrections Correction Range Mask Lum Max | 1.000000 |
Paint Based Corrections Correction Range Mask Lum Min | 0.000000 |
Paint Based Corrections Correction Range Mask Type | 0 |
Paint Based Corrections Correction Range Mask Version | +2 |
Paint Based Corrections Local Blacks 2012 | 0.000000 |
Paint Based Corrections Local Brightness | 0.000000 |
Paint Based Corrections Local Clarity 2012 | 0.784620 |
Paint Based Corrections Local Contrast 2012 | 0.000000 |
Paint Based Corrections Local Defringe | 0.000000 |
Paint Based Corrections Local Dehaze | 0.000000 |
Paint Based Corrections Local Exposure 2012 | 0.000000 |
Paint Based Corrections Local Highlights 2012 | 0.000000 |
Paint Based Corrections Local Luminance Noise | 0.000000 |
Paint Based Corrections Local Moire | 0.000000 |
Paint Based Corrections Local Saturation | 0.000000 |
Paint Based Corrections Local Shadows 2012 | 0.000000 |
Paint Based Corrections Local Sharpness | 0.507690 |
Paint Based Corrections Local Temperature | 0.000000 |
Paint Based Corrections Local Texture | 0.000000 |
Paint Based Corrections Local Tint | 0.000000 |
Paint Based Corrections Local Toning Hue | 240.000000 |
Paint Based Corrections Local Toning Saturation | 0.000000 |
Paint Based Corrections Local Whites 2012 | 0.000000 |
Paint Based Corrections What | Correction |
Paint Correction Active | True |
Paint Correction Amount | 1.000000 |
Paint Correction Brightness | 0.000000 |
Paint Correction Clarity 2012 | 0.784620 |
Paint Correction Contrast 2012 | 0.000000 |
Paint Correction Correction Range Mask Color Amount | 0.500000 |
Paint Correction Correction Range Mask Depth Feather | 0.500000 |
Paint Correction Correction Range Mask Depth Max | 1.000000 |
Paint Correction Correction Range Mask Depth Min | 0.000000 |
Paint Correction Correction Range Mask Lum Feather | 0.500000 |
Paint Correction Correction Range Mask Lum Max | 1.000000 |
Paint Correction Correction Range Mask Lum Min | 0.000000 |
Paint Correction Correction Range Mask Type | 0 |
Paint Correction Correction Range Mask Version | +2 |
Paint Correction Defringe | 0.000000 |
Paint Correction Exposure 2012 | 0.000000 |
Paint Correction Highlights 2012 | 0.000000 |
Paint Correction Hue | 240.000000 |
Paint Correction Local Blacks 2012 | 0.000000 |
Paint Correction Local Dehaze | 0.000000 |
Paint Correction Local Texture | 0.000000 |
Paint Correction Local Whites 2012 | 0.000000 |
Paint Correction Luminance Noise | 0.000000 |
Paint Correction Mask Center Weight | 0.020488 |
Paint Correction Mask Flow | 1.000000 |
Paint Correction Mask Radius | 0.012779 |
Paint Correction Mask Value | 0.685000 |
Paint Correction Mask What | Mask/Paint |
Paint Correction Moire | 0.000000 |
Paint Correction Saturation | 0.000000 |
Paint Correction Shadows 2012 | 0.000000 |
Paint Correction Sharpness | 0.507690 |
Paint Correction Temperature | 0.000000 |
Paint Correction Tint | 0.000000 |
Paint Correction What | Correction |
Parametric Darks | 0 |
Parametric Highlight Split | 75 |
Parametric Highlights | 0 |
Parametric Lights | 0 |
Parametric Midtone Split | 50 |
Parametric Shadow Split | 25 |
Parametric Shadows | 0 |
Perspective Aspect | 0 |
Perspective Horizontal | 0 |
Perspective Rotate | 0.0 |
Perspective Scale | 100 |
Perspective Upright | 0 |
Perspective Vertical | 0 |
Perspective X | 0.00 |
Perspective Y | 0.00 |
Post Crop Vignette Amount | 0 |
Preserved File Name | IMG_6433.psd |
Process Version | 11.0 |
Recommended Exposure Index | 320 |
Red Hue | 0 |
Red Saturation | 0 |
Saturation | Normal |
Saturation Adjustment Aqua | 0 |
Saturation Adjustment Blue | 0 |
Saturation Adjustment Green | 0 |
Saturation Adjustment Magenta | 0 |
Saturation Adjustment Orange | 0 |
Saturation Adjustment Purple | 0 |
Saturation Adjustment Red | 0 |
Saturation Adjustment Yellow | 0 |
Scale Factor To 35 mm Equivalent | 3.2 |
Scene Capture Type | Standard |
Sensitivity Type | Recommended Exposure Index |
Shadow Tint | 0 |
Shadows 2012 | 0 |
Sharpen Detail | 60 |
Sharpen Edge Masking | 0 |
Sharpen Radius | +1.0 |
Sharpness | Hard |
Split Toning Balance | 0 |
Split Toning Highlight Hue | 0 |
Split Toning Highlight Saturation | 0 |
Split Toning Shadow Hue | 0 |
Split Toning Shadow Saturation | 0 |
Texture | 0 |
Tone Curve | 0, 0, 255, 255 |
Tone Curve Blue | 0, 0, 255, 255 |
Tone Curve Green | 0, 0, 255, 255 |
Tone Curve Name | Linear |
Tone Curve Name 2012 | Linear |
Tone Curve PV2012 | 0, 0, 255, 255 |
Tone Curve PV2012 Blue | 0, 0, 255, 255 |
Tone Curve PV2012 Green | 0, 0, 255, 255 |
Tone Curve PV2012 Red | 0, 0, 255, 255 |
Tone Curve Red | 0, 0, 255, 255 |
Tone Map Strength | 0 |
Version | 12.2.1 |
Vibrance | -16 |
Vignette Amount | 0 |
Vignette Correction Already Applied | True |
White Balance | Auto |
Whites 2012 | 0 |
tions Correction Masks Mask Value | 0.685000 |