Shooting information for this photo
Camera: | NIKON CORPORATION NIKON D600 |
Resolution: | 1 x 1 dpi |
Dimension: | 4659 x 1992 pixels |
Original Date: | 2017:06:27 21:32:14 |
Created on: | 2017:06:27 21:32:14 |
Modified on: | 2017:06:28 19:56:40 |
Software: | Capture NX 2.4.7 W |
Already Applied | False |
Auto Lateral CA | 0 |
Auto White Version | 134348800 |
Blacks 2012 | -23 |
Blue Hue | 0 |
Blue Saturation | 0 |
Camera Profile | Embedded |
Clarity 2012 | +25 |
Color Noise Reduction | 46 |
Color Noise Reduction Detail | 50 |
Color Noise Reduction Smoothness | 62 |
Color Space | Uncalibrated |
Contrast 2012 | +81 |
Convert To Grayscale | False |
Crop Angle | 0 |
Crop Bottom | 0.74032 |
Crop Constrain To Warp | 0 |
Crop Left | 0.039735 |
Crop Right | 0.837274 |
Crop Top | 0.22779 |
Defringe Green Amount | 0 |
Defringe Green Hue Hi | 60 |
Defringe Green Hue Lo | 40 |
Defringe Purple Amount | 0 |
Defringe Purple Hue Hi | 70 |
Defringe Purple Hue Lo | 30 |
Dehaze | +21 |
Exposure 2012 | +0.36 |
Format | image/jpeg |
Grain Amount | 0 |
Green Hue | 0 |
Green Saturation | 0 |
Has Crop | True |
Has Settings | True |
Highlights 2012 | 0 |
Hue Adjustment Aqua | 0 |
Hue Adjustment Blue | 0 |
Hue Adjustment Green | 0 |
Hue Adjustment Magenta | 0 |
Hue Adjustment Orange | 0 |
Hue Adjustment Purple | 0 |
Hue Adjustment Red | 0 |
Hue Adjustment Yellow | 0 |
IFD0 Offset | 1066 |
Image Data Size | 4597615 |
Image Size | 4659x1992 |
Incremental Temperature | 0 |
Incremental Tint | 0 |
Lens Manual Distortion Amount | 0 |
Lens Profile Enable | 0 |
Lens Profile Setup | LensDefaults |
Luminance Adjustment Aqua | 0 |
Luminance Adjustment Blue | 0 |
Luminance Adjustment Green | 0 |
Luminance Adjustment Magenta | 0 |
Luminance Adjustment Orange | 0 |
Luminance Adjustment Purple | 0 |
Luminance Adjustment Red | 0 |
Luminance Adjustment Yellow | 0 |
Luminance Noise Reduction Contrast | 12 |
Luminance Noise Reduction Detail | 50 |
Luminance Smoothing | 53 |
Maker Note Version | 2.11 |
NEF Bit Depth | n/a (JPEG) |
Nikon Capture Version | Capture NX 2.4.7 W |
Parametric Darks | 0 |
Parametric Highlight Split | 75 |
Parametric Highlights | 0 |
Parametric Lights | 0 |
Parametric Midtone Split | 50 |
Parametric Shadow Split | 25 |
Parametric Shadows | 0 |
Perspective Aspect | 0 |
Perspective Horizontal | 0 |
Perspective Rotate | 0.0 |
Perspective Scale | 100 |
Perspective Upright | 0 |
Perspective Vertical | 0 |
Perspective X | 0.00 |
Perspective Y | 0.00 |
Post Crop Vignette Amount | 0 |
Preview IFD Offset | 966 |
Process Version | 6.7 |
Rating | 0 |
Raw File Name | _DSC0682 - _DSC0683.jpg |
Red Hue | 0 |
Red Saturation | 0 |
Saturation | 0 |
Saturation Adjustment Aqua | 0 |
Saturation Adjustment Blue | 0 |
Saturation Adjustment Green | 0 |
Saturation Adjustment Magenta | 0 |
Saturation Adjustment Orange | 0 |
Saturation Adjustment Purple | 0 |
Saturation Adjustment Red | 0 |
Saturation Adjustment Yellow | 0 |
Shadow Tint | 0 |
Shadows 2012 | -7 |
Sharpen Detail | 25 |
Sharpen Edge Masking | 0 |
Sharpen Radius | +1.0 |
Sharpness | 64 |
Split Toning Balance | 0 |
Split Toning Highlight Hue | 0 |
Split Toning Highlight Saturation | 0 |
Split Toning Shadow Hue | 0 |
Split Toning Shadow Saturation | 0 |
Tone Curve | 0, 0, 255, 255 |
Tone Curve Blue | 0, 0, 255, 255 |
Tone Curve Green | 0, 0, 255, 255 |
Tone Curve Name | Linear |
Tone Curve Name 2012 | Linear |
Tone Curve PV2012 | 0, 0, 255, 255 |
Tone Curve PV2012 Blue | 0, 0, 255, 255 |
Tone Curve PV2012 Green | 0, 0, 255, 255 |
Tone Curve PV2012 Red | 0, 0, 255, 255 |
Tone Curve Red | 0, 0, 255, 255 |
Tone Map Strength | 0 |
User Comment | .Projection: Cylindrical (1).FOV: 156 x 97.Ev: -6.30 |
Version | 9.10 |
Vibrance | +19 |
Vignette Amount | 0 |
White Balance | As Shot |
White Point | 0.313 0.329 |
Whites 2012 | +28 |
GPS Information |
GPS Altitude | 247 m Above Sea Level |
GPS Altitude Ref | Above Sea Level |
GPS Date Stamp | 2017:06:27 |
GPS Date/Time | 2017:06:27 13:32:35Z |
GPS Img Direction | 138.56 |
GPS Img Direction Ref | Magnetic North |
GPS Latitude | 32 deg 7' 55.91" S |
GPS Latitude Ref | South |
GPS Longitude | 116 deg 10' 2.62" E |
GPS Longitude Ref | East |
GPS Map Datum | WGS 84 |
GPS Position | 32 deg 7' 55.91" S, 116 deg 10' 2.62" E |
GPS Satellites | 09 |
GPS Time Stamp | 13:32:35 |
GPS Version ID | 2.3.0.0 |