Shooting information for this photo
Camera: | NIKON CORPORATION NIKON D600 |
Exposure: | 27.1 sec. |
Aperture: | f/3.5 |
Focal Length: | 14.0 mm (35 mm equivalent: 14.0 mm) |
Flash: | Off, Did not fire |
Exposure mode: | Manual |
Max Aperture: | 2.8 |
Resolution: | 300 x 300 dpi |
Dimension: | 6016 x 4016 pixels |
Original Date: | 2016:05:07 23:01:25.6 |
Created on: | 2016:05:07 23:01:25.6 |
Modified on: | 2019:04:25 06:51:48.6 |
Software: | Capture NX 2.4.7 W |
AF Aperture | 1.8 |
AF Area Mode | Single Area |
AF Fine Tune | On (2) |
AF Fine Tune Adj | +4 |
AF Fine Tune Index | 2 |
AF Info 2 Version | 0100 |
AF Points Used | (none) |
Active D-Lighting | Normal |
Already Applied | False |
Approximate Focus Distance | 4294967295 |
Auto Distortion Control | On |
Auto Focus | Off |
Auto Lateral CA | 0 |
Auto White Version | 134348800 |
Blacks 2012 | 0 |
Blue Balance | 768 |
Blue Hue | 0 |
Blue Saturation | 0 |
Brightness | Normal |
CFA Pattern | [Red,Green][Green,Blue] |
Camera Profile | Embedded |
Circle Of Confusion | 0.030 mm |
Clarity 2012 | 0 |
Color Noise Reduction | 0 |
Color Space | Uncalibrated |
Contrast | Normal |
Contrast 2012 | 0 |
Contrast Detect AF | Off |
Contrast Detect AF In Focus | No |
Convert To Grayscale | False |
Crop Hi Speed | Off (6080x4028 cropped to 6080x4028 at pixel 0,0) |
Custom Rendered | Custom |
Defringe Green Amount | 0 |
Defringe Green Hue Hi | 60 |
Defringe Green Hue Lo | 40 |
Defringe Purple Amount | 0 |
Defringe Purple Hue Hi | 70 |
Defringe Purple Hue Lo | 30 |
Dehaze | 0 |
Depth Of Field | inf (1.65 m - inf) |
Digital Zoom Ratio | 1 |
Effective Max Aperture | 2.8 |
Exit Pupil Position | 58.5 mm |
Exposure 2012 | +1.43 |
Exposure Bracket Value | 0 |
Exposure Compensation | -1/3 |
Exposure Difference | 0 |
Exposure Mode | Manual |
Exposure Tuning | 0 |
Field Of View | 104.2 deg (36.29 m) |
Filter Effect | n/a |
Firmware Version | 1.01a |
Flash Mode | Did Not Fire |
Focal Length In 35mm Format | 14 mm |
Focus Distance | 14.13 m |
Focus Mode | Manual |
Focus Position | 0x02 |
Format | image/jpeg |
Gain Control | High gain up |
Grain Amount | 0 |
Green Hue | 0 |
Green Saturation | 0 |
Has Settings | True |
High ISO Noise Reduction | Low |
Highlights 2012 | 0 |
Hue Adjustment | None |
Hue Adjustment Aqua | 0 |
Hue Adjustment Blue | 0 |
Hue Adjustment Green | 0 |
Hue Adjustment Magenta | 0 |
Hue Adjustment Orange | 0 |
Hue Adjustment Purple | 0 |
Hue Adjustment Red | 0 |
Hue Adjustment Yellow | 0 |
Hyperfocal Distance | 1.86 m |
IFD0 Offset | 14208 |
ISO | 3200 |
ISO2 | 3200 |
ISO Expansion | Off |
ISO Expansion 2 | Off |
ISO Setting | 3200 |
Image Boundary | 0 0 6016 4016 |
Image Data Size | 18848570 |
Image Number | 29389 |
Image Size | 6016x4016 |
Incremental Temperature | 0 |
Incremental Tint | 0 |
Lens | 14mm f/2.8-1.4 D |
Lens Data Version | 0204 |
Lens F Stops | 6.00 |
Lens ID | Samyang AE 14mm f/2.8 ED AS IF UMC |
Lens ID Number | 74 |
Lens Info | 14mm f/2.8-1.4 |
Lens Manual Distortion Amount | 0 |
Lens Model | 14.0 mm f/2.8 |
Lens Profile Enable | 0 |
Lens Profile Setup | LensDefaults |
Lens Type | D |
Light Source | Unknown |
Light Value | -6.1 |
Luminance Adjustment Aqua | 0 |
Luminance Adjustment Blue | 0 |
Luminance Adjustment Green | 0 |
Luminance Adjustment Magenta | 0 |
Luminance Adjustment Orange | 0 |
Luminance Adjustment Purple | 0 |
Luminance Adjustment Red | 0 |
Luminance Adjustment Yellow | 0 |
Luminance Smoothing | 0 |
MCU Version | 77 |
Maker Note Version | 2.11 |
Max Aperture At Max Focal | 1.4 |
Max Aperture At Min Focal | 2.8 |
Max Focal Length | 14.1 mm |
Metering Mode | Multi-segment |
Min Focal Length | 14.1 mm |
Multi Exposure Auto Gain | Off |
Multi Exposure Mode | Off |
Multi Exposure Shots | 0 |
Multi Exposure Version | 0100 |
NEF Bit Depth | n/a (JPEG) |
Nikon Capture Version | Capture NX 2.4.7 W |
Noise Reduction | FPNR |
Parametric Darks | 0 |
Parametric Highlight Split | 75 |
Parametric Highlights | 0 |
Parametric Lights | 0 |
Parametric Midtone Split | 50 |
Parametric Shadow Split | 25 |
Parametric Shadows | 0 |
Perspective Aspect | 0 |
Perspective Horizontal | 0 |
Perspective Rotate | 0.0 |
Perspective Scale | 100 |
Perspective Upright | 0 |
Perspective Vertical | 0 |
Perspective X | 0.00 |
Perspective Y | 0.00 |
Phase Detect AF | Off |
Picture Control Adjust | Full Control |
Picture Control Base | Neutral |
Picture Control Name | Neutral |
Picture Control Quick Adjust | n/a |
Picture Control Version | 0100 |
Post Crop Vignette Amount | 0 |
Preview IFD Offset | 14108 |
Primary AF Point | (none) |
Process Version | 6.7 |
Program Shift | 0 |
Quality | Fine |
Raw File Name | DSC_7019A.jpg |
Red Balance | 1024 |
Red Hue | 0 |
Red Saturation | 0 |
Saturation | Normal |
Saturation Adjustment Aqua | 0 |
Saturation Adjustment Blue | 0 |
Saturation Adjustment Green | 0 |
Saturation Adjustment Magenta | 0 |
Saturation Adjustment Orange | 0 |
Saturation Adjustment Purple | 0 |
Saturation Adjustment Red | 0 |
Saturation Adjustment Yellow | 0 |
Scale Factor To 35 mm Equivalent | 1.0 |
Scene Capture Type | Standard |
Scene Type | Directly photographed |
Sensing Method | One-chip color area |
Sensitivity Type | Recommended Exposure Index |
Shadow Tint | 0 |
Shadows 2012 | 0 |
Sharpen Detail | 25 |
Sharpen Edge Masking | 0 |
Sharpen Radius | +1.0 |
Sharpness | Hard |
Shooting Mode | Single-Frame |
Shot Info Version | 0225 |
Shutter Count | 29389 |
Split Toning Balance | 0 |
Split Toning Highlight Hue | 0 |
Split Toning Highlight Saturation | 0 |
Split Toning Shadow Hue | 0 |
Split Toning Shadow Saturation | 0 |
Subject Distance Range | Unknown |
Tone Curve | 0, 0, 255, 255 |
Tone Curve Blue | 0, 0, 255, 255 |
Tone Curve Green | 0, 0, 255, 255 |
Tone Curve Name | Linear |
Tone Curve Name 2012 | Linear |
Tone Curve PV2012 | 0, 0, 255, 255 |
Tone Curve PV2012 Blue | 0, 0, 255, 255 |
Tone Curve PV2012 Green | 0, 0, 255, 255 |
Tone Curve PV2012 Red | 0, 0, 255, 255 |
Tone Curve Red | 0, 0, 255, 255 |
Tone Map Strength | 0 |
Toning Effect | n/a |
Toning Saturation | n/a |
VR Info Version | 0100 |
Version | 9.10 |
Vibrance | 0 |
Vibration Reduction | Off |
Vignette Amount | 0 |
Vignette Control | High |
WB GRBG Levels | 1 1024 768 1 |
WB RB Levels | 4 3 0.00390625 0.00390625 |
White Balance | 4000K |
White Balance Fine Tune | 0 1 |
Whites 2012 | 0 |
GPS Information |
GPS Version ID | 2.3.0.0 |