Shooting information for this photo
Camera: | NIKON CORPORATION NIKON D600 |
Exposure: | 30 sec. |
Aperture: | f/4.0 |
Focal Length: | 14.0 mm (35 mm equivalent: 14.0 mm) |
Flash: | Off, Did not fire |
Exposure mode: | Manual |
Max Aperture: | 2.8 |
Resolution: | 72 x 72 dpi |
Dimension: | 2500 x 1668 pixels |
Original Date: | 2016:03:05 23:41:24.10 |
Created on: | 2016:03:05 23:41:24.10 |
Modified on: | 2016:03:13 17:17:50 |
Software: | Capture NX 2.4.7 W |
Already Applied | True |
Approximate Focus Distance | 4294967295 |
Auto Lateral CA | 0 |
Auto White Version | 134348800 |
Blacks 2012 | 0 |
Blue Hue | 0 |
Blue Saturation | 0 |
Camera Profile | Embedded |
Circle Of Confusion | 0.030 mm |
Clarity 2012 | 0 |
Color Noise Reduction | 64 |
Color Noise Reduction Detail | 0 |
Color Noise Reduction Smoothness | 50 |
Color Space | Uncalibrated |
Contrast | Normal |
Contrast 2012 | 0 |
Convert To Grayscale | False |
Country | Australia |
Country Code | AU |
Custom Rendered | Custom |
Defringe Green Amount | 0 |
Defringe Green Hue Hi | 60 |
Defringe Green Hue Lo | 40 |
Defringe Purple Amount | 0 |
Defringe Purple Hue Hi | 70 |
Defringe Purple Hue Lo | 30 |
Dehaze | +36 |
Digital Zoom Ratio | 1 |
Exposure 2012 | 0.00 |
Exposure Compensation | -1/3 |
Exposure Mode | Manual |
Field Of View | 104.3 deg |
Focal Length In 35mm Format | 14 mm |
Format | image/jpeg |
Gain Control | High gain up |
Grain Amount | 0 |
Green Hue | 0 |
Green Saturation | 0 |
Has Crop | False |
Has Settings | True |
Highlights 2012 | 0 |
Hue Adjustment Aqua | 0 |
Hue Adjustment Blue | 0 |
Hue Adjustment Green | 0 |
Hue Adjustment Magenta | 0 |
Hue Adjustment Orange | 0 |
Hue Adjustment Purple | 0 |
Hue Adjustment Red | 0 |
Hue Adjustment Yellow | 0 |
Hyperfocal Distance | 1.63 m |
IFD0 Offset | 1448 |
ISO | 3200 |
Image Data Size | 3787987 |
Image Number | 28395 |
Image Size | 2500x1668 |
Incremental Temperature | 0 |
Incremental Tint | 0 |
Lens | 14.0 mm f/2.8 |
Lens ID | Samyang AE 14mm f/2.8 ED AS IF UMC |
Lens Info | 14mm f/2.8-1.4 |
Lens Manual Distortion Amount | 0 |
Lens Model | 14.0 mm f/2.8 |
Lens Profile Chromatic Aberration Scale | 100 |
Lens Profile Distortion Scale | 100 |
Lens Profile Enable | 0 |
Lens Profile Filename | NIKON D3X (Sigma DG 12-24mm f4.5-5.6 EX HSM).lcp |
Lens Profile Name | Adobe (Sigma DG 12-24mm f/4.5-5.6 EX HSM) |
Lens Profile Setup | Custom |
Lens Profile Vignetting Scale | 100 |
Light Source | Unknown |
Light Value | -5.9 |
Luminance Adjustment Aqua | 0 |
Luminance Adjustment Blue | 0 |
Luminance Adjustment Green | 0 |
Luminance Adjustment Magenta | 0 |
Luminance Adjustment Orange | 0 |
Luminance Adjustment Purple | 0 |
Luminance Adjustment Red | -2 |
Luminance Adjustment Yellow | 0 |
Luminance Noise Reduction Contrast | 0 |
Luminance Noise Reduction Detail | 45 |
Luminance Smoothing | 21 |
Maker Note Version | 2.11 |
Metering Mode | Multi-segment |
NEF Bit Depth | n/a (JPEG) |
Nikon Capture Version | Capture NX 2.4.7 W |
Parametric Darks | 0 |
Parametric Highlight Split | 75 |
Parametric Highlights | 0 |
Parametric Lights | 0 |
Parametric Midtone Split | 50 |
Parametric Shadow Split | 25 |
Parametric Shadows | 0 |
Perspective Aspect | 0 |
Perspective Horizontal | 0 |
Perspective Rotate | 0.0 |
Perspective Scale | 100 |
Perspective Upright | 0 |
Perspective Vertical | 0 |
Post Crop Vignette Amount | 0 |
Preview IFD Offset | 1348 |
Process Version | 6.7 |
Red Hue | 0 |
Red Saturation | 0 |
Saturation | Normal |
Saturation Adjustment Aqua | 0 |
Saturation Adjustment Blue | 0 |
Saturation Adjustment Green | 0 |
Saturation Adjustment Magenta | 0 |
Saturation Adjustment Orange | 0 |
Saturation Adjustment Purple | 0 |
Saturation Adjustment Red | +4 |
Saturation Adjustment Yellow | 0 |
Scale Factor To 35 mm Equivalent | 1.0 |
Scene Capture Type | Standard |
Scene Type | Directly photographed |
Sensing Method | One-chip color area |
Sensitivity Type | Recommended Exposure Index |
Shadow Tint | 0 |
Shadows 2012 | 0 |
Sharpen Detail | 25 |
Sharpen Edge Masking | 0 |
Sharpen Radius | +1.0 |
Sharpness | Hard |
Split Toning Balance | 0 |
Split Toning Highlight Hue | 0 |
Split Toning Highlight Saturation | 0 |
Split Toning Shadow Hue | 0 |
Split Toning Shadow Saturation | 0 |
State | Western Australia |
Subject Distance Range | Unknown |
Tone Curve | 0, 0, 255, 255 |
Tone Curve Blue | 0, 0, 255, 255 |
Tone Curve Green | 0, 0, 255, 255 |
Tone Curve Name | Linear |
Tone Curve Name 2012 | Linear |
Tone Curve PV2012 | 0, 0, 255, 255 |
Tone Curve PV2012 Blue | 0, 0, 255, 255 |
Tone Curve PV2012 Green | 0, 0, 255, 255 |
Tone Curve PV2012 Red | 0, 0, 255, 255 |
Tone Curve Red | 0, 0, 255, 255 |
Tone Map Strength | 0 |
Version | 9.4 |
Vibrance | 0 |
Vignette Amount | 0 |
White Balance | Manual |
Whites 2012 | 0 |
GPS Information |
GPS Altitude | 386 m Above Sea Level |
GPS Altitude Ref | Above Sea Level |
GPS Date Stamp | 2016:03:05 |
GPS Date/Time | 2016:03:05 15:41:24Z |
GPS Img Direction | 309.87 |
GPS Img Direction Ref | Magnetic North |
GPS Latitude | 32 deg 17' 59.23" S |
GPS Latitude Ref | South |
GPS Longitude | 116 deg 13' 3.91" E |
GPS Longitude Ref | East |
GPS Map Datum | WGS 84 |
GPS Position | 32 deg 17' 59.23" S, 116 deg 13' 3.91" E |
GPS Satellites | 07 |
GPS Time Stamp | 15:41:24 |
GPS Version ID | 2.3.0.0 |