Shooting information for this photo
| Camera: | RICOH IMAGING COMPANY, LTD. PENTAX K-3 |
| Exposure: | 0.01667 sec. (1/60) |
| Aperture: | f/6.3 |
| Focal Length: | 55.0 mm (35 mm equivalent: 82.0 mm) |
| Flash: | Off, Did not fire |
| Exposure mode: | Aperture-priority AE |
| Resolution: | 240 x 240 dpi |
| Original Date: | 2021:02:23 15:10:53 |
| Created on: | 2021:02:23 15:10:53 |
| Modified on: | 2021:02:24 19:46:48 |
| Software: | Adobe Photoshop Lightroom Classic 10.1.1 (Windows) |
| Copyright: | COLIN@ALUMNI.MANCHESTER.AC.UK |
| Already Applied | True |
| Approximate Focus Distance | 4 |
| Artist | COLIN ASHCROFT |
| Auto Lateral CA | 0 |
| Blacks 2012 | -14 |
| Blue Hue | 0 |
| Blue Saturation | 0 |
| Camera Profile | Adobe Standard |
| Circle Of Confusion | 0.020 mm |
| Clarity 2012 | +51 |
| Color Grade Blending | 100 |
| Color Grade Global Hue | 0 |
| Color Grade Global Lum | 0 |
| Color Grade Global Sat | 0 |
| Color Grade Highlight Lum | 0 |
| Color Grade Midtone Hue | 0 |
| Color Grade Midtone Lum | 0 |
| Color Grade Midtone Sat | 0 |
| Color Grade Shadow Lum | 0 |
| Color Noise Reduction | 25 |
| Color Noise Reduction Detail | 50 |
| Color Noise Reduction Smoothness | 50 |
| Color Space | sRGB |
| Color Temperature | 6450 |
| Contrast | High |
| Contrast 2012 | +15 |
| Convert To Grayscale | True |
| Creator | COLIN ASHCROFT |
| Crop Angle | 31.923 |
| Crop Bottom | 0.946161 |
| Crop Constrain To Warp | 0 |
| Crop Left | 0.358526 |
| Crop Right | 0.628195 |
| Crop Top | 0.054432 |
| Custom Rendered | Normal |
| Date Created | 2021:02:23 15:10:53 |
| Dehaze | 0 |
| Exposure 2012 | 0.00 |
| Exposure Compensation | 0 |
| Exposure Mode | Auto |
| Field Of View | 24.8 deg |
| Focal Length In 35mm Format | 82 mm |
| Format | image/jpeg |
| Grain Amount | 0 |
| Gray Mixer Aqua | -15 |
| Gray Mixer Blue | +14 |
| Gray Mixer Green | -28 |
| Gray Mixer Magenta | +3 |
| Gray Mixer Orange | -21 |
| Gray Mixer Purple | +18 |
| Gray Mixer Red | -12 |
| Gray Mixer Yellow | -25 |
| Green Hue | 0 |
| Green Saturation | 0 |
| Has Crop | True |
| Has Settings | True |
| Highlights 2012 | +20 |
| Hyperfocal Distance | 23.83 m |
| ISO | 3200 |
| Image Size | 1920x1277 |
| Lens | HD PENTAX-DA 55-300mm F4-5.8 ED WR |
| Lens ID | Unknown (7 203) |
| Lens Info | 55-300mm f/4-5.8 |
| Lens Manual Distortion Amount | 0 |
| Lens Model | HD PENTAX-DA 55-300mm F4-5.8 ED WR |
| Lens Profile Enable | 0 |
| Light Value | 6.2 |
| Luminance Smoothing | 0 |
| Metering Mode | Center-weighted average |
| Override Look Vignette | False |
| Parametric Darks | 0 |
| Parametric Highlight Split | 75 |
| Parametric Highlights | 0 |
| Parametric Lights | 0 |
| Parametric Midtone Split | 50 |
| Parametric Shadow Split | 25 |
| Parametric Shadows | 0 |
| Perspective Aspect | 0 |
| Perspective Horizontal | 0 |
| Perspective Rotate | 0.0 |
| Perspective Scale | 100 |
| Perspective Upright | 0 |
| Perspective Vertical | 0 |
| Perspective X | 0.00 |
| Perspective Y | 0.00 |
| Post Crop Vignette Amount | 0 |
| Preserved File Name | CASH2832.PEF |
| Process Version | 11.0 |
| Raw File Name | CASH2832.PEF |
| Red Hue | 0 |
| Red Saturation | 0 |
| Rights | COLIN@ALUMNI.MANCHESTER.AC.UK |
| Saturation | Normal |
| Scale Factor To 35 mm Equivalent | 1.5 |
| Scene Capture Type | Standard |
| Sensing Method | One-chip color area |
| Sensitivity Type | Standard Output Sensitivity |
| Shadow Tint | 0 |
| Shadows 2012 | -26 |
| Sharpen Detail | 25 |
| Sharpen Edge Masking | 0 |
| Sharpen Radius | +1.0 |
| Sharpness | Hard |
| Split Toning Balance | 0 |
| Split Toning Highlight Hue | 218 |
| Split Toning Highlight Saturation | 18 |
| Split Toning Shadow Hue | 0 |
| Split Toning Shadow Saturation | 0 |
| Standard Output Sensitivity | 3200 |
| Subject Distance Range | Distant |
| Texture | 0 |
| Tint | +3 |
| Tone Curve Name 2012 | Linear |
| Tone Curve PV2012 | 0, 0, 255, 255 |
| Tone Curve PV2012 Blue | 0, 0, 255, 255 |
| Tone Curve PV2012 Green | 0, 0, 255, 255 |
| Tone Curve PV2012 Red | 0, 0, 255, 255 |
| Version | 13.1 |
| Vignette Amount | 0 |
| White Balance | Auto |
| Whites 2012 | 0 |
 X