Shooting information for this photo
Camera: | PENTAX Corporation PENTAX K10D |
Exposure: | 0.008 sec. (1/125) |
Aperture: | f/5.6 |
Focal Length: | 55.0 mm |
Flash: | Off, Did not fire |
Exposure mode: | Shutter speed priority AE |
Resolution: | 240 x 240 dpi |
Original Date: | 2009:10:16 16:44:52 |
Created on: | 2009:10:16 16:44:52 |
Modified on: | 2017:10:07 18:59:54 |
Software: | Adobe Photoshop Lightroom 6.12 (Windows) |
Already Applied | True |
Artist | Picasa 3.0 |
Auto Lateral CA | 0 |
Auto White Version | 134348800 |
Blacks 2012 | -24 |
Blue Hue | 0 |
Blue Saturation | 0 |
Camera Profile | Embedded |
Clarity 2012 | +7 |
Color Noise Reduction | 0 |
Color Space | sRGB |
Contrast 2012 | 0 |
Convert To Grayscale | False |
Creator | Picasa 3.0 |
Crop Angle | 0.398222 |
Crop Bottom | 0.997122 |
Crop Constrain To Warp | 0 |
Crop Left | 0.010318 |
Crop Right | 0.989682 |
Crop Top | 0.002878 |
Date Created | 2009:10:16 16:44:52 |
Defringe Green Amount | 0 |
Defringe Green Hue Hi | 60 |
Defringe Green Hue Lo | 40 |
Defringe Purple Amount | 0 |
Defringe Purple Hue Hi | 70 |
Defringe Purple Hue Lo | 30 |
Dehaze | 0 |
Exposure 2012 | -0.48 |
Exposure Compensation | 0 |
Format | image/jpeg |
Grain Amount | 0 |
Green Hue | 0 |
Green Saturation | 0 |
Has Crop | True |
Has Settings | True |
Highlights 2012 | +10 |
Hue Adjustment Aqua | 0 |
Hue Adjustment Blue | 0 |
Hue Adjustment Green | 0 |
Hue Adjustment Magenta | 0 |
Hue Adjustment Orange | 0 |
Hue Adjustment Purple | 0 |
Hue Adjustment Red | 0 |
Hue Adjustment Yellow | 0 |
ISO | 100 |
Image Size | 1060x1583 |
Incremental Temperature | 0 |
Incremental Tint | 0 |
Lens Manual Distortion Amount | 0 |
Lens Profile Enable | 0 |
Lens Profile Setup | LensDefaults |
Light Value | 11.9 |
Luminance Adjustment Aqua | 0 |
Luminance Adjustment Blue | 0 |
Luminance Adjustment Green | 0 |
Luminance Adjustment Magenta | 0 |
Luminance Adjustment Orange | 0 |
Luminance Adjustment Purple | 0 |
Luminance Adjustment Red | 0 |
Luminance Adjustment Yellow | 0 |
Luminance Smoothing | 0 |
Metering Mode | Multi-segment |
Parametric Darks | 0 |
Parametric Highlight Split | 75 |
Parametric Highlights | 0 |
Parametric Lights | 0 |
Parametric Midtone Split | 50 |
Parametric Shadow Split | 25 |
Parametric Shadows | 0 |
Perspective Aspect | 0 |
Perspective Horizontal | 0 |
Perspective Rotate | 0.0 |
Perspective Scale | 100 |
Perspective Upright | 0 |
Perspective Vertical | 0 |
Perspective X | 0.00 |
Perspective Y | 0.00 |
Post Crop Vignette Amount | 0 |
Process Version | 6.7 |
Red Hue | 0 |
Red Saturation | 0 |
Saturation | 0 |
Saturation Adjustment Aqua | 0 |
Saturation Adjustment Blue | 0 |
Saturation Adjustment Green | 0 |
Saturation Adjustment Magenta | 0 |
Saturation Adjustment Orange | 0 |
Saturation Adjustment Purple | 0 |
Saturation Adjustment Red | 0 |
Saturation Adjustment Yellow | 0 |
Sensing Method | One-chip color area |
Shadow Tint | 0 |
Shadows 2012 | +7 |
Sharpen Detail | 25 |
Sharpen Edge Masking | 0 |
Sharpen Radius | +1.0 |
Sharpness | 0 |
Split Toning Balance | 0 |
Split Toning Highlight Hue | 0 |
Split Toning Highlight Saturation | 0 |
Split Toning Shadow Hue | 0 |
Split Toning Shadow Saturation | 0 |
Tone Curve | 0, 0, 255, 255 |
Tone Curve Blue | 0, 0, 255, 255 |
Tone Curve Green | 0, 0, 255, 255 |
Tone Curve Name | Linear |
Tone Curve Name 2012 | Linear |
Tone Curve PV2012 | 0, 0, 255, 255 |
Tone Curve PV2012 Blue | 0, 0, 255, 255 |
Tone Curve PV2012 Green | 0, 0, 255, 255 |
Tone Curve PV2012 Red | 0, 0, 255, 255 |
Tone Curve Red | 0, 0, 255, 255 |
Tone Map Strength | 0 |
Version | 9.12 |
Vibrance | 0 |
Vignette Amount | 0 |
White Balance | As Shot |
Whites 2012 | -12 |