Shooting information for this photo
| Camera: | RICOH IMAGING COMPANY, LTD. PENTAX K-3 |
| Exposure: | 0.03333 sec. (1/30) |
| Aperture: | f/9.0 |
| Focal Length: | 50.0 mm (35 mm equivalent: 75.0 mm) |
| Flash: | Off, Did not fire |
| Exposure mode: | Aperture-priority AE |
| Resolution: | 240 x 240 dpi |
| Original Date: | 2015:11:03 13:30:11 |
| Created on: | 2015:11:03 13:30:11 |
| Modified on: | 2015:11:12 15:33:20 |
| Software: | Adobe Photoshop Lightroom 6.2.1 (Windows) |
| Copyright: | COLINASHCROFT@PYEGROVE.CO.UK |
| Already Applied | True |
| Approximate Focus Distance | 4 |
| Artist | COLIN ASHCROFT |
| Auto Lateral CA | 0 |
| Auto White Version | 134348800 |
| Blacks 2012 | -20 |
| Blue Hue | 0 |
| Blue Saturation | 0 |
| Camera Profile | Adobe Standard |
| Circle Of Confusion | 0.020 mm |
| Clarity 2012 | 0 |
| Color Noise Reduction | 25 |
| Color Noise Reduction Detail | 50 |
| Color Noise Reduction Smoothness | 50 |
| Color Temperature | 5450 |
| Contrast | Normal |
| Contrast 2012 | 0 |
| Convert To Grayscale | False |
| Creator | COLIN ASHCROFT |
| Crop Angle | 0.529 |
| Crop Bottom | 0.945825 |
| Crop Constrain To Warp | 0 |
| Crop Left | 0.013697 |
| Crop Right | 0.930842 |
| Crop Top | 0 |
| Custom Rendered | Normal |
| Date Created | 2015:11:03 13:30:11 |
| Defringe Green Amount | 0 |
| Defringe Green Hue Hi | 60 |
| Defringe Green Hue Lo | 40 |
| Defringe Purple Amount | 0 |
| Defringe Purple Hue Hi | 70 |
| Defringe Purple Hue Lo | 30 |
| Dehaze | +26 |
| Exposure 2012 | 0.00 |
| Exposure Compensation | 0 |
| Exposure Mode | Auto |
| Field Of View | 27.0 deg |
| Focal Length In 35mm Format | 75 mm |
| Format | image/jpeg |
| Grain Amount | 0 |
| Green Hue | 0 |
| Green Saturation | 0 |
| Has Crop | True |
| Has Settings | True |
| Highlights 2012 | -40 |
| Hue Adjustment Aqua | 0 |
| Hue Adjustment Blue | 0 |
| Hue Adjustment Green | 0 |
| Hue Adjustment Magenta | 0 |
| Hue Adjustment Orange | 0 |
| Hue Adjustment Purple | 0 |
| Hue Adjustment Red | 0 |
| Hue Adjustment Yellow | 0 |
| Hyperfocal Distance | 13.87 m |
| ISO | 100 |
| Image Size | 5552x3732 |
| Lens | smc PENTAX-DA 50mm F1.8 |
| Lens ID | Unknown (7 212) |
| Lens Info | 50mm f/1.8 |
| Lens Manual Distortion Amount | 0 |
| Lens Model | smc PENTAX-DA 50mm F1.8 |
| Lens Profile Enable | 0 |
| Lens Profile Setup | LensDefaults |
| Light Value | 11.2 |
| Luminance Adjustment Aqua | 0 |
| Luminance Adjustment Blue | 0 |
| Luminance Adjustment Green | 0 |
| Luminance Adjustment Magenta | 0 |
| Luminance Adjustment Orange | 0 |
| Luminance Adjustment Purple | 0 |
| Luminance Adjustment Red | 0 |
| Luminance Adjustment Yellow | 0 |
| Luminance Smoothing | 0 |
| Metering Mode | Spot |
| Parametric Darks | 0 |
| Parametric Highlight Split | 75 |
| Parametric Highlights | +60 |
| Parametric Lights | +10 |
| Parametric Midtone Split | 50 |
| Parametric Shadow Split | 25 |
| Parametric Shadows | 0 |
| Perspective Aspect | 0 |
| Perspective Horizontal | 0 |
| Perspective Rotate | 0.0 |
| Perspective Scale | 100 |
| Perspective Upright | 0 |
| Perspective Vertical | 0 |
| Post Crop Vignette Amount | 0 |
| Process Version | 6.7 |
| Red Hue | 0 |
| Red Saturation | 0 |
| Rights | COLINASHCROFT@PYEGROVE.CO.UK |
| Saturation | Normal |
| Saturation Adjustment Aqua | +50 |
| Saturation Adjustment Blue | +58 |
| Saturation Adjustment Green | +10 |
| Saturation Adjustment Magenta | 0 |
| Saturation Adjustment Orange | +13 |
| Saturation Adjustment Purple | +23 |
| Saturation Adjustment Red | 0 |
| Saturation Adjustment Yellow | +23 |
| Scale Factor To 35 mm Equivalent | 1.5 |
| Scene Capture Type | Standard |
| Sensing Method | One-chip color area |
| Sensitivity Type | Standard Output Sensitivity |
| Shadow Tint | 0 |
| Shadows 2012 | 0 |
| Sharpen Detail | 25 |
| Sharpen Edge Masking | 0 |
| Sharpen Radius | +1.0 |
| Sharpness | Normal |
| Split Toning Balance | 0 |
| Split Toning Highlight Hue | 0 |
| Split Toning Highlight Saturation | 0 |
| Split Toning Shadow Hue | 0 |
| Split Toning Shadow Saturation | 0 |
| Standard Output Sensitivity | 100 |
| Subject Distance Range | Distant |
| Tint | +8 |
| Tone Curve | 0, 0, 255, 255 |
| Tone Curve Blue | 0, 0, 255, 255 |
| Tone Curve Green | 0, 0, 255, 255 |
| Tone Curve Name | Linear |
| Tone Curve Name 2012 | Linear |
| Tone Curve PV2012 | 0, 0, 255, 255 |
| Tone Curve PV2012 Blue | 0, 0, 255, 255 |
| Tone Curve PV2012 Green | 0, 0, 255, 255 |
| Tone Curve PV2012 Red | 0, 0, 255, 255 |
| Tone Curve Red | 0, 0, 255, 255 |
| Tone Map Strength | 0 |
| Version | 9.2 |
| Vibrance | 0 |
| Vignette Amount | 0 |
| White Balance | Auto |
| Whites 2012 | 0 |
X