Shooting information for this photo
Camera: | SONY ILCE-7R |
Exposure: | 0.0125 sec. (1/80) |
Aperture: | f/11.0 |
Focal Length: | 36.0 mm (35 mm equivalent: 51.4 mm) |
Flash: | Off, Did not fire |
Exposure mode: | Program AE |
Max Aperture: | 4.0 |
Resolution: | 300 x 300 dpi |
Dimension: | 4500 x 4500 pixels |
Original Date: | 2017:10:31 09:55:28 |
Created on: | 2017:10:31 09:55:28 |
Modified on: | 2018:12:26 22:01:47 |
Software: | Adobe Photoshop CS6 (Windows) |
Already Applied | True |
Approximate Focus Distance | 0 |
Auto Lateral CA | 0 |
Auto White Version | 134348800 |
Blacks 2012 | +15 |
Blue Hue | -5 |
Blue Saturation | -15 |
Brightness Value | 8.735938 |
Camera Profile | Agfa Vista 400 - SO |
Circle Of Confusion | 0.021 mm |
Clarity 2012 | -10 |
Color Mode | RGB |
Color Noise Reduction | 0 |
Color Space | sRGB |
Contrast 2012 | 0 |
Convert To Grayscale | False |
Date Created | 2017:10:31 09:55:28 |
Defringe Green Amount | 0 |
Defringe Green Hue Hi | 60 |
Defringe Green Hue Lo | 40 |
Defringe Purple Amount | 0 |
Defringe Purple Hue Hi | 70 |
Defringe Purple Hue Lo | 30 |
Distortion Correction Already Applied | True |
Exposure 2012 | 0.00 |
Exposure Compensation | 0 |
Exposure Index | 0 |
Field Of View | 38.6 deg |
Format | image/jpeg |
Grain Amount | 0 |
Green Hue | +60 |
Green Saturation | -15 |
Has Crop | False |
Has Settings | True |
Highlights 2012 | -40 |
Hue Adjustment Aqua | +10 |
Hue Adjustment Blue | -5 |
Hue Adjustment Green | +15 |
Hue Adjustment Magenta | +30 |
Hue Adjustment Orange | +6 |
Hue Adjustment Purple | +20 |
Hue Adjustment Red | +10 |
Hue Adjustment Yellow | +10 |
Hyperfocal Distance | 5.60 m |
ICC Profile Name | sRGB IEC61966-2.1 |
ISO | 100, 100 |
Image Size | 4500x4500 |
Incremental Temperature | 0 |
Incremental Tint | 0 |
Lateral Chromatic Aberration Correction Already Applied | True |
Lens | FE 24-70mm F4 ZA OSS |
Lens Distort Info | 1051421497/1073741824 5407007/1073741824 8915498/1073741824 7985716/1073741824 |
Lens Info | 24-70mm f/4 |
Lens Manual Distortion Amount | 0 |
Lens Profile Enable | 0 |
Lens Profile Setup | LensDefaults |
Light Source | Unknown |
Light Value | 13.2 |
Luminance Adjustment Aqua | +15 |
Luminance Adjustment Blue | -25 |
Luminance Adjustment Green | +20 |
Luminance Adjustment Magenta | 0 |
Luminance Adjustment Orange | +5 |
Luminance Adjustment Purple | -15 |
Luminance Adjustment Red | -20 |
Luminance Adjustment Yellow | +10 |
Luminance Smoothing | 0 |
Metering Mode | Multi-segment |
Parametric Darks | 0 |
Parametric Highlight Split | 75 |
Parametric Highlights | 0 |
Parametric Lights | 0 |
Parametric Midtone Split | 48 |
Parametric Shadow Split | 20 |
Parametric Shadows | 0 |
Perspective Aspect | 0 |
Perspective Horizontal | 0 |
Perspective Rotate | 0.0 |
Perspective Scale | 100 |
Perspective Upright | 0 |
Perspective Vertical | 0 |
Post Crop Vignette Amount | 0 |
Primary Chromaticities | 0 0 0 0 0 0 |
Process Version | 6.7 |
Raw File Name | agfa vista 400++.jpg |
Red Hue | +15 |
Red Saturation | +25 |
Reference Black White | 0 0 0 0 0 0 |
Saturation | -10 |
Saturation Adjustment Aqua | -35 |
Saturation Adjustment Blue | -25 |
Saturation Adjustment Green | -40 |
Saturation Adjustment Magenta | -30 |
Saturation Adjustment Orange | -15 |
Saturation Adjustment Purple | -45 |
Saturation Adjustment Red | -15 |
Saturation Adjustment Yellow | -15 |
Scale Factor To 35 mm Equivalent | 1.4 |
Scene Type | Directly photographed |
Sensing Method | Unknown (0) |
Shadow Tint | -4 |
Shadows 2012 | +30 |
Sharpen Detail | 25 |
Sharpen Edge Masking | 0 |
Sharpen Radius | +1.0 |
Sharpness | 0 |
Split Toning Balance | 0 |
Split Toning Highlight Hue | 0 |
Split Toning Highlight Saturation | 0 |
Split Toning Shadow Hue | 0 |
Split Toning Shadow Saturation | 0 |
Subject Distance | 0 m |
Tone Curve | 0, 0, 255, 255 |
Tone Curve Blue | 0, 0, 255, 255 |
Tone Curve Green | 0, 0, 255, 255 |
Tone Curve Name | Linear |
Tone Curve Name 2012 | Custom |
Tone Curve PV2012 | 0, 54, 65, 74, 133, 133, 188, 189, 255, 245 |
Tone Curve PV2012 Blue | 0, 0, 22, 15, 115, 118, 171, 194, 255, 255 |
Tone Curve PV2012 Green | 0, 0, 33, 13, 80, 65, 115, 116, 177, 201, 255, 255 |
Tone Curve PV2012 Red | 0, 0, 81, 60, 118, 120, 174, 194, 255, 255 |
Tone Curve Red | 0, 0, 255, 255 |
Version | 9.0 |
Vibrance | 0 |
Vignette Amount | 0 |
Vignette Correction Already Applied | True |
White Balance | As Shot |
White Point | 0 0 |
Whites 2012 | -30 |