Shooting information for this photo
| Camera: | RICOH IMAGING COMPANY, LTD. PENTAX K-3 |
| Exposure: | 0.00556 sec. (1/180) |
| Aperture: | f/8.0 |
| Focal Length: | 65.0 mm (35 mm equivalent: 97.0 mm) |
| Flash: | Off, Did not fire |
| Exposure mode: | Aperture-priority AE |
| Resolution: | 240 x 240 dpi |
| Original Date: | 2019:04:30 09:55:23 |
| Created on: | 2019:04:30 09:55:23 |
| Modified on: | 2025:04:14 15:15:50 |
| Software: | Adobe Photoshop Lightroom 4.4 (Windows) |
| Copyright: | Kris Lockyear |
| Already Applied | True |
| Artist | Kris Lockyear |
| Auto Lateral CA | 0 |
| Blacks 2012 | -52 |
| Blue Hue | 0 |
| Blue Saturation | 0 |
| Camera Profile | Embedded |
| Circle Of Confusion | 0.020 mm |
| Clarity 2012 | +50 |
| Color Noise Reduction | 25 |
| Color Noise Reduction Detail | 50 |
| Color Temperature | 3150 |
| Contrast | High |
| Contrast 2012 | 0 |
| Convert To Grayscale | False |
| Creator | Kris Lockyear |
| Crop Angle | 0 |
| Crop Bottom | 1 |
| Crop Constrain To Warp | 0 |
| Crop Height | 1269 |
| Crop Left | 0.143695 |
| Crop Right | 0.929619 |
| Crop Top | 0 |
| Crop Unit | pixels |
| Crop Width | 1500 |
| Custom Rendered | Normal |
| Date Created | 2019:04:30 09:55:23 |
| Defringe Green Amount | 0 |
| Defringe Green Hue Hi | 60 |
| Defringe Green Hue Lo | 40 |
| Defringe Purple Amount | 0 |
| Defringe Purple Hue Hi | 70 |
| Defringe Purple Hue Lo | 30 |
| Exposure 2012 | -0.36 |
| Exposure Compensation | 0 |
| Exposure Mode | Auto |
| Field Of View | 21.0 deg |
| Focal Length In 35mm Format | 97 mm |
| Format | image/jpeg |
| Grain Amount | 0 |
| Green Hue | 0 |
| Green Saturation | 0 |
| Has Crop | True |
| Has Settings | True |
| Highlights 2012 | 0 |
| Hue Adjustment Aqua | 0 |
| Hue Adjustment Blue | 0 |
| Hue Adjustment Green | 0 |
| Hue Adjustment Magenta | 0 |
| Hue Adjustment Orange | 0 |
| Hue Adjustment Purple | 0 |
| Hue Adjustment Red | 0 |
| Hue Adjustment Yellow | 0 |
| Hyperfocal Distance | 26.23 m |
| ISO | 560 |
| Image Size | 1269x1500 |
| Lens | smc PENTAX-DA* 50-135mm F2.8 ED [IF] SDM |
| Lens ID | Unknown (8 241) |
| Lens Info | 50-135mm f/2.8 |
| Lens Manual Distortion Amount | 0 |
| Lens Model | smc PENTAX-DA* 50-135mm F2.8 ED [IF] SDM |
| Lens Profile Enable | 0 |
| Lens Profile Setup | LensDefaults |
| Light Value | 11.0 |
| Luminance Adjustment Aqua | 0 |
| Luminance Adjustment Blue | 0 |
| Luminance Adjustment Green | 0 |
| Luminance Adjustment Magenta | 0 |
| Luminance Adjustment Orange | 0 |
| Luminance Adjustment Purple | 0 |
| Luminance Adjustment Red | 0 |
| Luminance Adjustment Yellow | 0 |
| Luminance Smoothing | 0 |
| Marked | True |
| Metering Mode | Multi-segment |
| Parametric Darks | -15 |
| Parametric Highlight Split | 75 |
| Parametric Highlights | 0 |
| Parametric Lights | +44 |
| Parametric Midtone Split | 50 |
| Parametric Shadow Split | 25 |
| Parametric Shadows | 0 |
| Perspective Horizontal | 0 |
| Perspective Rotate | 0.0 |
| Perspective Scale | 100 |
| Perspective Vertical | 0 |
| Post Crop Vignette Amount | 0 |
| Process Version | 6.7 |
| Red Hue | 0 |
| Red Saturation | 0 |
| Rights | Kris Lockyear |
| Saturation | Normal |
| Saturation Adjustment Aqua | 0 |
| Saturation Adjustment Blue | 0 |
| Saturation Adjustment Green | 0 |
| Saturation Adjustment Magenta | 0 |
| Saturation Adjustment Orange | 0 |
| Saturation Adjustment Purple | 0 |
| Saturation Adjustment Red | 0 |
| Saturation Adjustment Yellow | 0 |
| Scale Factor To 35 mm Equivalent | 1.5 |
| Scene Capture Type | Standard |
| Sensing Method | One-chip color area |
| Sensitivity Type | Standard Output Sensitivity |
| Shadow Tint | 0 |
| Shadows 2012 | 0 |
| Sharpen Detail | 25 |
| Sharpen Edge Masking | 0 |
| Sharpen Radius | +1.0 |
| Sharpness | Hard |
| Split Toning Balance | 0 |
| Split Toning Highlight Hue | 0 |
| Split Toning Highlight Saturation | 0 |
| Split Toning Shadow Hue | 0 |
| Split Toning Shadow Saturation | 0 |
| Standard Output Sensitivity | 560 |
| Subject | ECFN, Italy, Piazza Armerina, Roman palace, Roman villa, Sicily, archaeology |
| Subject Distance Range | Distant |
| Tint | -1 |
| Tone Curve Name 2012 | Linear |
| Tone Curve PV2012 | 0, 0, 255, 255 |
| Tone Curve PV2012 Blue | 0, 0, 255, 255 |
| Tone Curve PV2012 Green | 0, 0, 255, 255 |
| Tone Curve PV2012 Red | 0, 0, 255, 255 |
| Version | 7.4 |
| Vibrance | +14 |
| Vignette Amount | 0 |
| White Balance | Auto |
| Whites 2012 | 0 |
GPS Information |
| GPS Altitude | 539.5 m Above Sea Level |
| GPS Altitude Ref | Above Sea Level |
| GPS Date Stamp | 2019:04:30 |
| GPS Date/Time | 2019:04:30 08:55:23Z |
| GPS Img Direction | 103.2 |
| GPS Img Direction Ref | True North |
| GPS Latitude | 37 deg 21' 53.29" N |
| GPS Latitude Ref | North |
| GPS Longitude | 14 deg 20' 3.49" E |
| GPS Longitude Ref | East |
| GPS Map Datum | WGS-84 |
| GPS Measure Mode | 3-Dimensional Measurement |
| GPS Position | 37 deg 21' 53.29" N, 14 deg 20' 3.49" E |
| GPS Processing Method | GPS |
| GPS Satellites | 07 |
| GPS Speed | 1.67 |
| GPS Speed Ref | km/h |
| GPS Status | Measurement Active |
| GPS Time Stamp | 08:55:23 |
| GPS Track | 336.76 |
| GPS Track Ref | True North |
| GPS Version ID | 2.3.0.0 |
X