Shooting information for this photo
| Camera: | NORITSU KOKI EZ Controller |
| Resolution: | 300 x 300 dpi |
| Created on: | 2023:07:14 14:58:36 |
| Modified on: | 2023:08:01 08:21:00 |
| Software: | Adobe Photoshop Lightroom 4.4 (Windows) |
| Already Applied | True |
| Auto Lateral CA | 0 |
| Blacks 2012 | 0 |
| Blue Hue | 0 |
| Blue Saturation | 0 |
| Camera Profile | Embedded |
| Clarity 2012 | +17 |
| Color Noise Reduction | 0 |
| Contrast 2012 | 0 |
| Convert To Grayscale | True |
| Crop Angle | 0 |
| Crop Bottom | 0.789474 |
| Crop Constrain To Warp | 0 |
| Crop Height | 1202 |
| Crop Left | 0 |
| Crop Right | 1 |
| Crop Top | 0 |
| Crop Unit | pixels |
| Crop Width | 1500 |
| Exposure 2012 | -0.60 |
| Format | image/jpeg |
| Grain Amount | 0 |
| Gray Mixer Aqua | -18 |
| Gray Mixer Blue | +9 |
| Gray Mixer Green | -27 |
| Gray Mixer Magenta | +4 |
| Gray Mixer Orange | -19 |
| Gray Mixer Purple | +15 |
| Gray Mixer Red | -9 |
| Gray Mixer Yellow | -22 |
| Green Hue | 0 |
| Green Saturation | 0 |
| Has Crop | True |
| Has Settings | True |
| Highlights 2012 | -10 |
| Image Size | 1500x1202 |
| Incremental Temperature | 0 |
| Incremental Tint | 0 |
| Lens Manual Distortion Amount | 0 |
| Lens Profile Enable | 0 |
| Lens Profile Setup | LensDefaults |
| Luminance Smoothing | 0 |
| Parametric Darks | 0 |
| Parametric Highlight Split | 75 |
| Parametric Highlights | 0 |
| Parametric Lights | 0 |
| Parametric Midtone Split | 50 |
| Parametric Shadow Split | 25 |
| Parametric Shadows | 0 |
| Perspective Horizontal | 0 |
| Perspective Rotate | 0.0 |
| Perspective Scale | 100 |
| Perspective Vertical | 0 |
| Post Crop Vignette Amount | 0 |
| Process Version | 6.7 |
| Red Hue | 0 |
| Red Saturation | 0 |
| Shadow Tint | 0 |
| Shadows 2012 | 0 |
| Sharpen Detail | 25 |
| Sharpen Edge Masking | 0 |
| Sharpen Radius | +1.0 |
| Sharpness | 0 |
| Split Toning Balance | 0 |
| Split Toning Highlight Hue | 0 |
| Split Toning Highlight Saturation | 0 |
| Split Toning Shadow Hue | 0 |
| Split Toning Shadow Saturation | 0 |
| Subject | FPP, Kodak Hawkeye Brownie, New York |
| Tone Curve Name 2012 | Linear |
| Tone Curve PV2012 | 0, 0, 255, 255 |
| Tone Curve PV2012 Blue | 0, 0, 255, 255 |
| Tone Curve PV2012 Green | 0, 0, 255, 255 |
| Tone Curve PV2012 Red | 0, 0, 255, 255 |
| Version | 7.4 |
| Vignette Amount | 0 |
| White Balance | As Shot |
| Whites 2012 | 0 |
X