Shooting information for this photo
| Camera: | RICOH IMAGING COMPANY, LTD. PENTAX K-3 Mark III |
| Exposure: | 0.01111 sec. (1/90) |
| Aperture: | f/8.0 |
| Focal Length: | 85.0 mm (35 mm equivalent: 131.0 mm) |
| Flash: | Off, Did not fire |
| Exposure mode: | Aperture-priority AE |
| Resolution: | 300 x 300 dpi |
| Original Date: | 2022:07:17 11:13:54.563 |
| Created on: | 2022:07:17 11:13:54.563 |
| Modified on: | 2022:07:17 14:56:47 |
| Software: | Adobe Photoshop Lightroom 4.4 (Windows) |
| Copyright: | Kris Lockyear |
| Already Applied | True |
| Artist | Kris Lockyear |
| Auto Lateral CA | 0 |
| Blacks 2012 | -24 |
| Blue Hue | 0 |
| Blue Saturation | 0 |
| Camera Profile | Embedded |
| Circle Of Confusion | 0.019 mm |
| Clarity 2012 | +24 |
| Color Noise Reduction | 25 |
| Color Noise Reduction Detail | 50 |
| Color Temperature | 5150 |
| Contrast | Normal |
| Contrast 2012 | 0 |
| Convert To Grayscale | False |
| Creator | Kris Lockyear |
| Crop Angle | 0 |
| Crop Bottom | 1 |
| Crop Constrain To Warp | 0 |
| Crop Height | 1500 |
| Crop Left | 0.133041 |
| Crop Right | 0.799707 |
| Crop Top | 0 |
| Crop Unit | pixels |
| Crop Width | 1500 |
| Custom Rendered | Normal |
| Date Created | 2022:07:17 11:13:54.563 |
| Defringe Green Amount | 0 |
| Defringe Green Hue Hi | 60 |
| Defringe Green Hue Lo | 40 |
| Defringe Purple Amount | 0 |
| Defringe Purple Hue Hi | 70 |
| Defringe Purple Hue Lo | 30 |
| Exposure 2012 | 0.00 |
| Exposure Compensation | -1 |
| Exposure Mode | Manual |
| Field Of View | 15.6 deg |
| Focal Length In 35mm Format | 131 mm |
| Format | image/jpeg |
| Grain Amount | 0 |
| Green Hue | 0 |
| Green Saturation | 0 |
| Has Crop | True |
| Has Settings | True |
| Highlights 2012 | 0 |
| Hue Adjustment Aqua | 0 |
| Hue Adjustment Blue | 0 |
| Hue Adjustment Green | 0 |
| Hue Adjustment Magenta | 0 |
| Hue Adjustment Orange | 0 |
| Hue Adjustment Purple | 0 |
| Hue Adjustment Red | 0 |
| Hue Adjustment Yellow | 0 |
| Hyperfocal Distance | 46.32 m |
| ISO | 400 |
| Image Size | 1500x1500 |
| Lens | K or M Lens |
| Lens ID | Unknown (1 0) |
| Lens Manual Distortion Amount | 0 |
| Lens Model | K or M Lens |
| Lens Profile Enable | 0 |
| Lens Profile Setup | LensDefaults |
| Light Value | 10.5 |
| Luminance Adjustment Aqua | 0 |
| Luminance Adjustment Blue | 0 |
| Luminance Adjustment Green | 0 |
| Luminance Adjustment Magenta | 0 |
| Luminance Adjustment Orange | 0 |
| Luminance Adjustment Purple | 0 |
| Luminance Adjustment Red | 0 |
| Luminance Adjustment Yellow | 0 |
| Luminance Smoothing | 0 |
| Metering Mode | Center-weighted average |
| Parametric Darks | 0 |
| Parametric Highlight Split | 75 |
| Parametric Highlights | 0 |
| Parametric Lights | 0 |
| Parametric Midtone Split | 50 |
| Parametric Shadow Split | 25 |
| Parametric Shadows | 0 |
| Perspective Horizontal | 0 |
| Perspective Rotate | 0.0 |
| Perspective Scale | 100 |
| Perspective Vertical | 0 |
| Post Crop Vignette Amount | 0 |
| Process Version | 6.7 |
| Rating | 4 |
| Red Hue | 0 |
| Red Saturation | 0 |
| Rights | Kris Lockyear |
| Saturation | High |
| Saturation Adjustment Aqua | 0 |
| Saturation Adjustment Blue | 0 |
| Saturation Adjustment Green | 0 |
| Saturation Adjustment Magenta | 0 |
| Saturation Adjustment Orange | 0 |
| Saturation Adjustment Purple | 0 |
| Saturation Adjustment Red | 0 |
| Saturation Adjustment Yellow | 0 |
| Scale Factor To 35 mm Equivalent | 1.5 |
| Scene Capture Type | Standard |
| Sensing Method | One-chip color area |
| Sensitivity Type | Standard Output Sensitivity |
| Shadow Tint | 0 |
| Shadows 2012 | 0 |
| Sharpen Detail | 25 |
| Sharpen Edge Masking | 0 |
| Sharpen Radius | +1.0 |
| Sharpness | Normal |
| Split Toning Balance | 0 |
| Split Toning Highlight Hue | 0 |
| Split Toning Highlight Saturation | 0 |
| Split Toning Shadow Hue | 0 |
| Split Toning Shadow Saturation | 0 |
| Standard Output Sensitivity | 400 |
| Subject | SMC Pentax 85mm f/1.8, Single in July 2022, allotment |
| Subject Distance Range | Distant |
| Tint | +50 |
| Tone Curve Name 2012 | Linear |
| Tone Curve PV2012 | 0, 0, 255, 255 |
| Tone Curve PV2012 Blue | 0, 0, 255, 255 |
| Tone Curve PV2012 Green | 0, 0, 255, 255 |
| Tone Curve PV2012 Red | 0, 0, 255, 255 |
| Version | 7.4 |
| Vibrance | +14 |
| Vignette Amount | 0 |
| White Balance | Auto |
| Whites 2012 | 0 |
X