Shooting information for this photo
| Camera: | Canon PowerShot Pro1 |
| Exposure: | 0.3 sec. |
| Aperture: | f/3.2 |
| Focal Length: | 12.5 mm (35 mm equivalent: 49.2 mm) |
| Flash: | Off, Did not fire |
| Max Aperture: | 3.2 |
| Resolution: | 200 x 200 dpi |
| Original Date: | 2004:10:31 11:48:32 |
| Created on: | 2004:10:31 11:48:32 |
| Modified on: | 2021:02:13 10:25:46 |
| Software: | Adobe Photoshop Lightroom 4.4 (Windows) |
| Already Applied | True |
| Approximate Focus Distance | 2.2 |
| Artist | Kris Lockyear |
| Auto Lateral CA | 0 |
| Blacks 2012 | 0 |
| Blue Hue | 0 |
| Blue Saturation | 0 |
| Camera Profile | Embedded |
| Circle Of Confusion | 0.008 mm |
| Clarity 2012 | 0 |
| Color Noise Reduction | 0 |
| Contrast 2012 | 0 |
| Convert To Grayscale | False |
| Creator | Kris Lockyear |
| Crop Angle | -2.37971 |
| Crop Bottom | 0.961672 |
| Crop Constrain To Warp | 0 |
| Crop Height | 1500 |
| Crop Left | 0.161756 |
| Crop Right | 0.883267 |
| Crop Top | 0.044174 |
| Crop Unit | pixels |
| Crop Width | 1447 |
| Custom Rendered | Normal |
| Date Created | 2004:10:31 11:48:32 |
| Defringe Green Amount | 0 |
| Defringe Green Hue Hi | 60 |
| Defringe Green Hue Lo | 40 |
| Defringe Purple Amount | 0 |
| Defringe Purple Hue Hi | 70 |
| Defringe Purple Hue Lo | 30 |
| Digital Zoom Ratio | 1 |
| Exposure 2012 | 0.00 |
| Exposure Compensation | 0 |
| Exposure Mode | Auto |
| Field Of View | 40.2 deg |
| Firmware | 1.00 |
| Flash Compensation | 0 |
| Format | image/jpeg |
| Grain Amount | 0 |
| Green Hue | 0 |
| Green Saturation | 0 |
| Has Crop | True |
| Has Settings | True |
| Highlights 2012 | -27 |
| Hue Adjustment Aqua | 0 |
| Hue Adjustment Blue | 0 |
| Hue Adjustment Green | 0 |
| Hue Adjustment Magenta | 0 |
| Hue Adjustment Orange | 0 |
| Hue Adjustment Purple | 0 |
| Hue Adjustment Red | 0 |
| Hue Adjustment Yellow | 0 |
| Hyperfocal Distance | 6.42 m |
| ISO | 200 |
| Image Size | 1447x1500 |
| Incremental Temperature | +6 |
| Incremental Tint | -12 |
| Lens | 7.2-50.8 mm |
| Lens Info | 7.1875-50.8125mm f/? |
| Lens Manual Distortion Amount | 0 |
| Lens Model | 7.2-50.8 mm |
| Lens Profile Enable | 0 |
| Lens Profile Setup | LensDefaults |
| Light Value | 4.1 |
| Luminance Adjustment Aqua | 0 |
| Luminance Adjustment Blue | 0 |
| Luminance Adjustment Green | 0 |
| Luminance Adjustment Magenta | 0 |
| Luminance Adjustment Orange | 0 |
| Luminance Adjustment Purple | 0 |
| Luminance Adjustment Red | 0 |
| Luminance Adjustment Yellow | 0 |
| Luminance Smoothing | 0 |
| Metering Mode | Center-weighted average |
| Owner Name | Kris Lockyear |
| Parametric Darks | 0 |
| Parametric Highlight Split | 75 |
| Parametric Highlights | 0 |
| Parametric Lights | 0 |
| Parametric Midtone Split | 50 |
| Parametric Shadow Split | 25 |
| Parametric Shadows | 0 |
| Perspective Horizontal | 0 |
| Perspective Rotate | 0.0 |
| Perspective Scale | 100 |
| Perspective Vertical | 0 |
| Post Crop Vignette Amount | 0 |
| Process Version | 6.7 |
| Red Hue | 0 |
| Red Saturation | 0 |
| Saturation | 0 |
| Saturation Adjustment Aqua | 0 |
| Saturation Adjustment Blue | 0 |
| Saturation Adjustment Green | 0 |
| Saturation Adjustment Magenta | 0 |
| Saturation Adjustment Orange | 0 |
| Saturation Adjustment Purple | 0 |
| Saturation Adjustment Red | 0 |
| Saturation Adjustment Yellow | 0 |
| Scale Factor To 35 mm Equivalent | 3.9 |
| Scene Capture Type | Standard |
| Sensing Method | One-chip color area |
| Shadow Tint | 0 |
| Shadows 2012 | 0 |
| Sharpen Detail | 25 |
| Sharpen Edge Masking | 0 |
| Sharpen Radius | +1.0 |
| Sharpness | 0 |
| Split Toning Balance | 0 |
| Split Toning Highlight Hue | 0 |
| Split Toning Highlight Saturation | 0 |
| Split Toning Shadow Hue | 0 |
| Split Toning Shadow Saturation | 0 |
| Subject | Bibury, Cotswolds, St Mary |
| Tone Curve Name 2012 | Linear |
| Tone Curve PV2012 | 0, 0, 255, 255 |
| Tone Curve PV2012 Blue | 0, 0, 255, 255 |
| Tone Curve PV2012 Green | 0, 0, 255, 255 |
| Tone Curve PV2012 Red | 0, 0, 255, 255 |
| Version | 7.4 |
| Vibrance | 0 |
| Vignette Amount | 0 |
| White Balance | Auto |
| Whites 2012 | 0 |
X