Shooting information for this photo
| Camera: | PENTAX K20D |
| Exposure: | 0.00156 sec. (1/640) |
| Aperture: | f/5.0 |
| Focal Length: | 108.0 mm (35 mm equivalent: 162.0 mm) |
| Flash: | Off, Did not fire |
| Exposure mode: | Aperture-priority AE |
| Resolution: | 240 x 240 dpi |
| Original Date: | 2011:04:29 17:12:28 |
| Digitized Date: | 2011:04:29 17:12:28+01:00 |
| Created on: | 2011:04:29 17:12:28 |
| Modified on: | 2011:04:29 22:26:26 |
| Software: | K20D Ver 1.03 |
| Copyright: | Kris Lockyear |
| Already Applied | True |
| Blue Hue | 0 |
| Blue Saturation | 0 |
| Brightness | +50 |
| CFA Pattern | [Blue,Green][Green,Red] |
| Camera Profile | ACR 4.4 |
| Chromatic Aberration B | 0 |
| Chromatic Aberration R | 0 |
| Circle Of Confusion | 0.020 mm |
| Clarity | 13 |
| Color Noise Reduction | 25 |
| Color Temperature | 4700 |
| Contrast | High |
| Convert To Grayscale | False |
| Creator | Kris Lockyear |
| Crop Angle | 0 |
| Crop Bottom | 1 |
| Crop Height | 576 |
| Crop Left | 0 |
| Crop Right | 0.922246 |
| Crop Top | 0 |
| Crop Unit | pixels |
| Crop Width | 800 |
| Custom Rendered | Normal |
| Defringe | 0 |
| Exposure | 0.00 |
| Exposure Compensation | +0.3 |
| Exposure Mode | Manual |
| Field Of View | 12.7 deg |
| Fill Light | 39 |
| Flash Fired | False |
| Flash Function | False |
| Flash Mode | Off |
| Flash Red Eye Mode | False |
| Flash Return | No return detection |
| Focal Length In 35mm Format | 162 mm |
| Green Hue | 0 |
| Green Saturation | 0 |
| Has Crop | True |
| Has Settings | True |
| Highlight Recovery | 11 |
| Hue Adjustment Aqua | 0 |
| Hue Adjustment Blue | 0 |
| Hue Adjustment Green | 0 |
| Hue Adjustment Magenta | 0 |
| Hue Adjustment Orange | 0 |
| Hue Adjustment Purple | 0 |
| Hue Adjustment Red | 0 |
| Hue Adjustment Yellow | 0 |
| Hyperfocal Distance | 116.46 m |
| ISO | 200 |
| Image Size | 576x800 |
| Lens | smc PENTAX-DA* 50-135mm F2.8 ED [IF] SDM |
| Lens ID | smc PENTAX-DA* 50-135mm F2.8 ED [IF] SDM |
| Lens Info | 50-135mm f/2.8 |
| Light Value | 13.0 |
| Luminance Adjustment Aqua | 0 |
| Luminance Adjustment Blue | 0 |
| Luminance Adjustment Green | 0 |
| Luminance Adjustment Magenta | 0 |
| Luminance Adjustment Orange | 0 |
| Luminance Adjustment Purple | 0 |
| Luminance Adjustment Red | 0 |
| Luminance Adjustment Yellow | 0 |
| Luminance Smoothing | 0 |
| Marked | True |
| Metering Mode | Center-weighted average |
| Parametric Darks | -8 |
| Parametric Highlight Split | 75 |
| Parametric Highlights | 0 |
| Parametric Lights | +17 |
| Parametric Midtone Split | 50 |
| Parametric Shadow Split | 25 |
| Parametric Shadows | 0 |
| Red Hue | 0 |
| Red Saturation | 0 |
| Rights | Kris Lockyear |
| Saturation | Normal |
| Saturation Adjustment Aqua | 0 |
| Saturation Adjustment Blue | 0 |
| Saturation Adjustment Green | 0 |
| Saturation Adjustment Magenta | 0 |
| Saturation Adjustment Orange | 0 |
| Saturation Adjustment Purple | 0 |
| Saturation Adjustment Red | 0 |
| Saturation Adjustment Yellow | 0 |
| Scale Factor To 35 mm Equivalent | 1.5 |
| Scene Capture Type | Standard |
| Sensing Method | One-chip color area |
| Shadow Tint | 0 |
| Shadows | 10 |
| Sharpen Detail | 25 |
| Sharpen Edge Masking | 0 |
| Sharpen Radius | +1.4 |
| Sharpness | Hard |
| Split Toning Balance | 0 |
| Split Toning Highlight Hue | 0 |
| Split Toning Highlight Saturation | 0 |
| Split Toning Shadow Hue | 0 |
| Split Toning Shadow Saturation | 0 |
| Subject | Lamer Park, Pentax K20D, Royal Wedding, SMC DA* 50-135mm, street party |
| Subject Distance Range | Distant |
| Tint | +7 |
| Tone Curve | 0, 0, 32, 22, 64, 56, 128, 128, 192, 196, 255, 255 |
| Tone Curve Name | Medium Contrast |
| Usage Terms | all rights reserved |
| Version | 4.4.1 |
| Vibrance | +17 |
| Vignette Amount | 0 |
| White Balance | Auto |
X