Shooting information for this photo
Camera: | Canon PowerShot SX530 HS |
Exposure: | 0.004 sec. (1/250) |
Aperture: | f/5.0 |
Focal Length: | 16.5 mm (35 mm equivalent: 92.5 mm) |
Flash: | Off, Did not fire |
Max Aperture: | 5.0 |
Resolution: | 240 x 240 dpi |
Original Date: | 2021:09:01 17:56:16 |
Created on: | 2021:09:01 17:56:16 |
Modified on: | 2021:10:18 12:02:16 |
Software: | Windows Photo Editor 10.0.10011.16384 |
Already Applied | True |
Approximate Focus Distance | 2.59 |
Auto Lateral CA | 0 |
Blacks 2012 | -15 |
Blue Hue | 0 |
Blue Saturation | 0 |
Camera Profile | Embedded |
Circle Of Confusion | 0.005 mm |
Clarity 2012 | 0 |
Color Grade Blending | 50 |
Color Grade Global Hue | 0 |
Color Grade Global Lum | 0 |
Color Grade Global Sat | 0 |
Color Grade Highlight Lum | 0 |
Color Grade Midtone Hue | 0 |
Color Grade Midtone Lum | 0 |
Color Grade Midtone Sat | 0 |
Color Grade Shadow Lum | 0 |
Color Noise Reduction | 0 |
Color Space | sRGB |
Contrast 2012 | +7 |
Convert To Grayscale | False |
Crop Angle | 0 |
Crop Bottom | 1 |
Crop Constrain To Warp | 0 |
Crop Left | 0 |
Crop Right | 1 |
Crop Top | 0 |
Custom Rendered | Normal |
Date Created | 2021:09:01 17:56:16 |
Defringe Green Amount | 0 |
Defringe Green Hue Hi | 60 |
Defringe Green Hue Lo | 40 |
Defringe Purple Amount | 0 |
Defringe Purple Hue Hi | 70 |
Defringe Purple Hue Lo | 30 |
Dehaze | 0 |
Digital Zoom Ratio | 1 |
Exposure 2012 | -0.20 |
Exposure Compensation | 0 |
Exposure Mode | Auto |
Field Of View | 22.0 deg |
Firmware | 1.00 |
Flash Compensation | 0 |
Format | image/jpeg |
Grain Amount | 0 |
Green Hue | 0 |
Green Saturation | 0 |
Has Crop | False |
Has Settings | True |
Highlights 2012 | -44 |
Hue Adjustment Aqua | 0 |
Hue Adjustment Blue | 0 |
Hue Adjustment Green | +10 |
Hue Adjustment Magenta | 0 |
Hue Adjustment Orange | 0 |
Hue Adjustment Purple | 0 |
Hue Adjustment Red | 0 |
Hue Adjustment Yellow | 0 |
Hyperfocal Distance | 10.15 m |
ISO | 100 |
Image Size | 4608x3341 |
Incremental Temperature | -3 |
Incremental Tint | 0 |
Lens | 4.3-215.0 mm |
Lens Info | 4.3-215mm f/? |
Lens Manual Distortion Amount | 0 |
Lens Model | 4.3-215.0 mm |
Lens Profile Enable | 0 |
Light Value | 12.6 |
Luminance Adjustment Aqua | 0 |
Luminance Adjustment Blue | 0 |
Luminance Adjustment Green | +2 |
Luminance Adjustment Magenta | 0 |
Luminance Adjustment Orange | 0 |
Luminance Adjustment Purple | 0 |
Luminance Adjustment Red | 0 |
Luminance Adjustment Yellow | 0 |
Luminance Smoothing | 0 |
Metering Mode | Multi-segment |
Override Look Vignette | False |
Parametric Darks | 0 |
Parametric Highlight Split | 75 |
Parametric Highlights | 0 |
Parametric Lights | 0 |
Parametric Midtone Split | 50 |
Parametric Shadow Split | 25 |
Parametric Shadows | 0 |
Perspective Aspect | 0 |
Perspective Horizontal | 0 |
Perspective Rotate | 0.0 |
Perspective Scale | 100 |
Perspective Upright | 0 |
Perspective Vertical | 0 |
Perspective X | 0.00 |
Perspective Y | 0.00 |
Post Crop Vignette Amount | 0 |
Process Version | 11.0 |
Processing Software | Windows Photo Editor 10.0.10011.16384 |
Red Hue | 0 |
Red Saturation | 0 |
Saturation | +12 |
Saturation Adjustment Aqua | 0 |
Saturation Adjustment Blue | 0 |
Saturation Adjustment Green | 0 |
Saturation Adjustment Magenta | 0 |
Saturation Adjustment Orange | 0 |
Saturation Adjustment Purple | 0 |
Saturation Adjustment Red | 0 |
Saturation Adjustment Yellow | +7 |
Scale Factor To 35 mm Equivalent | 5.6 |
Scene Capture Type | Standard |
Sensing Method | One-chip color area |
Sensitivity Type | Standard Output Sensitivity and Recommended Exposure Index |
Shadow Tint | 0 |
Shadows 2012 | +22 |
Sharpness | 0 |
Split Toning Balance | 0 |
Split Toning Highlight Hue | 0 |
Split Toning Highlight Saturation | 0 |
Split Toning Shadow Hue | 0 |
Split Toning Shadow Saturation | 0 |
Texture | 0 |
Tone Curve Name 2012 | Linear |
Tone Curve PV2012 | 0, 0, 255, 255 |
Tone Curve PV2012 Blue | 0, 0, 255, 255 |
Tone Curve PV2012 Green | 0, 0, 255, 255 |
Tone Curve PV2012 Red | 0, 0, 255, 255 |
Version | 13.3 |
Vibrance | +29 |
Vignette Amount | 0 |
White Balance | Auto |
Whites 2012 | +34 |