Shooting information for this photo
Camera: | PENTAX Corporation PENTAX K10D |
Exposure: | 0.00133 sec. (1/750) |
Aperture: | f/5.6 |
Focal Length: | 300.0 mm (35 mm equivalent: 450.0 mm) |
Flash: | Off, Did not fire |
Exposure mode: | Not Defined |
Resolution: | 240 x 240 dpi |
Original Date: | 2012:12:11 17:02:35 |
Created on: | 2012:12:11 17:02:35 |
Modified on: | 2012:12:13 01:56:43 |
Software: | Adobe Photoshop Lightroom 4.2 (Windows) |
Already Applied | True |
Auto Lateral CA | 0 |
Blacks 2012 | -36 |
Blue Hue | 0 |
Blue Saturation | 0 |
Camera Profile | Embedded |
Circle Of Confusion | 0.020 mm |
Clarity 2012 | +55 |
Color Noise Reduction | 35 |
Color Noise Reduction Detail | 91 |
Contrast | Normal |
Contrast 2012 | +20 |
Convert To Grayscale | True |
Crop Angle | 0 |
Crop Bottom | 0.568211 |
Crop Constrain To Warp | 0 |
Crop Height | 1353 |
Crop Left | 0.125627 |
Crop Right | 0.899497 |
Crop Top | 0.046308 |
Crop Unit | pixels |
Crop Width | 2996 |
Custom Rendered | Normal |
Date Created | 2012:12:11 17:02:35 |
Exposure 2012 | +0.20 |
Exposure Compensation | -1/2 |
Exposure Mode | Auto bracket |
Field Of View | 4.6 deg |
Focal Length In 35mm Format | 450 mm |
Format | image/jpeg |
Grain Amount | 0 |
Gray Mixer Aqua | -18 |
Gray Mixer Blue | +7 |
Gray Mixer Green | -25 |
Gray Mixer Magenta | +3 |
Gray Mixer Orange | -17 |
Gray Mixer Purple | +13 |
Gray Mixer Red | -9 |
Gray Mixer Yellow | -20 |
Green Hue | 0 |
Green Saturation | 0 |
Has Crop | True |
Has Settings | True |
Highlights 2012 | -81 |
Hyperfocal Distance | 802.33 m |
ISO | 400 |
Image Size | 2996x1353 |
Incremental Temperature | +9 |
Incremental Tint | -33 |
Lens ID | Unknown (3 42) |
Lens Manual Distortion Amount | 0 |
Lens Profile Enable | 0 |
Lens Profile Setup | LensDefaults |
Light Value | 12.5 |
Luminance Noise Reduction Contrast | 40 |
Luminance Noise Reduction Detail | 26 |
Luminance Smoothing | 25 |
Metering Mode | Center-weighted average |
Parametric Darks | +2 |
Parametric Highlight Split | 90 |
Parametric Highlights | -60 |
Parametric Lights | -88 |
Parametric Midtone Split | 50 |
Parametric Shadow Split | 15 |
Parametric Shadows | -25 |
Perspective Horizontal | 0 |
Perspective Rotate | 0.0 |
Perspective Scale | 100 |
Perspective Vertical | 0 |
Post Crop Vignette Amount | 0 |
Process Version | 6.7 |
Red Hue | 0 |
Red Saturation | 0 |
Saturation | Normal |
Scale Factor To 35 mm Equivalent | 1.5 |
Scene Capture Type | Standard |
Scene Type | Directly photographed |
Sensing Method | One-chip color area |
Shadow Tint | 0 |
Shadows 2012 | +49 |
Sharpen Detail | 25 |
Sharpen Edge Masking | 0 |
Sharpen Radius | +1.0 |
Sharpness | 0 |
Split Toning Balance | 0 |
Split Toning Highlight Hue | 219 |
Split Toning Highlight Saturation | 5 |
Split Toning Shadow Hue | 224 |
Split Toning Shadow Saturation | 14 |
Subject Distance Range | Distant |
Tone Curve Name 2012 | Linear |
Tone Curve PV2012 | 0, 0, 255, 255 |
Tone Curve PV2012 Blue | 0, 0, 255, 255 |
Tone Curve PV2012 Green | 0, 0, 255, 255 |
Tone Curve PV2012 Red | 0, 0, 255, 255 |
Version | 7.2 |
Vignette Amount | 0 |
White Balance | Custom |
Whites 2012 | +79 |