Shooting information for this photo
Camera: | NIKON CORPORATION NIKON D300 |
Exposure: | 0.00133 sec. (1/750) |
Aperture: | f/8.0 |
Focal Length: | 17.0 mm (35 mm equivalent: 25.0 mm) |
Flash: | No Flash |
Exposure mode: | Manual |
Max Aperture: | 2.8 |
Resolution: | 240 x 240 dpi |
Original Date: | 2014:05:20 11:30:57 |
Created on: | 2014:05:20 11:30:57 |
Modified on: | 2014:07:29 18:01:22 |
Software: | Adobe Photoshop Lightroom 5.5 (Windows) |
Already Applied | True |
Approximate Focus Distance | 3.76 |
Auto Lateral CA | 0 |
Auto White Version | 134348800 |
Blue Hue | 0 |
Blue Saturation | 0 |
Brightness | +50 |
CFA Pattern | [Red,Green][Green,Blue] |
Camera Profile | Camera Neutral v4 |
Circle Of Confusion | 0.020 mm |
City | Pompei |
Clarity | +62 |
Color Noise Reduction | 25 |
Color Noise Reduction Detail | 50 |
Color Noise Reduction Smoothness | 50 |
Color Temperature | 4850 |
Contrast | Normal |
Convert To Grayscale | False |
Country | Italy |
Crop Angle | 0 |
Crop Bottom | 1 |
Crop Constrain To Warp | 0 |
Crop Left | 0.168303 |
Crop Right | 1 |
Crop Top | 0 |
Custom Rendered | Normal |
Date Created | 2014:05:20 11:30:57-04:00 |
Defringe Green Amount | 0 |
Defringe Green Hue Hi | 60 |
Defringe Green Hue Lo | 40 |
Defringe Purple Amount | 0 |
Defringe Purple Hue Hi | 70 |
Defringe Purple Hue Lo | 30 |
Depth Of Field | inf (1.21 m - inf) |
Digital Zoom Ratio | 1 |
Exposure | 0.00 |
Exposure Compensation | 0 |
Exposure Mode | Manual |
Field Of View | 71.5 deg |
Fill Light | 0 |
Focal Length In 35mm Format | 25 mm |
Format | image/jpeg |
Gain Control | None |
Grain Amount | 0 |
Green Hue | 0 |
Green Saturation | 0 |
Has Crop | True |
Has Settings | True |
Highlight Recovery | 0 |
Hue Adjustment Aqua | 0 |
Hue Adjustment Blue | 0 |
Hue Adjustment Green | 0 |
Hue Adjustment Magenta | 0 |
Hue Adjustment Orange | 0 |
Hue Adjustment Purple | 0 |
Hue Adjustment Red | 0 |
Hue Adjustment Yellow | 0 |
Hyperfocal Distance | 1.77 m |
ISO | 200 |
Image Number | 25557 |
Image Size | 2848x3566 |
Label | Red |
Lens | 17.0-55.0 mm f/2.8 |
Lens ID | AF-S DX Zoom-Nikkor 17-55mm f/2.8G IF-ED |
Lens Info | 17-55mm f/2.8 |
Lens Manual Distortion Amount | 0 |
Lens Model | 17.0-55.0 mm f/2.8 |
Lens Profile Enable | 0 |
Lens Profile Setup | LensDefaults |
Light Source | Unknown |
Light Value | 14.6 |
Luminance Adjustment Aqua | 0 |
Luminance Adjustment Blue | 0 |
Luminance Adjustment Green | 0 |
Luminance Adjustment Magenta | 0 |
Luminance Adjustment Orange | 0 |
Luminance Adjustment Purple | 0 |
Luminance Adjustment Red | 0 |
Luminance Adjustment Yellow | 0 |
Luminance Smoothing | 0 |
Metering Mode | Center-weighted average |
Parametric Darks | 0 |
Parametric Highlight Split | 75 |
Parametric Highlights | 0 |
Parametric Lights | 0 |
Parametric Midtone Split | 50 |
Parametric Shadow Split | 25 |
Parametric Shadows | 0 |
Perspective Aspect | 0 |
Perspective Horizontal | 0 |
Perspective Rotate | 0.0 |
Perspective Scale | 100 |
Perspective Upright | 0 |
Perspective Vertical | 0 |
Post Crop Vignette Amount | 0 |
Process Version | 5.7 |
Rating | 1 |
Red Hue | 0 |
Red Saturation | 0 |
Saturation | Normal |
Saturation Adjustment Aqua | 0 |
Saturation Adjustment Blue | 0 |
Saturation Adjustment Green | 0 |
Saturation Adjustment Magenta | 0 |
Saturation Adjustment Orange | 0 |
Saturation Adjustment Purple | 0 |
Saturation Adjustment Red | 0 |
Saturation Adjustment Yellow | 0 |
Scale Factor To 35 mm Equivalent | 1.5 |
Scene Capture Type | Standard |
Scene Type | Directly photographed |
Sensing Method | One-chip color area |
Shadow Tint | 0 |
Shadows | 5 |
Sharpen Detail | 25 |
Sharpen Edge Masking | 0 |
Sharpen Radius | +1.0 |
Sharpness | Normal |
Split Toning Balance | 0 |
Split Toning Highlight Hue | 0 |
Split Toning Highlight Saturation | 0 |
Split Toning Shadow Hue | 0 |
Split Toning Shadow Saturation | 0 |
State | Campania |
Subject Distance | 3.76 m |
Subject Distance Range | Unknown |
Tint | +6 |
Tone Curve | 0, 0, 32, 22, 64, 56, 128, 128, 192, 196, 255, 255 |
Tone Curve Blue | 0, 0, 255, 255 |
Tone Curve Green | 0, 0, 255, 255 |
Tone Curve Name | Medium Contrast |
Tone Curve Name 2012 | Linear |
Tone Curve PV2012 | 0, 0, 255, 255 |
Tone Curve PV2012 Blue | 0, 0, 255, 255 |
Tone Curve PV2012 Green | 0, 0, 255, 255 |
Tone Curve PV2012 Red | 0, 0, 255, 255 |
Tone Curve Red | 0, 0, 255, 255 |
Version | 8.5 |
Vibrance | +38 |
Vignette Amount | 0 |
White Balance | Auto |
GPS Information |
GPS Altitude | 36 m Above Sea Level |
GPS Altitude Ref | Above Sea Level |
GPS Date Stamp | 2014:05:20 |
GPS Date/Time | 2014:05:20 09:26:43Z |
GPS Latitude | 40 deg 44' 59.45" N |
GPS Latitude Ref | North |
GPS Longitude | 14 deg 29' 17.04" E |
GPS Longitude Ref | East |
GPS Position | 40 deg 44' 59.45" N, 14 deg 29' 17.04" E |
GPS Satellites | 07 |
GPS Time Stamp | 09:26:43 |
GPS Version ID | 2.2.0.0 |