Shooting information for this photo
Camera: | SONY ILCE-6000 |
Exposure: | 0.004 sec. (1/250) |
Aperture: | f/5.6 |
Focal Length: | 42.0 mm (35 mm equivalent: 63.0 mm) |
Flash: | Off, Did not fire |
Exposure mode: | Manual |
Max Aperture: | 5.6 |
Resolution: | 240 x 240 dpi |
Original Date: | 2018:03:10 14:02:32 |
Created on: | 2018:03:10 14:02:32 |
Modified on: | 2018:03:16 15:39:51 |
Software: | Adobe Photoshop Lightroom 6.7 (Windows) |
Already Applied | True |
Auto Lateral CA | 0 |
Auto White Version | 134348800 |
Blacks 2012 | +61 |
Blue Hue | -1 |
Blue Saturation | +22 |
Brightness Value | 4.84921875 |
Camera Profile | Adobe Standard |
Circle Of Confusion | 0.020 mm |
Clarity 2012 | +50 |
Color Noise Reduction | 49 |
Color Noise Reduction Detail | 50 |
Color Noise Reduction Smoothness | 50 |
Color Space | sRGB |
Color Temperature | 5495 |
Contrast | Normal |
Contrast 2012 | +46 |
Convert To Grayscale | False |
Crop Angle | 0 |
Crop Bottom | 0.999961 |
Crop Constrain To Warp | 1 |
Crop Left | 0.000039 |
Crop Right | 0.999961 |
Crop Top | 0.000038 |
Custom Rendered | Normal |
Date Created | 2018:03:10 14:02:32 |
Defringe Green Amount | 0 |
Defringe Green Hue Hi | 60 |
Defringe Green Hue Lo | 40 |
Defringe Purple Amount | 0 |
Defringe Purple Hue Hi | 70 |
Defringe Purple Hue Lo | 30 |
Dehaze | 0 |
Digital Zoom Ratio | 1 |
Exposure 2012 | +0.63 |
Exposure Compensation | 0 |
Exposure Mode | Manual |
Field Of View | 31.9 deg |
Focal Length In 35mm Format | 63 mm |
Format | image/jpeg |
Gradient Based Corr Active | true |
Gradient Based Corr Amount | 1.000000 |
Gradient Based Corr Brightness | 0.000000 |
Gradient Based Corr Clarity 2012 | 0.000000 |
Gradient Based Corr Contrast 2012 | 0.000000 |
Gradient Based Corr Defringe | 0.000000 |
Gradient Based Corr Exposure 2012 | 0.065500 |
Gradient Based Corr Highlights 2012 | 0.000000 |
Gradient Based Corr Hue | 0.000000 |
Gradient Based Corr Local Blacks 2012 | 0.000000 |
Gradient Based Corr Local Dehaze | 0.000000 |
Gradient Based Corr Local Whites 2012 | 0.000000 |
Gradient Based Corr Luminance Noise | 0.000000 |
Gradient Based Corr Mask Full X | -0.000358 |
Gradient Based Corr Mask Full Y | 0.439376 |
Gradient Based Corr Mask Value | 1.000000 |
Gradient Based Corr Mask What | Mask/Gradient |
Gradient Based Corr Mask Zero X | 0.338284 |
Gradient Based Corr Mask Zero Y | 0.437871 |
Gradient Based Corr Moire | 0.000000 |
Gradient Based Corr Saturation | 0.000000 |
Gradient Based Corr Shadows 2012 | 0.000000 |
Gradient Based Corr Sharpness | 0.000000 |
Gradient Based Corr Temperature | 0.000000 |
Gradient Based Corr Tint | 0.000000 |
Gradient Based Corr What | Correction |
Grain Amount | 0 |
Green Hue | +38 |
Green Saturation | 0 |
Has Crop | True |
Has Settings | True |
Highlights 2012 | -30 |
Hue Adjustment Aqua | 0 |
Hue Adjustment Blue | -11 |
Hue Adjustment Green | -6 |
Hue Adjustment Magenta | 0 |
Hue Adjustment Orange | 0 |
Hue Adjustment Purple | 0 |
Hue Adjustment Red | 0 |
Hue Adjustment Yellow | 0 |
Hyperfocal Distance | 15.73 m |
ISO | 1250 |
Image Size | 1920x1280 |
Label | Lila |
Lens | E PZ 16-50mm F3.5-5.6 OSS |
Lens Distort Info | 32859/32768 -15691253/1073741824 16014051/1073741824 -3348014/1073741824 |
Lens Info | 16-50mm f/3.5-5.6 |
Lens Manual Distortion Amount | 0 |
Lens Model | E PZ 16-50mm F3.5-5.6 OSS |
Lens Profile Chromatic Aberration Scale | 100 |
Lens Profile Distortion Scale | 100 |
Lens Profile Enable | 1 |
Lens Profile Filename | SONY (Sony E PZ 16-50mm F3.5-5.6 OSS) - RAW.lcp |
Lens Profile Name | Adobe (Sony E PZ 16-50mm F3.5-5.6 OSS) |
Lens Profile Setup | LensDefaults |
Lens Profile Vignetting Scale | 100 |
Light Source | Unknown |
Light Value | 9.3 |
Luminance Adjustment Aqua | 0 |
Luminance Adjustment Blue | +22 |
Luminance Adjustment Green | +32 |
Luminance Adjustment Magenta | 0 |
Luminance Adjustment Orange | +11 |
Luminance Adjustment Purple | 0 |
Luminance Adjustment Red | 0 |
Luminance Adjustment Yellow | 0 |
Luminance Noise Reduction Contrast | 0 |
Luminance Noise Reduction Detail | 50 |
Luminance Smoothing | 50 |
Metering Mode | Multi-segment |
Parametric Darks | +34 |
Parametric Highlight Split | 89 |
Parametric Highlights | -18 |
Parametric Lights | +42 |
Parametric Midtone Split | 67 |
Parametric Shadow Split | 25 |
Parametric Shadows | -59 |
Perspective Aspect | 0 |
Perspective Horizontal | 0 |
Perspective Rotate | 0.0 |
Perspective Scale | 100 |
Perspective Upright | 0 |
Perspective Vertical | 0 |
Perspective X | 0.00 |
Perspective Y | 0.00 |
Post Crop Vignette Amount | +12 |
Post Crop Vignette Feather | 50 |
Post Crop Vignette Midpoint | 50 |
Post Crop Vignette Roundness | 0 |
Post Crop Vignette Style | 1 |
Process Version | 6.7 |
Rating | 2 |
Recommended Exposure Index | 1250 |
Red Hue | 0 |
Red Saturation | -30 |
Saturation | Normal |
Saturation Adjustment Aqua | 0 |
Saturation Adjustment Blue | +42 |
Saturation Adjustment Green | +26 |
Saturation Adjustment Magenta | 0 |
Saturation Adjustment Orange | -32 |
Saturation Adjustment Purple | 0 |
Saturation Adjustment Red | 0 |
Saturation Adjustment Yellow | 0 |
Scale Factor To 35 mm Equivalent | 1.5 |
Scene Capture Type | Standard |
Scene Type | Directly photographed |
Sensitivity Type | Recommended Exposure Index |
Shadow Tint | -3 |
Shadows 2012 | +81 |
Sharpen Detail | 25 |
Sharpen Edge Masking | 0 |
Sharpen Radius | +1.0 |
Sharpness | Normal |
Split Toning Balance | +77 |
Split Toning Highlight Hue | 45 |
Split Toning Highlight Saturation | 3 |
Split Toning Shadow Hue | 215 |
Split Toning Shadow Saturation | 19 |
Tint | +15 |
Tone Curve | 0, 0, 255, 255 |
Tone Curve Blue | 0, 0, 255, 255 |
Tone Curve Green | 0, 0, 255, 255 |
Tone Curve Name | Linear |
Tone Curve Name 2012 | Linear |
Tone Curve PV2012 | 0, 0, 255, 255 |
Tone Curve PV2012 Blue | 0, 0, 255, 255 |
Tone Curve PV2012 Green | 0, 0, 255, 255 |
Tone Curve PV2012 Red | 0, 0, 255, 255 |
Tone Curve Red | 0, 0, 255, 255 |
Tone Map Strength | 0 |
Version | 9.7 |
Vibrance | +7 |
Vignette Amount | -65 |
Vignette Midpoint | 23 |
White Balance | Auto |
Whites 2012 | +18 |